Workbook
Name Slicer_Fylke: #N/A
Name Slicer_Fylke1: #N/A
Name Slicer_Fylke2: #N/A
Name Slicer_Fylke3: #N/A
Name Slicer_Fylke5: #N/A
Name Slicer_Jordstatus: #N/A
Name Slicer_Jordstatus1: #N/A
Name Slicer_Jordstatus2: #N/A
Name Slicer_Jordstatus3: #N/A
Name Slicer_Kommune: #N/A
Name Slicer_Kommune1: #N/A
Name Slicer_Kommune2: #N/A
Name Slicer_År: #N/A
Name Slicer_År1: #N/A
Name Slicer_År2: #N/A
Name Slicer_År3: #N/A
Name Slicer_År4: #N/A

Sheet Formål
A12: Et utvalg kan velges ved å holde Ctrl-tasten eller Shift-tasten nede. Trykk på filter knappen oppe til høyre i slicerne når du ønsker å velge alle.
A13: Periode i tekst diagramtittel: | B13: 1991 - 2019 | D13: NB! Valgt periode/år må skrives inn
A14: Tekst i diagramtittelen: | B14: =CONCATENATE("Omdisponering av ",'pivot formål'!D2," jord i ",'pivot formål'!C3," ",B13) -> Omdisponering av dyrka og dyrkbar jord i Vestfold 1991 - 2019
A41: =+'pivot formål'!A6 | B41: =+'pivot formål'!B6 -> År
A42: =+'pivot formål'!A7 -> Formål | B42: =IF('pivot formål'!B7>0,'pivot formål'!B7,"") -> 1991 | C42: =IF('pivot formål'!C7>0,'pivot formål'!C7,"") -> 1992 | D42: =IF('pivot formål'!D7>0,'pivot formål'!D7,"") -> 1993 | E42: =IF('pivot formål'!E7>0,'pivot formål'!E7,"") -> 1994 | F42: =IF('pivot formål'!F7>0,'pivot formål'!F7,"") -> 1995 | G42: =IF('pivot formål'!G7>0,'pivot formål'!G7,"") -> 1996 | H42: =IF('pivot formål'!H7>0,'pivot formål'!H7,"") -> 1997 | I42: =IF('pivot formål'!I7>0,'pivot formål'!I7,"") -> 1998 | ... BB42: =IF('pivot formål'!BB7>0,'pivot formål'!BB7,"")
A43: =+'pivot formål'!A8 -> Bolig- og fritidsbebyggelse | B43: =IF('pivot formål'!B8>0,'pivot formål'!B8,"") -> 1 | C43: =IF('pivot formål'!C8>0,'pivot formål'!C8,"") | D43: =IF('pivot formål'!D8>0,'pivot formål'!D8,"") -> 90 | E43: =IF('pivot formål'!E8>0,'pivot formål'!E8,"") -> 72.2 | F43: =IF('pivot formål'!F8>0,'pivot formål'!F8,"") -> 49.9 | G43: =IF('pivot formål'!G8>0,'pivot formål'!G8,"") -> 458.6 | H43: =IF('pivot formål'!H8>0,'pivot formål'!H8,"") -> 172.4 | I43: =IF('pivot formål'!I8>0,'pivot formål'!I8,"") -> 152.8 | ... BB43: =IF('pivot formål'!BB8>0,'pivot formål'!BB8,"")
A44: =+'pivot formål'!A9 -> Næringsbygg og offentlige bygg | B44: =IF('pivot formål'!B9>0,'pivot formål'!B9,"") -> 61.3 | C44: =IF('pivot formål'!C9>0,'pivot formål'!C9,"") -> 5.8 | D44: =IF('pivot formål'!D9>0,'pivot formål'!D9,"") -> 12.7 | E44: =IF('pivot formål'!E9>0,'pivot formål'!E9,"") -> 11.1 | F44: =IF('pivot formål'!F9>0,'pivot formål'!F9,"") -> 22.1 | G44: =IF('pivot formål'!G9>0,'pivot formål'!G9,"") | H44: =IF('pivot formål'!H9>0,'pivot formål'!H9,"") -> 283.8 | I44: =IF('pivot formål'!I9>0,'pivot formål'!I9,"") -> 77.7 | ... BB44: =IF('pivot formål'!BB9>0,'pivot formål'!BB9,"")
A45: =+'pivot formål'!A10 -> Samferdselsanlegg | B45: =IF('pivot formål'!B10>0,'pivot formål'!B10,"") -> 494.4 | C45: =IF('pivot formål'!C10>0,'pivot formål'!C10,"") -> 11.8 | D45: =IF('pivot formål'!D10>0,'pivot formål'!D10,"") -> 11 | E45: =IF('pivot formål'!E10>0,'pivot formål'!E10,"") -> 236.15 | F45: =IF('pivot formål'!F10>0,'pivot formål'!F10,"") -> 1121.2 | G45: =IF('pivot formål'!G10>0,'pivot formål'!G10,"") | H45: =IF('pivot formål'!H10>0,'pivot formål'!H10,"") -> 101.3 | I45: =IF('pivot formål'!I10>0,'pivot formål'!I10,"") -> 39.3 | ... BB45: =IF('pivot formål'!BB10>0,'pivot formål'!BB10,"")
A46: =+'pivot formål'!A11 -> Annet landbruksområde | B46: =IF('pivot formål'!B11>0,'pivot formål'!B11,"") | C46: =IF('pivot formål'!C11>0,'pivot formål'!C11,"") | D46: =IF('pivot formål'!D11>0,'pivot formål'!D11,"") | E46: =IF('pivot formål'!E11>0,'pivot formål'!E11,"") | F46: =IF('pivot formål'!F11>0,'pivot formål'!F11,"") | G46: =IF('pivot formål'!G11>0,'pivot formål'!G11,"") | H46: =IF('pivot formål'!H11>0,'pivot formål'!H11,"") | I46: =IF('pivot formål'!I11>0,'pivot formål'!I11,"") | ... BB46: =IF('pivot formål'!BB11>0,'pivot formål'!BB11,"")
A47: =+'pivot formål'!A12 -> Annet spesialområde | B47: =IF('pivot formål'!B12>0,'pivot formål'!B12,"") | C47: =IF('pivot formål'!C12>0,'pivot formål'!C12,"") | D47: =IF('pivot formål'!D12>0,'pivot formål'!D12,"") | E47: =IF('pivot formål'!E12>0,'pivot formål'!E12,"") | F47: =IF('pivot formål'!F12>0,'pivot formål'!F12,"") | G47: =IF('pivot formål'!G12>0,'pivot formål'!G12,"") | H47: =IF('pivot formål'!H12>0,'pivot formål'!H12,"") | I47: =IF('pivot formål'!I12>0,'pivot formål'!I12,"") | ... BB47: =IF('pivot formål'!BB12>0,'pivot formål'!BB12,"")
A48: =+'pivot formål'!A13 -> Friområder mm | B48: =IF('pivot formål'!B13>0,'pivot formål'!B13,"") | C48: =IF('pivot formål'!C13>0,'pivot formål'!C13,"") | D48: =IF('pivot formål'!D13>0,'pivot formål'!D13,"") | E48: =IF('pivot formål'!E13>0,'pivot formål'!E13,"") | F48: =IF('pivot formål'!F13>0,'pivot formål'!F13,"") | G48: =IF('pivot formål'!G13>0,'pivot formål'!G13,"") | H48: =IF('pivot formål'!H13>0,'pivot formål'!H13,"") | I48: =IF('pivot formål'!I13>0,'pivot formål'!I13,"") | ... BB48: =IF('pivot formål'!BB13>0,'pivot formål'!BB13,"")
A49: =+'pivot formål'!A14 -> Golfbane mm | B49: =IF('pivot formål'!B14>0,'pivot formål'!B14,"") | C49: =IF('pivot formål'!C14>0,'pivot formål'!C14,"") -> 581 | D49: =IF('pivot formål'!D14>0,'pivot formål'!D14,"") -> 60.9 | E49: =IF('pivot formål'!E14>0,'pivot formål'!E14,"") -> 0.5 | F49: =IF('pivot formål'!F14>0,'pivot formål'!F14,"") -> 105.8 | G49: =IF('pivot formål'!G14>0,'pivot formål'!G14,"") -> 588.2 | H49: =IF('pivot formål'!H14>0,'pivot formål'!H14,"") -> 14 | I49: =IF('pivot formål'!I14>0,'pivot formål'!I14,"") -> 51.5 | ... BB49: =IF('pivot formål'!BB14>0,'pivot formål'!BB14,"")
A50: =+'pivot formål'!A15 -> Skogplanting | B50: =IF('pivot formål'!B15>0,'pivot formål'!B15,"") -> 35 | C50: =IF('pivot formål'!C15>0,'pivot formål'!C15,"") -> 34 | D50: =IF('pivot formål'!D15>0,'pivot formål'!D15,"") -> 117.5 | E50: =IF('pivot formål'!E15>0,'pivot formål'!E15,"") -> 109.5 | F50: =IF('pivot formål'!F15>0,'pivot formål'!F15,"") -> 264.5 | G50: =IF('pivot formål'!G15>0,'pivot formål'!G15,"") -> 132 | H50: =IF('pivot formål'!H15>0,'pivot formål'!H15,"") -> 104 | I50: =IF('pivot formål'!I15>0,'pivot formål'!I15,"") -> 535 | ... AB50: =IF('pivot formål'!AB15>0,'pivot formål'!AB15,"") -> 3 | AE50: =IF('pivot formål'!AE15>0,'pivot formål'!AE15,"") -> 2075.7 | AF50: =IF('pivot formål'!AF15>0,'pivot formål'!AF15,"") | AG50: =IF('pivot formål'!AG15>0,'pivot formål'!AG15,"") | AH50: =IF('pivot formål'!AH15>0,'pivot formål'!AH15,"") | AI50: =IF('pivot formål'!AI15>0,'pivot formål'!AI15,"") | AJ50: =IF('pivot formål'!AJ15>0,'pivot formål'!AJ15,"") | AK50: =IF('pivot formål'!AK15>0,'pivot formål'!AK15,"") | AL50: =IF('pivot formål'!AL15>0,'pivot formål'!AL15,"") | ... BB50: =IF('pivot formål'!BB15>0,'pivot formål'!BB15,"")
A51: =+'pivot formål'!A16 -> Ikke fordelt | B51: =IF('pivot formål'!B16>0,'pivot formål'!B16,"") -> 43 | C51: =IF('pivot formål'!C16>0,'pivot formål'!C16,"") -> 13.5 | D51: =IF('pivot formål'!D16>0,'pivot formål'!D16,"") -> 91 | E51: =IF('pivot formål'!E16>0,'pivot formål'!E16,"") -> 9.4 | F51: =IF('pivot formål'!F16>0,'pivot formål'!F16,"") -> 34.4 | G51: =IF('pivot formål'!G16>0,'pivot formål'!G16,"") -> 190.4 | H51: =IF('pivot formål'!H16>0,'pivot formål'!H16,"") -> 256.2 | I51: =IF('pivot formål'!I16>0,'pivot formål'!I16,"") -> 28.5 | ... BB51: =IF('pivot formål'!BB16>0,'pivot formål'!BB16,"")
A52: =+'pivot formål'!A17 -> Sum | B52: =IF('pivot formål'!B17>0,'pivot formål'!B17,"") -> 634.7 | C52: =IF('pivot formål'!C17>0,'pivot formål'!C17,"") -> 646.1 | D52: =IF('pivot formål'!D17>0,'pivot formål'!D17,"") -> 383.1 | E52: =IF('pivot formål'!E17>0,'pivot formål'!E17,"") -> 438.85 | F52: =IF('pivot formål'!F17>0,'pivot formål'!F17,"") -> 1597.9 | G52: =IF('pivot formål'!G17>0,'pivot formål'!G17,"") -> 1369.2 | H52: =IF('pivot formål'!H17>0,'pivot formål'!H17,"") -> 931.7 | I52: =IF('pivot formål'!I17>0,'pivot formål'!I17,"") -> 884.8 | ... BB52: =IF('pivot formål'!BB17>0,'pivot formål'!BB17,"")

Sheet pivot formål
J1: Kilde: SSB KOSTRA fra 2005, Fylkesmannen før 2005. (Omdisponering ved enkeltvedtak etter jordloven og regulering etter plan- bygningsloven.)
A2: Jordstatus | B2: (Alle) | C2: =IF(B2="(Alle)","dyrka og dyrkbar",B2) -> dyrka og dyrkbar | D2: =IF(C2="(Flere elementer)","dyrka og dyrkbar",C2) -> dyrka og dyrkbar | J2: Slicere er bokser som viser de aktuelle valgene. Trykk på filter knappen oppe til høyre i slicerne når du ønsker å velge alle. Et utvalg kan velges ved å holde Ctrl-tasten nede.
A3: Fylke | B3: Vestfold | C3: =IF(B4="(Alle)",B3,B4) -> Vestfold
A4: Kommune | B4: (Alle)
B6: År
A7: Formål | B7: 1991 | C7: 1992 | D7: 1993 | E7: 1994 | F7: 1995 | G7: 1996 | H7: 1997 | I7: 1998 | J7: 1999 | K7: 2000 | L7: 2001 | M7: 2002 | N7: 2003 | O7: 2004 | P7: 2005 | Q7: 2006 | R7: 2007 | S7: 2008 | T7: 2009 | U7: 2010 | V7: 2011 | W7: 2012 | X7: 2013 | Y7: 2014 | Z7: 2015 | AA7: 2016 | AB7: 2017 | AC7: 2018 | AD7: 2019 | AE7: Sum
A8: Bolig- og fritidsbebyggelse | B8: 1 | D8: 90 | E8: 72.2 | F8: 49.9 | G8: 458.6 | H8: 172.4 | I8: 152.8 | J8: 282.4 | K8: 38 | L8: 107.5 | M8: 16 | N8: 57.5 | O8: 131.6 | P8: 206 | Q8: 79 | R8: 231 | S8: 132 | T8: 51 | U8: 67 | V8: 28 | W8: 116 | X8: 78 | Y8: 32 | Z8: 47 | AA8: 107 | AB8: 122.9 | AC8: 54.8 | AD8: 52.8 | AE8: 3034.4
A9: Næringsbygg og offentlige bygg | B9: 61.3 | C9: 5.8 | D9: 12.7 | E9: 11.1 | F9: 22.1 | H9: 283.8 | I9: 77.7 | J9: 458 | K9: 146.5 | L9: 227 | M9: 107 | N9: 358.2 | O9: 182.5 | P9: 74 | Q9: 83 | R9: 120 | S9: 75 | T9: 41 | U9: 67 | V9: 236 | W9: 318 | X9: 46 | Y9: 13 | Z9: 60 | AA9: 17 | AB9: 70.5 | AC9: 363.5 | AD9: 69.3 | AE9: 3607
A10: Samferdselsanlegg | B10: 494.4 | C10: 11.8 | D10: 11 | E10: 236.15 | F10: 1121.2 | H10: 101.3 | I10: 39.3 | J10: 167 | K10: 13 | L10: 150 | M10: 648 | N10: 114.9 | O10: 182.2 | P10: 26 | Q10: 18 | R10: 361 | S10: 205 | T10: 148 | U10: 79 | V10: 44 | W10: 37 | X10: 199 | Y10: 92 | Z10: 39 | AA10: 35 | AB10: 8.3 | AC10: 268.2 | AD10: 72.6 | AE10: 4922.35
A11: Annet landbruksområde | Q11: 42 | R11: 52 | S11: 23 | T11: 9 | U11: 21 | V11: 25 | W11: 14 | X11: 34 | Y11: 7 | Z11: 7 | AA11: 6 | AB11: 28.6 | AD11: 4.7 | AE11: 273.3
A12: Annet spesialområde | P12: 33 | Q12: 40 | R12: 97 | S12: 29 | T12: 11 | AE12: 210
A13: Friområder mm | P13: 5 | Q13: 71 | R13: 23 | S13: 12 | T13: 1 | U13: 1 | V13: 9 | W13: 3 | Z13: 4 | AA13: 21 | AB13: 2 | AC13: 18.8 | AD13: 14.2 | AE13: 185
A14: Golfbane mm | C14: 581 | D14: 60.9 | E14: 0.5 | F14: 105.8 | G14: 588.2 | H14: 14 | I14: 51.5 | J14: 17 | K14: 136 | L14: 843.5 | M14: 642 | N14: 198 | O14: 280.7 | P14: 515 | AC14: 1.9 | AD14: 0 | AE14: 4036
A15: Skogplanting | B15: 35 | C15: 34 | D15: 117.5 | E15: 109.5 | F15: 264.5 | G15: 132 | H15: 104 | I15: 535 | J15: 123.5 | K15: 173 | L15: 20.5 | N15: 31 | O15: 41.8 | P15: 15 | R15: 62 | S15: 26 | T15: 159 | U15: 1 | V15: 10 | Y15: 8 | Z15: 12 | AA15: 51 | AB15: 3 | AC15: 7.4 | AD15: 0 | AE15: 2075.7
A16: Ikke fordelt | B16: 43 | C16: 13.5 | D16: 91 | E16: 9.4 | F16: 34.4 | G16: 190.4 | H16: 256.2 | I16: 28.5 | U16: 5 | W16: 5 | AA16: 7 | AC16: 30.4 | AD16: 0 | AE16: 713.8
A17: Sum | B17: 634.7 | C17: 646.1 | D17: 383.1 | E17: 438.85 | F17: 1597.9 | G17: 1369.2 | H17: 931.7 | I17: 884.8 | J17: 1047.9 | K17: 506.5 | L17: 1348.5 | M17: 1413 | N17: 759.6 | O17: 818.8 | P17: 874 | Q17: 333 | R17: 946 | S17: 502 | T17: 420 | U17: 241 | V17: 352 | W17: 493 | X17: 357 | Y17: 152 | Z17: 169 | AA17: 244 | AB17: 235.3 | AC17: 745 | AD17: 213.6 | AE17: 19057.55
A21: Jordstatus | B21: (Alle) | C21: =IF(B21="(Flere elementer)","dyrka og dyrkbar",B21) -> (Alle) | Q21: Jordstatus | R21: (Alle)
A22: Fylke | B22: Vestfold | Q22: Fylke | R22: Vestfold
A23: Kommune | B23: (Alle) | Q23: Kommune | R23: (Alle)
Q24: År | R24: (Flere elementer)
B25: År
A26: Formål | B26: Bolig- og fritidsbebyggelse | C26: Næringsbygg og offentlige bygg | D26: Samferdselsanlegg | E26: Annet landbruksområde | F26: Annet spesialområde | G26: Friområder mm | H26: Golfbane mm | I26: Skogplanting | J26: Ikke fordelt | K26: Sum | Q26: Formål
A27: 1991 | B27: 1 | C27: 61.3 | D27: 494.4 | I27: 35 | J27: 43 | K27: 634.7 | Q27: Bolig- og fritidsbebyggelse | R27: 3034.4
A28: 1992 | C28: 5.8 | D28: 11.8 | H28: 581 | I28: 34 | J28: 13.5 | K28: 646.1 | Q28: Næringsbygg og offentlige bygg | R28: 3607
A29: 1993 | B29: 90 | C29: 12.7 | D29: 11 | H29: 60.9 | I29: 117.5 | J29: 91 | K29: 383.1 | Q29: Samferdselsanlegg | R29: 4922.35
A30: 1994 | B30: 72.2 | C30: 11.1 | D30: 236.15 | H30: 0.5 | I30: 109.5 | J30: 9.4 | K30: 438.85 | Q30: Annet landbruksområde | R30: 273.3
A31: 1995 | B31: 49.9 | C31: 22.1 | D31: 1121.2 | H31: 105.8 | I31: 264.5 | J31: 34.4 | K31: 1597.9 | Q31: Annet spesialområde | R31: 210
A32: 1996 | B32: 458.6 | H32: 588.2 | I32: 132 | J32: 190.4 | K32: 1369.2 | Q32: Friområder mm | R32: 185
A33: 1997 | B33: 172.4 | C33: 283.8 | D33: 101.3 | H33: 14 | I33: 104 | J33: 256.2 | K33: 931.7 | Q33: Golfbane mm | R33: 4036
A34: 1998 | B34: 152.8 | C34: 77.7 | D34: 39.3 | H34: 51.5 | I34: 535 | J34: 28.5 | K34: 884.8 | Q34: Skogplanting | R34: 2075.7
A35: 1999 | B35: 282.4 | C35: 458 | D35: 167 | H35: 17 | I35: 123.5 | K35: 1047.9 | Q35: Ikke fordelt | R35: 713.8
A36: 2000 | B36: 38 | C36: 146.5 | D36: 13 | H36: 136 | I36: 173 | K36: 506.5 | Q36: Totalsum | R36: 19057.55
A37: 2001 | B37: 107.5 | C37: 227 | D37: 150 | H37: 843.5 | I37: 20.5 | K37: 1348.5
A38: 2002 | B38: 16 | C38: 107 | D38: 648 | H38: 642 | K38: 1413
A39: 2003 | B39: 57.5 | C39: 358.2 | D39: 114.9 | H39: 198 | I39: 31 | K39: 759.6
A40: 2004 | B40: 131.6 | C40: 182.5 | D40: 182.2 | H40: 280.7 | I40: 41.8 | K40: 818.8
A41: 2005 | B41: 206 | C41: 74 | D41: 26 | F41: 33 | G41: 5 | H41: 515 | I41: 15 | K41: 874
A42: 2006 | B42: 79 | C42: 83 | D42: 18 | E42: 42 | F42: 40 | G42: 71 | K42: 333
A43: 2007 | B43: 231 | C43: 120 | D43: 361 | E43: 52 | F43: 97 | G43: 23 | I43: 62 | K43: 946
A44: 2008 | B44: 132 | C44: 75 | D44: 205 | E44: 23 | F44: 29 | G44: 12 | I44: 26 | K44: 502
A45: 2009 | B45: 51 | C45: 41 | D45: 148 | E45: 9 | F45: 11 | G45: 1 | I45: 159 | K45: 420
A46: 2010 | B46: 67 | C46: 67 | D46: 79 | E46: 21 | G46: 1 | I46: 1 | J46: 5 | K46: 241
A47: 2011 | B47: 28 | C47: 236 | D47: 44 | E47: 25 | G47: 9 | I47: 10 | K47: 352
A48: 2012 | B48: 116 | C48: 318 | D48: 37 | E48: 14 | G48: 3 | J48: 5 | K48: 493
A49: 2013 | B49: 78 | C49: 46 | D49: 199 | E49: 34 | K49: 357
A50: 2014 | B50: 32 | C50: 13 | D50: 92 | E50: 7 | I50: 8 | K50: 152
A51: 2015 | B51: 47 | C51: 60 | D51: 39 | E51: 7 | G51: 4 | I51: 12 | K51: 169
A52: 2016 | B52: 107 | C52: 17 | D52: 35 | E52: 6 | G52: 21 | I52: 51 | J52: 7 | K52: 244
A53: 2017 | B53: 122.9 | C53: 70.5 | D53: 8.3 | E53: 28.6 | G53: 2 | I53: 3 | K53: 235.3
A54: 2018 | B54: 54.8 | C54: 363.5 | D54: 268.2 | G54: 18.8 | H54: 1.9 | I54: 7.4 | J54: 30.4 | K54: 745
A55: 2019 | B55: 52.8 | C55: 69.3 | D55: 72.6 | E55: 4.7 | G55: 14.2 | H55: 0 | I55: 0 | J55: 0 | K55: 213.6
A56: Sum | B56: 3034.4 | C56: 3607 | D56: 4922.35 | E56: 273.3 | F56: 210 | G56: 185 | H56: 4036 | I56: 2075.7 | J56: 713.8 | K56: 19057.55

Sheet Nedbygging
A13: Et utvalg kan velges ved å holde Ctrl-tasten eller Shift-tasten nede. Trykk på filter knappen oppe til høyre i slicerne når du ønsker å velge alle.
A14: Periode i tekst diagramtittel: | B14: 2006 - 2019 | C14: NB! Valgt periode/år må skrives inn
A15: Tekst i diagramtittel 1: | B15: =CONCATENATE("Nedbygging av ",'pivot nedbygging'!C1," jord i ",'pivot nedbygging'!C2," ",B135) -> Nedbygging av dyrka og dyrkbar jord i Telemark
A16: Tekst i diagramtittelen: | B16: =CONCATENATE("Nedbygging av ",'pivot nedbygging'!C1," jord i ",'pivot nedbygging'!C2," ",B14) -> Nedbygging av dyrka og dyrkbar jord i Telemark 2006 - 2019

Sheet pivot nedbygging
A1: Jordstatus | B1: (Alle) | C1: =IF(B1="(Alle)","dyrka og dyrkbar",B1) -> dyrka og dyrkbar
A2: Fylke | B2: Telemark | C2: =IF(B3="(Alle)",B2,B3) -> Telemark
A3: Kommune | B3: (Alle)
A4: År | B4: (Flere elementer)
A6: Radetiketter | B6: Summer av Areal
A7: Ikke fordelt | B7: 7.2
A8: Bygg og byggområder | B8: 3103.2
A9: Samferdselsanlegg | B9: 553.6
A10: Totalsum | B10: 3664
A16: Jordstatus | B16: (Alle)
A17: Fylke | B17: Telemark
A18: Kommune | B18: (Alle)
A20: Summer av Areal | B20: Kolonneetiketter
A21: Radetiketter | B21: Ikke fordelt | C21: Bygg og byggområder | D21: Samferdselsanlegg | E21: Totalsum
A22: 2006 | C22: 92 | D22: 5 | E22: 97
A23: 2007 | C23: 260 | D23: 41 | E23: 301
A24: 2008 | C24: 148 | D24: 15 | E24: 163
A25: 2009 | C25: 852 | D25: 77 | E25: 929
A26: 2010 | C26: 704 | D26: 5 | E26: 709
A27: 2011 | C27: 88 | D27: 75 | E27: 163
A28: 2012 | C28: 67 | D28: 172 | E28: 239
A29: 2013 | C29: 150 | D29: 34 | E29: 184
A30: 2014 | C30: 165 | D30: 38 | E30: 203
A31: 2015 | C31: 280 | D31: 32 | E31: 312
A32: 2016 | C32: 45 | D32: 26 | E32: 71
A33: 2017 | C33: 48.6 | D33: 5.6 | E33: 54.2
A34: 2018 | B34: 0.1 | C34: 84.6 | D34: 15 | E34: 99.7
A35: 2019 | B35: 7.1 | C35: 119 | D35: 13 | E35: 139.1
A36: Totalsum | B36: 7.2 | C36: 3103.2 | D36: 553.6 | E36: 3664

Sheet Dyrka dyrkbar
A13: Et utvalg kan velges ved å holde Ctrl-tasten eller Shift-tasten nede. Trykk på filter knappen oppe til høyre i slicerne når du ønsker å velge alle.
A14: Tekst i diagramtittelen: | B14: =CONCATENATE("Omdisponering av dyrka og dyrkbar jord i ",'pivot dyrka..'!C2) -> Omdisponering av dyrka og dyrkbar jord i (Flere elementer)
B42: =IF('pivot dyrka..'!B6>0,'pivot dyrka..'!B6,"") -> 1991 | C42: =IF('pivot dyrka..'!C6>0,'pivot dyrka..'!C6,"") -> 1992 | D42: =IF('pivot dyrka..'!D6>0,'pivot dyrka..'!D6,"") -> 1993 | E42: =IF('pivot dyrka..'!E6>0,'pivot dyrka..'!E6,"") -> 1994 | F42: =IF('pivot dyrka..'!F6>0,'pivot dyrka..'!F6,"") -> 1995 | G42: =IF('pivot dyrka..'!G6>0,'pivot dyrka..'!G6,"") -> 1996 | H42: =IF('pivot dyrka..'!H6>0,'pivot dyrka..'!H6,"") -> 1997 | I42: =IF('pivot dyrka..'!I6>0,'pivot dyrka..'!I6,"") -> 1998 | ... BA42: =IF('pivot dyrka..'!BA6>0,'pivot dyrka..'!BA6,"")
A43: =+'pivot dyrka..'!A7 -> Ikke fordelt | B43: =IF('pivot dyrka..'!B7>0,'pivot dyrka..'!B7,"") | C43: =IF('pivot dyrka..'!C7>0,'pivot dyrka..'!C7,"") | D43: =IF('pivot dyrka..'!D7>0,'pivot dyrka..'!D7,"") | E43: =IF('pivot dyrka..'!E7>0,'pivot dyrka..'!E7,"") | F43: =IF('pivot dyrka..'!F7>0,'pivot dyrka..'!F7,"") | G43: =IF('pivot dyrka..'!G7>0,'pivot dyrka..'!G7,"") | H43: =IF('pivot dyrka..'!H7>0,'pivot dyrka..'!H7,"") | I43: =IF('pivot dyrka..'!I7>0,'pivot dyrka..'!I7,"") | ... BA43: =IF('pivot dyrka..'!BA7>0,'pivot dyrka..'!BA7,"")
A44: =+'pivot dyrka..'!A8 -> dyrka | B44: =IF('pivot dyrka..'!B8>0,'pivot dyrka..'!B8,"") -> 757.7 | C44: =IF('pivot dyrka..'!C8>0,'pivot dyrka..'!C8,"") -> 706.1 | D44: =IF('pivot dyrka..'!D8>0,'pivot dyrka..'!D8,"") -> 1066.6 | E44: =IF('pivot dyrka..'!E8>0,'pivot dyrka..'!E8,"") -> 494.75 | F44: =IF('pivot dyrka..'!F8>0,'pivot dyrka..'!F8,"") -> 3299 | G44: =IF('pivot dyrka..'!G8>0,'pivot dyrka..'!G8,"") -> 1146.8 | H44: =IF('pivot dyrka..'!H8>0,'pivot dyrka..'!H8,"") -> 818.7 | I44: =IF('pivot dyrka..'!I8>0,'pivot dyrka..'!I8,"") -> 997.6 | ... BA44: =IF('pivot dyrka..'!BA8>0,'pivot dyrka..'!BA8,"")
A45: =+'pivot dyrka..'!A9 -> dyrkbar | B45: =IF('pivot dyrka..'!B9>0,'pivot dyrka..'!B9,"") -> 31 | C45: =IF('pivot dyrka..'!C9>0,'pivot dyrka..'!C9,"") -> 69 | D45: =IF('pivot dyrka..'!D9>0,'pivot dyrka..'!D9,"") -> 98.5 | E45: =IF('pivot dyrka..'!E9>0,'pivot dyrka..'!E9,"") -> 97.1 | F45: =IF('pivot dyrka..'!F9>0,'pivot dyrka..'!F9,"") -> 282.9 | G45: =IF('pivot dyrka..'!G9>0,'pivot dyrka..'!G9,"") -> 511.4 | H45: =IF('pivot dyrka..'!H9>0,'pivot dyrka..'!H9,"") -> 316 | I45: =IF('pivot dyrka..'!I9>0,'pivot dyrka..'!I9,"") -> 60.2 | ... BA45: =IF('pivot dyrka..'!BA9>0,'pivot dyrka..'!BA9,"")
A46: =+'pivot dyrka..'!A10 -> Sum | B46: =IF('pivot dyrka..'!B10>0,'pivot dyrka..'!B10,"") -> 788.7 | C46: =IF('pivot dyrka..'!C10>0,'pivot dyrka..'!C10,"") -> 775.1 | D46: =IF('pivot dyrka..'!D10>0,'pivot dyrka..'!D10,"") -> 1165.1 | E46: =IF('pivot dyrka..'!E10>0,'pivot dyrka..'!E10,"") -> 591.85 | F46: =IF('pivot dyrka..'!F10>0,'pivot dyrka..'!F10,"") -> 3581.9 | G46: =IF('pivot dyrka..'!G10>0,'pivot dyrka..'!G10,"") -> 1658.2 | H46: =IF('pivot dyrka..'!H10>0,'pivot dyrka..'!H10,"") -> 1134.7 | I46: =IF('pivot dyrka..'!I10>0,'pivot dyrka..'!I10,"") -> 1057.8 | ... BA46: =IF('pivot dyrka..'!BA10>0,'pivot dyrka..'!BA10,"")

Sheet pivot dyrka..
A1: Fullstendig tekst | B1: (Flere elementer)
A2: Fylke | B2: (Flere elementer) | C2: =IF(B3="(Alle)",B2,B3) -> (Flere elementer)
A3: Kommune | B3: (Alle)
A5: Summer av Areal | B5: Kolonneetiketter
A6: Radetiketter | B6: 1991 | C6: 1992 | D6: 1993 | E6: 1994 | F6: 1995 | G6: 1996 | H6: 1997 | I6: 1998 | J6: 1999 | K6: 2000 | L6: 2001 | M6: 2002 | N6: 2003 | O6: 2004 | P6: 2005 | Q6: 2006 | R6: 2007 | S6: 2008 | T6: 2009 | U6: 2010 | V6: 2011 | W6: 2012 | X6: 2013 | Y6: 2014 | Z6: 2015 | AA6: 2016 | AB6: 2017 | AC6: 2018 | AD6: 2019 | AE6: Sum
A7: Ikke fordelt | O7: 194 | AE7: 194
A8: dyrka | B8: 757.7 | C8: 706.1 | D8: 1066.6 | E8: 494.75 | F8: 3299 | G8: 1146.8 | H8: 818.7 | I8: 997.6 | J8: 1017.9 | K8: 732.5 | L8: 1314.5 | M8: 1422 | N8: 735.5 | O8: 745.2 | P8: 1009 | Q8: 419 | R8: 1058 | S8: 409 | T8: 562 | U8: 213 | V8: 277 | W8: 421 | X8: 540 | Y8: 173 | Z8: 231 | AA8: 224 | AB8: 172.9 | AC8: 331.2 | AD8: 224.3 | AE8: 21519.25
A9: dyrkbar | B9: 31 | C9: 69 | D9: 98.5 | E9: 97.1 | F9: 282.9 | G9: 511.4 | H9: 316 | I9: 60.2 | J9: 275 | K9: 20 | L9: 48 | M9: 154 | N9: 278.1 | O9: 73.6 | P9: 296 | Q9: 138 | R9: 256 | S9: 263 | T9: 827 | U9: 740 | V9: 247 | W9: 371 | X9: 76 | Y9: 207 | Z9: 297 | AA9: 101 | AB9: 128.1 | AC9: 523.4 | AD9: 144.1 | AE9: 6929.4
A10: Sum | B10: 788.7 | C10: 775.1 | D10: 1165.1 | E10: 591.85 | F10: 3581.9 | G10: 1658.2 | H10: 1134.7 | I10: 1057.8 | J10: 1292.9 | K10: 752.5 | L10: 1362.5 | M10: 1576 | N10: 1013.6 | O10: 1012.8 | P10: 1305 | Q10: 557 | R10: 1314 | S10: 672 | T10: 1389 | U10: 953 | V10: 524 | W10: 792 | X10: 616 | Y10: 380 | Z10: 528 | AA10: 325 | AB10: 301 | AC10: 854.6 | AD10: 368.4 | AE10: 28642.65
A12: Fylke | B12: (Flere elementer)
A13: Kommune | B13: (Alle)
A14: Fullstendig tekst | B14: (Flere elementer)
B16: Kolonneetiketter
A17: Radetiketter | B17: Ikke fordelt | C17: dyrka | D17: dyrkbar | E17: Totalsum
A18: 1991 | C18: 757.7 | D18: 31 | E18: 788.7
A19: 1992 | C19: 706.1 | D19: 69 | E19: 775.1
A20: 1993 | C20: 1066.6 | D20: 98.5 | E20: 1165.1
A21: 1994 | C21: 494.75 | D21: 97.1 | E21: 591.85
A22: 1995 | C22: 3299 | D22: 282.9 | E22: 3581.9
A23: 1996 | C23: 1146.8 | D23: 511.4 | E23: 1658.2
A24: 1997 | C24: 818.7 | D24: 316 | E24: 1134.7
A25: 1998 | C25: 997.6 | D25: 60.2 | E25: 1057.8
A26: 1999 | C26: 1017.9 | D26: 275 | E26: 1292.9
A27: 2000 | C27: 732.5 | D27: 20 | E27: 752.5
A28: 2001 | C28: 1314.5 | D28: 48 | E28: 1362.5
A29: 2002 | C29: 1422 | D29: 154 | E29: 1576
A30: 2003 | C30: 735.5 | D30: 278.1 | E30: 1013.6
A31: 2004 | B31: 194 | C31: 745.2 | D31: 73.6 | E31: 1012.8
A32: 2005 | C32: 1009 | D32: 296 | E32: 1305
A33: 2006 | C33: 419 | D33: 138 | E33: 557
A34: 2007 | C34: 1058 | D34: 256 | E34: 1314
A35: 2008 | C35: 409 | D35: 263 | E35: 672
A36: 2009 | C36: 562 | D36: 827 | E36: 1389
A37: 2010 | C37: 213 | D37: 740 | E37: 953
A38: 2011 | C38: 277 | D38: 247 | E38: 524
A39: 2012 | C39: 421 | D39: 371 | E39: 792
A40: 2013 | C40: 540 | D40: 76 | E40: 616
A41: 2014 | C41: 173 | D41: 207 | E41: 380
A42: 2015 | C42: 231 | D42: 297 | E42: 528
A43: 2016 | C43: 224 | D43: 101 | E43: 325
... A46: 2019 | C46: 224.3 | D46: 144.1 | E46: 368.4
A47: Totalsum | B47: 194 | C47: 21519.25 | D47: 6929.4 | E47: 28642.65

Sheet Andel dyrka
A9: Et utvalg kan velges ved å holde Ctrl-tasten eller Shift-tasten nede. Trykk på filter knappen oppe til høyre i slicerne når du ønsker å velge alle.
A10: Periode i tekst diagramtittel: | B10: 1991 - 2019 | C10: NB! Valgt periode/år må skrives inn | F10: NB! Akershus og Oslo har data fra 1965, Buskerud fra 1981, Østfold og Telemark fra 1990 og Vestfold fra 1991
A11: Tekst i diagramtittelen: | B11: =CONCATENATE("Omdisponering av ",'pivot andel dyrka'!D2," jord ",B10) -> Omdisponering av dyrka jord 1991 - 2019
E13: "Dra" i kildedatene slik at det passer med de kommunene du ønsker å vise i diagrammet
A14: =+'pivot andel dyrka'!E7 -> Kommune | B14: =+'pivot andel dyrka'!F7 -> Omdisponert dyrka jord i dekar | C14: =+'pivot andel dyrka'!G7 -> Andel av dyrka jord i prosent
A15: =+'pivot andel dyrka'!E8 -> 0713 Sande | B15: =+'pivot andel dyrka'!F8 -> 1341.9 | C15: =+'pivot andel dyrka'!G8 -> 0.044793629
A16: =+'pivot andel dyrka'!E9 -> 0704 Tønsberg | B16: =+'pivot andel dyrka'!F9 -> 1319.2 | C16: =+'pivot andel dyrka'!G9 -> 0.032144639
A17: =+'pivot andel dyrka'!E10 -> 0709 Larvik | B17: =+'pivot andel dyrka'!F10 -> 1257.5 | C17: =+'pivot andel dyrka'!G10 -> 0.016721923
A18: =+'pivot andel dyrka'!E11 -> 0706 Sandefjord | B18: =+'pivot andel dyrka'!F11 -> 1129.3 | C18: =+'pivot andel dyrka'!G11 -> 0.031651413
A19: =+'pivot andel dyrka'!E12 -> 0701 Horten | B19: =+'pivot andel dyrka'!F12 -> 947.4 | C19: =+'pivot andel dyrka'!G12 -> 0.047862453
A20: =+'pivot andel dyrka'!E13 -> 0702 Holmestrand | B20: =+'pivot andel dyrka'!F13 -> 710.2 | C20: =+'pivot andel dyrka'!G13 -> 0.037889751
A21: =+'pivot andel dyrka'!E14 -> 0716 Re | B21: =+'pivot andel dyrka'!F14 -> 543.6 | C21: =+'pivot andel dyrka'!G14 -> 0.0072216284
A22: =+'pivot andel dyrka'!E15 -> 0720 Stokke | B22: =+'pivot andel dyrka'!F15 -> 479.45 | C22: =+'pivot andel dyrka'!G15 -> 0.012087826
A23: =+'pivot andel dyrka'!E16 -> 0722 Nøtterøy | B23: =+'pivot andel dyrka'!F16 -> 300.4 | C23: =+'pivot andel dyrka'!G16 -> 0.027837179
A24: =+'pivot andel dyrka'!E17 -> 0714 Hof | B24: =+'pivot andel dyrka'!F17 -> 263.1 | C24: =+'pivot andel dyrka'!G17 -> 0.018158319
A25: =+'pivot andel dyrka'!E18 -> 0719 Andebu | B25: =+'pivot andel dyrka'!F18 -> 243.7 | C25: =+'pivot andel dyrka'!G18 -> 0.0094554617
... A108: =+'pivot andel dyrka'!E101 | B108: =+'pivot andel dyrka'!F101 | C108: =+'pivot andel dyrka'!G101

Sheet pivot andel dyrka
A2: Jordstatus | B2: dyrka | D2: =IF(B2="(Alle)","dyrka og dyrkbar",B2) -> dyrka
A3: År | B3: (Alle) | D3: =IF(B4="(Alle)",B3,B4) -> Vestfold
A4: Fylke | B4: Vestfold
A6: Summer av Areal | B6: Kolonneetiketter
A7: Radetiketter | B7: Omdisponert | C7: Jord | D7: Andel omdisponert | E7: Kommune | F7: =CONCATENATE("Omdisponert ",D2," jord i dekar") -> Omdisponert dyrka jord i dekar | G7: =CONCATENATE("Andel av ",D2," jord i prosent") -> Andel av dyrka jord i prosent
A8: 0713 Sande | B8: 1341.9 | C8: 29957.385 | D8: =IF(B8>0,B8/C8,"") -> 0.044793629 | E8: =IF($A8>0,+A8,"") -> 0713 Sande | F8: =IF($A8>0,+B8,"") -> 1341.9 | G8: =+D8 -> 0.044793629
A9: 0704 Tønsberg | B9: 1319.2 | C9: 41039.503 | D9: =IF(B9>0,B9/C9,"") -> 0.032144639 | E9: =IF($A9>0,+A9,"") -> 0704 Tønsberg | F9: =IF($A9>0,+B9,"") -> 1319.2 | G9: =+D9 -> 0.032144639
A10: 0709 Larvik | B10: 1257.5 | C10: 75200.683 | D10: =IF(B10>0,B10/C10,"") -> 0.016721923 | E10: =IF($A10>0,+A10,"") -> 0709 Larvik | F10: =IF($A10>0,+B10,"") -> 1257.5 | G10: =+D10 -> 0.016721923
A11: 0706 Sandefjord | B11: 1129.3 | C11: 35679.292 | D11: =IF(B11>0,B11/C11,"") -> 0.031651413 | E11: =IF($A11>0,+A11,"") -> 0706 Sandefjord | F11: =IF($A11>0,+B11,"") -> 1129.3 | G11: =+D11 -> 0.031651413
A12: 0701 Horten | B12: 947.4 | C12: 19794.222 | D12: =IF(B12>0,B12/C12,"") -> 0.047862453 | E12: =IF($A12>0,+A12,"") -> 0701 Horten | F12: =IF($A12>0,+B12,"") -> 947.4 | G12: =+D12 -> 0.047862453
A13: 0702 Holmestrand | B13: 710.2 | C13: 18743.855 | D13: =IF(B13>0,B13/C13,"") -> 0.037889751 | E13: =IF($A13>0,+A13,"") -> 0702 Holmestrand | F13: =IF($A13>0,+B13,"") -> 710.2 | G13: =+D13 -> 0.037889751
A14: 0716 Re | B14: 543.6 | C14: 75273.881 | D14: =IF(B14>0,B14/C14,"") -> 0.0072216284 | E14: =IF($A14>0,+A14,"") -> 0716 Re | F14: =IF($A14>0,+B14,"") -> 543.6 | G14: =+D14 -> 0.0072216284
A15: 0720 Stokke | B15: 479.45 | C15: 39663.872 | D15: =IF(B15>0,B15/C15,"") -> 0.012087826 | E15: =IF($A15>0,+A15,"") -> 0720 Stokke | F15: =IF($A15>0,+B15,"") -> 479.45 | G15: =+D15 -> 0.012087826
A16: 0722 Nøtterøy | B16: 300.4 | C16: 10791.323 | D16: =IF(B16>0,B16/C16,"") -> 0.027837179 | E16: =IF($A16>0,+A16,"") -> 0722 Nøtterøy | F16: =IF($A16>0,+B16,"") -> 300.4 | G16: =+D16 -> 0.027837179
A17: 0714 Hof | B17: 263.1 | C17: 14489.227 | D17: =IF(B17>0,B17/C17,"") -> 0.018158319 | E17: =IF($A17>0,+A17,"") -> 0714 Hof | F17: =IF($A17>0,+B17,"") -> 263.1 | G17: =+D17 -> 0.018158319
A18: 0719 Andebu | B18: 243.7 | C18: 25773.464 | D18: =IF(B18>0,B18/C18,"") -> 0.0094554617 | E18: =IF($A18>0,+A18,"") -> 0719 Andebu | F18: =IF($A18>0,+B18,"") -> 243.7 | G18: =+D18 -> 0.0094554617
A19: 0723 Tjøme | B19: 123 | C19: 2611.4 | D19: =IF(B19>0,B19/C19,"") -> 0.047101172 | E19: =IF($A19>0,+A19,"") -> 0723 Tjøme | F19: =IF($A19>0,+B19,"") -> 123 | G19: =+D19 -> 0.047101172
... A25: 0712 Larvik | B25: 2.9 | C25: 96712.752 | D25: =IF(B25>0,B25/C25,"") -> 2.9985704e-05 | E25: =IF($A25>0,+A25,"") -> 0712 Larvik | F25: =IF($A25>0,+B25,"") -> 2.9 | G25: =+D25 -> 2.9985704e-05
A26: 0709 Larvik (-2017) | B26: 0 | D26: =IF(B26>0,B26/C26,"") | E26: =IF($A26>0,+A26,"") -> 0709 Larvik (-2017) | F26: =IF($A26>0,+B26,"") -> 0 | G26: =+D26
A27: 0706 Sandefjord (-2016) | B27: 0 | D27: =IF(B27>0,B27/C27,"") | E27: =IF($A27>0,+A27,"") -> 0706 Sandefjord (-2016) | F27: =IF($A27>0,+B27,"") -> 0 | G27: =+D27
A28: Totalsum | B28: 8938.65 | C28: 659180.06 | D28: =IF(B28>0,B28/C28,"") -> 0.013560256 | E28: =IF($A28>0,+A28,"") -> Totalsum | F28: =IF($A28>0,+B28,"") -> 8938.65 | G28: =+D28 -> 0.013560256
D29: =IF(B29>0,B29/C29,"") | E29: =IF($A29>0,+A29,"") | F29: =IF($A29>0,+B29,"") | G29: =+D29
D30: =IF(B30>0,B30/C30,"") | E30: =IF($A30>0,+A30,"") | F30: =IF($A30>0,+B30,"") | G30: =+D30
D31: =IF(B31>0,B31/C31,"") | E31: =IF($A31>0,+A31,"") | F31: =IF($A31>0,+B31,"") | G31: =+D31
D32: =IF(B32>0,B32/C32,"") | E32: =IF($A32>0,+A32,"") | F32: =IF($A32>0,+B32,"") | G32: =+D32
D33: =IF(B33>0,B33/C33,"") | E33: =IF($A33>0,+A33,"") | F33: =IF($A33>0,+B33,"") | G33: =+D33
D34: =IF(B34>0,B34/C34,"") | E34: =IF($A34>0,+A34,"") | F34: =IF($A34>0,+B34,"") | G34: =+D34
D35: =IF(B35>0,B35/C35,"") | E35: =IF($A35>0,+A35,"") | F35: =IF($A35>0,+B35,"") | G35: =+D35
D36: =IF(B36>0,B36/C36,"") | E36: =IF($A36>0,+A36,"") | F36: =IF($A36>0,+B36,"") | G36: =+D36
D37: =IF(B37>0,B37/C37,"") | E37: =IF($A37>0,+A37,"") | F37: =IF($A37>0,+B37,"") | G37: =+D37
D38: =IF(B38>0,B38/C38,"") | E38: =IF($A38>0,+A38,"") | F38: =IF($A38>0,+B38,"") | G38: =+D38
D39: =IF(B39>0,B39/C39,"") | E39: =IF($A39>0,+A39,"") | F39: =IF($A39>0,+B39,"") | G39: =+D39
D40: =IF(B40>0,B40/C40,"") | E40: =IF($A40>0,+A40,"") | F40: =IF($A40>0,+B40,"") | G40: =+D40
... D101: =IF(B101>0,B101/C101,"") | E101: =IF($A101>0,+A101,"") | F101: =IF($A101>0,+B101,"") | G101: =+D101
D102: =IF(B102>0,B102/C102,"")
D103: =IF(B103>0,B103/C103,"")

Sheet Sammenlikning fylker og kommune
A8: Et utvalg kan velges ved å holde Ctrl-tasten eller Shift-tasten nede. Trykk på filter knappen oppe til høyre i slicerne når du ønsker å velge alle.
A9: Periode i tekst diagramtittel: | B9: 2005 - 2019 | C9: NB! Valgt periode/år må skrives inn | F9: NB! Akershus og Oslo har data fra 1965, Buskerud fra 1981, Østfold og Telemark fra 1990 og Vestfold fra 1991
A10: Tekst i diagramtittelen: | B10: =CONCATENATE("Omdisponering av ",'pivot sammenlikning'!C1," jord ",B9) -> Omdisponering av dyrka jord 2005 - 2019
K11: Velg fylke eller flere fylker i sliceren til høyre:
A12: FYLKER: | K12: KOMMUNER:

Sheet pivot sammenlikning
A1: Jordstatus | B1: dyrka | C1: =IF(B1="(Alle)","dyrka og dyrkbar",B1) -> dyrka
A2: År | B2: (Flere elementer)
A4: Summer av Areal | B4: Kolonneetiketter
A5: Radetiketter | B5: Bolig- og fritidsbebyggelse | C5: Næringsbygg og offentlige bygg | D5: Samferdselsanlegg | E5: Annet landbruksområde | F5: Annet spesialområde | G5: Friområder mm | H5: Golfbane mm | I5: Skogplanting | J5: Ikke fordelt | K5: Totalsum
A6: Akershus | B6: 1797.2 | C6: 1937.3 | D6: 1626.2 | E6: 253.3 | F6: 224 | G6: 801.2 | H6: 731 | I6: 303.6 | J6: 213.1 | K6: 7886.9
A7: Østfold | B7: 1815.5 | C7: 1344.8 | D7: 1079.5 | E7: 346.9 | F7: 295 | G7: 477.6 | H7: 481 | I7: 235.2 | J7: 19 | K7: 6094.5
A8: Hedmark | B8: 1965.7 | C8: 886.5 | D8: 1730 | E8: 428.7 | G8: 156.4 | H8: 0 | I8: 208.6 | J8: 173.9 | K8: 5549.8
A9: Vestfold | B9: 912.4 | C9: 644 | D9: 1329.1 | E9: 248.2 | F9: 111 | G9: 103.2 | H9: 490 | I9: 354.4 | J9: 19.3 | K9: 4211.6
A10: Oppland | B10: 1298.8 | C10: 396.4 | D10: 1540.4 | E10: 206.6 | G10: 67.9 | H10: 0 | I10: 65.5 | J10: 39.7 | K10: 3615.3
A11: Buskerud | B11: 761.7 | C11: 695.6 | D11: 458.6 | E11: 376 | F11: 87 | G11: 51.6 | H11: 820 | I11: 217 | J11: 0 | K11: 3467.5
A12: Telemark | B12: 722.4 | C12: 307 | D12: 368.2 | E12: 115 | F12: 19 | G12: 116.8 | H12: 175 | I12: 229.4 | J12: 0 | K12: 2052.8
A13: Oslo | B13: 0 | C13: 7 | D13: 5 | E13: 1 | G13: 0 | H13: 0 | I13: 0 | J13: 0 | K13: 13
A14: Totalsum | B14: 9273.7 | C14: 6218.6 | D14: 8137 | E14: 1975.7 | F14: 736 | G14: 1774.7 | H14: 2697 | I14: 1613.7 | J14: 465 | K14: 32891.4
A15: Fylke | B15: Telemark
A16: Jordstatus | B16: dyrka
A17: År | B17: (Flere elementer)
A19: Summer av Areal | B19: Kolonneetiketter
A20: Radetiketter | B20: Bolig- og fritidsbebyggelse | C20: Næringsbygg og offentlige bygg | D20: Samferdselsanlegg | E20: Annet landbruksområde | F20: Annet spesialområde | G20: Friområder mm | H20: Golfbane mm | I20: Skogplanting | J20: Ikke fordelt | K20: Totalsum
A21: 0806 Skien | B21: 229.6 | C21: 128.7 | D21: 48.3 | E21: 0 | G21: 34.8 | H21: 0 | I21: 0 | J21: 0 | K21: 441.4
A22: 0821 Bø | B22: 101.5 | C22: 42 | D22: 31 | E22: 5 | F22: 1 | G22: 15 | H22: 0 | I22: 22 | J22: 0 | K22: 217.5
A23: 0814 Bamble | B23: 41 | C23: 7 | D23: 54 | E23: 1 | G23: 3 | H23: 0 | I23: 85.4 | J23: 0 | K23: 191.4
A24: 0819 Nome | B24: 85 | C24: 1 | D24: 35 | E24: 7 | F24: 16 | G24: 20 | H24: 0 | I24: 13 | J24: 0 | K24: 177
A25: 0822 Sauherad | B25: 16.3 | C25: 5 | D25: 34.2 | E25: 32 | F25: 1 | G25: 12 | H25: 0 | I25: 53 | J25: 0 | K25: 153.5
A26: 0815 Kragerø | B26: 2 | C26: 34 | D26: 1 | E26: 18 | G26: 0 | H26: 80 | I26: 7 | J26: 0 | K26: 142
A27: 0807 Notodden | B27: 77 | C27: 10 | D27: 9 | E27: 16 | G27: 13 | H27: 0 | I27: 11 | J27: 0 | K27: 136
A28: 0826 Tinn | B28: 18 | C28: 5 | D28: 1 | E28: 14 | G28: 0 | H28: 95 | I28: 0 | J28: 0 | K28: 133
A29: 0827 Hjartdal | B29: 4 | C29: 2 | D29: 120 | E29: 1 | G29: 0 | H29: 0 | I29: 0 | J29: 0 | K29: 127
A30: 0834 Vinje | B30: 48 | C30: 17 | D30: 18 | E30: 8 | F30: 1 | G30: 0 | H30: 0 | I30: 0 | J30: 0 | K30: 92
A31: 0805 Porsgrunn | B31: 29.4 | C31: 17.1 | D31: 4.9 | E31: 2 | G31: 2.2 | H31: 0 | I31: 0 | J31: 0 | K31: 55.6
A32: 0811 Siljan | B32: 9 | C32: 11.8 | D32: 7 | E32: 0 | G32: 1.8 | H32: 0 | I32: 18 | J32: 0 | K32: 47.6
A33: 0830 Nissedal | B33: 12 | C33: 0.4 | D33: 0 | E33: 0 | G33: 8 | H33: 0 | I33: 20 | J33: 0 | K33: 40.4
A34: 0828 Seljord | B34: 13 | C34: 7 | D34: 4.8 | E34: 0 | G34: 5 | H34: 0 | I34: 0 | J34: 0 | K34: 29.8
A35: 0817 Drangedal | B35: 9 | C35: 9 | D35: 0 | E35: 3 | G35: 0 | H35: 0 | I35: 0 | J35: 0 | K35: 21
A36: 0829 Kviteseid | B36: 12.2 | C36: 3 | D36: 0 | E36: 2 | G36: 2 | H36: 0 | I36: 0 | J36: 0 | K36: 19.2
A37: 0831 Fyresdal | B37: 1.4 | C37: 7 | D37: 0 | E37: 6 | G37: 0 | H37: 0 | I37: 0 | J37: 0 | K37: 14.4
A38: 0833 Tokke | B38: 14 | C38: 0 | D38: 0 | E38: 0 | G38: 0 | H38: 0 | I38: 0 | J38: 0 | K38: 14
A39: Totalsum | B39: 722.4 | C39: 307 | D39: 368.2 | E39: 115 | F39: 19 | G39: 116.8 | H39: 175 | I39: 229.4 | J39: 0 | K39: 2052.8
