Workbook
Name Slicer_Formål_gruppert: #N/A
Name Slicer_Fylke: #N/A
Name Slicer_Fylke1: #N/A
Name Slicer_Fylke2: #N/A
Name Slicer_Fylke3: #N/A
Name Slicer_Jordstatus: #N/A
Name Slicer_Jordstatus1: #N/A
Name Slicer_Jordstatus2: #N/A
Name Slicer_Kommune: #N/A
Name Slicer_Kommune1: #N/A
Name Slicer_Kommune2: #N/A
Name Slicer_År: #N/A
Name Slicer_År1: #N/A
Name Slicer_År2: #N/A
Name Slicer_År3: #N/A

Sheet Formål
A12: Et utvalg kan velges ved å holde Ctrl-tasten eller Shift-tasten nede. Trykk på filter knappen oppe til høyre i slicerne når du ønsker å velge alle.
A13: Periode i tekst diagramtittel: | B13: 1991 - 2023 | D13: NB! Valgt periode/år må skrives inn
A14: Tekst i diagramtittelen: | B14: =CONCATENATE("Omdisponering av ",'pivot formål'!D2," jord i ",'pivot formål'!C3," ",B13) -> Omdisponering av dyrka og dyrkbar jord i (Flere elementer) 1991 - 2023
A41: =+'pivot formål'!A6 | B41: =+'pivot formål'!B6 -> År
A42: =+'pivot formål'!A7 -> Formål | B42: =IF('pivot formål'!B7>0,'pivot formål'!B7,"") -> 2020 | C42: =IF('pivot formål'!C7>0,'pivot formål'!C7,"") -> 2021 | D42: =IF('pivot formål'!D7>0,'pivot formål'!D7,"") -> 2022 | E42: =IF('pivot formål'!E7>0,'pivot formål'!E7,"") -> 2023 | F42: =IF('pivot formål'!F7>0,'pivot formål'!F7,"") -> Sum | G42: =IF('pivot formål'!G7>0,'pivot formål'!G7,"") | H42: =IF('pivot formål'!H7>0,'pivot formål'!H7,"") | I42: =IF('pivot formål'!I7>0,'pivot formål'!I7,"") | ... BE42: =IF('pivot formål'!BE7>0,'pivot formål'!BE7,"")
A43: =+'pivot formål'!A8 -> Bolig- og fritidsbebyggelse | B43: =IF('pivot formål'!B8>0,'pivot formål'!B8,"") -> 358.1 | C43: =IF('pivot formål'!C8>0,'pivot formål'!C8,"") -> 237.8 | D43: =IF('pivot formål'!D8>0,'pivot formål'!D8,"") -> 292.7 | E43: =IF('pivot formål'!E8>0,'pivot formål'!E8,"") -> 505.4 | F43: =IF('pivot formål'!F8>0,'pivot formål'!F8,"") -> 1394 | G43: =IF('pivot formål'!G8>0,'pivot formål'!G8,"") | H43: =IF('pivot formål'!H8>0,'pivot formål'!H8,"") | I43: =IF('pivot formål'!I8>0,'pivot formål'!I8,"") | ... BE43: =IF('pivot formål'!BE8>0,'pivot formål'!BE8,"")
A44: =+'pivot formål'!A9 -> Næringsbygg og offentlige bygg | B44: =IF('pivot formål'!B9>0,'pivot formål'!B9,"") -> 1153.1 | C44: =IF('pivot formål'!C9>0,'pivot formål'!C9,"") -> 225.9 | D44: =IF('pivot formål'!D9>0,'pivot formål'!D9,"") -> 343.8 | E44: =IF('pivot formål'!E9>0,'pivot formål'!E9,"") -> 284.7 | F44: =IF('pivot formål'!F9>0,'pivot formål'!F9,"") -> 2007.5 | G44: =IF('pivot formål'!G9>0,'pivot formål'!G9,"") | H44: =IF('pivot formål'!H9>0,'pivot formål'!H9,"") | I44: =IF('pivot formål'!I9>0,'pivot formål'!I9,"") | ... BE44: =IF('pivot formål'!BE9>0,'pivot formål'!BE9,"")
A45: =+'pivot formål'!A10 -> Samferdselsanlegg | B45: =IF('pivot formål'!B10>0,'pivot formål'!B10,"") -> 1761.5 | C45: =IF('pivot formål'!C10>0,'pivot formål'!C10,"") -> 137.4 | D45: =IF('pivot formål'!D10>0,'pivot formål'!D10,"") -> 138.5 | E45: =IF('pivot formål'!E10>0,'pivot formål'!E10,"") -> 213.2 | F45: =IF('pivot formål'!F10>0,'pivot formål'!F10,"") -> 2250.6 | G45: =IF('pivot formål'!G10>0,'pivot formål'!G10,"") | H45: =IF('pivot formål'!H10>0,'pivot formål'!H10,"") | I45: =IF('pivot formål'!I10>0,'pivot formål'!I10,"") | ... BE45: =IF('pivot formål'!BE10>0,'pivot formål'!BE10,"")
A46: =+'pivot formål'!A11 -> Annet landbruksområde | B46: =IF('pivot formål'!B11>0,'pivot formål'!B11,"") -> 15.8 | C46: =IF('pivot formål'!C11>0,'pivot formål'!C11,"") -> 26.4 | D46: =IF('pivot formål'!D11>0,'pivot formål'!D11,"") -> 10.9 | E46: =IF('pivot formål'!E11>0,'pivot formål'!E11,"") -> 60.6 | F46: =IF('pivot formål'!F11>0,'pivot formål'!F11,"") -> 113.7 | G46: =IF('pivot formål'!G11>0,'pivot formål'!G11,"") | H46: =IF('pivot formål'!H11>0,'pivot formål'!H11,"") | I46: =IF('pivot formål'!I11>0,'pivot formål'!I11,"") | ... BE46: =IF('pivot formål'!BE11>0,'pivot formål'!BE11,"")
A47: =+'pivot formål'!A12 -> Annet spesialområde | B47: =IF('pivot formål'!B12>0,'pivot formål'!B12,"") | C47: =IF('pivot formål'!C12>0,'pivot formål'!C12,"") | D47: =IF('pivot formål'!D12>0,'pivot formål'!D12,"") | E47: =IF('pivot formål'!E12>0,'pivot formål'!E12,"") | F47: =IF('pivot formål'!F12>0,'pivot formål'!F12,"") | G47: =IF('pivot formål'!G12>0,'pivot formål'!G12,"") | H47: =IF('pivot formål'!H12>0,'pivot formål'!H12,"") | I47: =IF('pivot formål'!I12>0,'pivot formål'!I12,"") | ... BE47: =IF('pivot formål'!BE12>0,'pivot formål'!BE12,"")
A48: =+'pivot formål'!A13 -> Friområder mm | B48: =IF('pivot formål'!B13>0,'pivot formål'!B13,"") -> 105.7 | C48: =IF('pivot formål'!C13>0,'pivot formål'!C13,"") -> 79.2 | D48: =IF('pivot formål'!D13>0,'pivot formål'!D13,"") -> 118 | E48: =IF('pivot formål'!E13>0,'pivot formål'!E13,"") -> 72.6 | F48: =IF('pivot formål'!F13>0,'pivot formål'!F13,"") -> 375.5 | G48: =IF('pivot formål'!G13>0,'pivot formål'!G13,"") | H48: =IF('pivot formål'!H13>0,'pivot formål'!H13,"") | I48: =IF('pivot formål'!I13>0,'pivot formål'!I13,"") | ... BE48: =IF('pivot formål'!BE13>0,'pivot formål'!BE13,"")
A49: =+'pivot formål'!A14 -> Golfbane mm | B49: =IF('pivot formål'!B14>0,'pivot formål'!B14,"") | C49: =IF('pivot formål'!C14>0,'pivot formål'!C14,"") | D49: =IF('pivot formål'!D14>0,'pivot formål'!D14,"") | E49: =IF('pivot formål'!E14>0,'pivot formål'!E14,"") | F49: =IF('pivot formål'!F14>0,'pivot formål'!F14,"") | G49: =IF('pivot formål'!G14>0,'pivot formål'!G14,"") | H49: =IF('pivot formål'!H14>0,'pivot formål'!H14,"") | I49: =IF('pivot formål'!I14>0,'pivot formål'!I14,"") | ... BE49: =IF('pivot formål'!BE14>0,'pivot formål'!BE14,"")
A50: =+'pivot formål'!A15 -> Skogplanting | B50: =IF('pivot formål'!B15>0,'pivot formål'!B15,"") -> 3.7 | C50: =IF('pivot formål'!C15>0,'pivot formål'!C15,"") -> 66.7 | D50: =IF('pivot formål'!D15>0,'pivot formål'!D15,"") -> 20.4 | E50: =IF('pivot formål'!E15>0,'pivot formål'!E15,"") -> 18.4 | F50: =IF('pivot formål'!F15>0,'pivot formål'!F15,"") -> 109.2 | G50: =IF('pivot formål'!G15>0,'pivot formål'!G15,"") | H50: =IF('pivot formål'!H15>0,'pivot formål'!H15,"") | I50: =IF('pivot formål'!I15>0,'pivot formål'!I15,"") | ... BE50: =IF('pivot formål'!BE15>0,'pivot formål'!BE15,"")
A51: =+'pivot formål'!A16 -> Ikke fordelt | B51: =IF('pivot formål'!B16>0,'pivot formål'!B16,"") -> 38.2 | C51: =IF('pivot formål'!C16>0,'pivot formål'!C16,"") -> 54.4 | D51: =IF('pivot formål'!D16>0,'pivot formål'!D16,"") -> 129.6 | E51: =IF('pivot formål'!E16>0,'pivot formål'!E16,"") -> 81.6 | F51: =IF('pivot formål'!F16>0,'pivot formål'!F16,"") -> 303.8 | G51: =IF('pivot formål'!G16>0,'pivot formål'!G16,"") | H51: =IF('pivot formål'!H16>0,'pivot formål'!H16,"") | I51: =IF('pivot formål'!I16>0,'pivot formål'!I16,"") | ... BE51: =IF('pivot formål'!BE16>0,'pivot formål'!BE16,"")
A52: =+'pivot formål'!A17 -> Sum | B52: =IF('pivot formål'!B17>0,'pivot formål'!B17,"") -> 3436.1 | C52: =IF('pivot formål'!C17>0,'pivot formål'!C17,"") -> 827.8 | D52: =IF('pivot formål'!D17>0,'pivot formål'!D17,"") -> 1053.9 | E52: =IF('pivot formål'!E17>0,'pivot formål'!E17,"") -> 1236.5 | F52: =IF('pivot formål'!F17>0,'pivot formål'!F17,"") -> 6554.3 | G52: =IF('pivot formål'!G17>0,'pivot formål'!G17,"") | H52: =IF('pivot formål'!H17>0,'pivot formål'!H17,"") | I52: =IF('pivot formål'!I17>0,'pivot formål'!I17,"") | ... BE52: =IF('pivot formål'!BE17>0,'pivot formål'!BE17,"")

Sheet pivot formål
J1: Kilde: SSB KOSTRA fra 2005, Fylkesmannen før 2005. (Omdisponering ved enkeltvedtak etter jordloven og regulering etter plan- bygningsloven.)
A2: Jordstatus | B2: (Flere elementer) | C2: =IF(B2="(Alle)","dyrka og dyrkbar",B2) -> (Flere elementer) | D2: =IF(C2="(Flere elementer)","dyrka og dyrkbar",C2) -> dyrka og dyrkbar | J2: Slicere er bokser som viser de aktuelle valgene. Trykk på filter knappen oppe til høyre i slicerne når du ønsker å velge alle. Et utvalg kan velges ved å holde Ctrl-tasten nede.
A3: Fylke | B3: (Flere elementer) | C3: =IF(B4="(Alle)",B3,B4) -> (Flere elementer)
A4: Kommune | B4: (Alle)
B6: År
A7: Formål | B7: 2020 | C7: 2021 | D7: 2022 | E7: 2023 | F7: Sum
A8: Bolig- og fritidsbebyggelse | B8: 358.1 | C8: 237.8 | D8: 292.7 | E8: 505.4 | F8: 1394
A9: Næringsbygg og offentlige bygg | B9: 1153.1 | C9: 225.9 | D9: 343.8 | E9: 284.7 | F9: 2007.5
A10: Samferdselsanlegg | B10: 1761.5 | C10: 137.4 | D10: 138.5 | E10: 213.2 | F10: 2250.6
A11: Annet landbruksområde | B11: 15.8 | C11: 26.4 | D11: 10.9 | E11: 60.6 | F11: 113.7
A12: Annet spesialområde
A13: Friområder mm | B13: 105.7 | C13: 79.2 | D13: 118 | E13: 72.6 | F13: 375.5
A14: Golfbane mm | B14: 0 | F14: 0
A15: Skogplanting | B15: 3.7 | C15: 66.7 | D15: 20.4 | E15: 18.4 | F15: 109.2
A16: Ikke fordelt | B16: 38.2 | C16: 54.4 | D16: 129.6 | E16: 81.6 | F16: 303.8
A17: Sum | B17: 3436.1 | C17: 827.8 | D17: 1053.9 | E17: 1236.5 | F17: 6554.3
A21: Jordstatus | B21: (Flere elementer) | C21: =IF(B21="(Flere elementer)","dyrka og dyrkbar",B21) -> dyrka og dyrkbar | Q21: Jordstatus | R21: (Alle)
A22: Fylke | B22: (Flere elementer) | Q22: Fylke | R22: Vestfold
A23: Kommune | B23: (Alle) | Q23: Kommune | R23: (Alle)
Q24: År | R24: (Flere elementer)
B25: År
A26: Formål | B26: Bolig- og fritidsbebyggelse | C26: Næringsbygg og offentlige bygg | D26: Samferdselsanlegg | E26: Annet landbruksområde | F26: Friområder mm | G26: Golfbane mm | H26: Skogplanting | I26: Ikke fordelt | J26: Sum | Q26: Formål
A27: 2020 | B27: 358.1 | C27: 1153.1 | D27: 1761.5 | E27: 15.8 | F27: 105.7 | G27: 0 | H27: 3.7 | I27: 38.2 | J27: 3436.1 | Q27: Bolig- og fritidsbebyggelse | R27: 3034.4
A28: 2021 | B28: 237.8 | C28: 225.9 | D28: 137.4 | E28: 26.4 | F28: 79.2 | H28: 66.7 | I28: 54.4 | J28: 827.8 | Q28: Næringsbygg og offentlige bygg | R28: 3607
A29: 2022 | B29: 292.7 | C29: 343.8 | D29: 138.5 | E29: 10.9 | F29: 118 | H29: 20.4 | I29: 129.6 | J29: 1053.9 | Q29: Samferdselsanlegg | R29: 4922.35
A30: 2023 | B30: 505.4 | C30: 284.7 | D30: 213.2 | E30: 60.6 | F30: 72.6 | H30: 18.4 | I30: 81.6 | J30: 1236.5 | Q30: Annet landbruksområde | R30: 273.3
A31: Sum | B31: 1394 | C31: 2007.5 | D31: 2250.6 | E31: 113.7 | F31: 375.5 | G31: 0 | H31: 109.2 | I31: 303.8 | J31: 6554.3 | Q31: Annet spesialområde | R31: 210
Q32: Friområder mm | R32: 185
Q33: Golfbane mm | R33: 4036
Q34: Skogplanting | R34: 2075.7
Q35: Ikke fordelt | R35: 713.8
Q36: Totalsum | R36: 19057.55

Sheet Nedbygging
A13: Et utvalg kan velges ved å holde Ctrl-tasten eller Shift-tasten nede. Trykk på filter knappen oppe til høyre i slicerne når du ønsker å velge alle.
A14: Periode i tekst diagramtittel: | B14: 2006 - 2023 | C14: NB! Valgt periode/år må skrives inn
A15: Tekst i diagramtittel 1: | B15: =CONCATENATE("Nedbygging av ",'pivot nedbygging'!C1," jord i ",'pivot nedbygging'!C2," ",B135) -> Nedbygging av dyrka og dyrkbar jord i (Flere elementer)
A16: Tekst i diagramtittelen: | B16: =CONCATENATE("Nedbygging av ",'pivot nedbygging'!C1," jord i ",'pivot nedbygging'!C2," ",B14) -> Nedbygging av dyrka og dyrkbar jord i (Flere elementer) 2006 - 2023

Sheet pivot nedbygging
A1: Jordstatus | B1: (Alle) | C1: =IF(B1="(Alle)","dyrka og dyrkbar",B1) -> dyrka og dyrkbar
A2: Fylke | B2: (Flere elementer) | C2: =IF(B3="(Alle)",B2,B3) -> (Flere elementer)
A3: Kommune | B3: (Alle)
A4: År | B4: 2023
A6: Radetiketter | B6: Summer av Areal
A7: Ikke fordelt | B7: 81.6
A8: Bygg og byggområder | B8: 850.7
A9: Samferdselsanlegg | B9: 213.2
A10: Totalsum | B10: 1145.5
A16: Jordstatus | B16: (Alle)
A17: Fylke | B17: (Flere elementer)
A18: Kommune | B18: (Alle)
A20: Summer av Areal | B20: Kolonneetiketter
A21: Radetiketter | B21: Ikke fordelt | C21: Bygg og byggområder | D21: Samferdselsanlegg | E21: Totalsum
A22: 2023 | B22: 81.6 | C22: 850.7 | D22: 213.2 | E22: 1145.5
A23: Totalsum | B23: 81.6 | C23: 850.7 | D23: 213.2 | E23: 1145.5

Sheet Dyrka dyrkbar
A13: Et utvalg kan velges ved å holde Ctrl-tasten eller Shift-tasten nede. Trykk på filter knappen oppe til høyre i slicerne når du ønsker å velge alle.
A14: Tekst i diagramtittelen: | B14: =CONCATENATE("Omdisponering av dyrka og dyrkbar jord i ",'pivot dyrka..'!C2) -> Omdisponering av dyrka og dyrkbar jord i Viken
B42: =IF('pivot dyrka..'!B6>0,'pivot dyrka..'!B6,"") -> 2014 | C42: =IF('pivot dyrka..'!C6>0,'pivot dyrka..'!C6,"") -> 2015 | D42: =IF('pivot dyrka..'!D6>0,'pivot dyrka..'!D6,"") -> 2016 | E42: =IF('pivot dyrka..'!E6>0,'pivot dyrka..'!E6,"") -> 2017 | F42: =IF('pivot dyrka..'!F6>0,'pivot dyrka..'!F6,"") -> 2018 | G42: =IF('pivot dyrka..'!G6>0,'pivot dyrka..'!G6,"") -> 2019 | H42: =IF('pivot dyrka..'!H6>0,'pivot dyrka..'!H6,"") -> 2020 | I42: =IF('pivot dyrka..'!I6>0,'pivot dyrka..'!I6,"") -> 2021 | ... BA42: =IF('pivot dyrka..'!BA6>0,'pivot dyrka..'!BA6,"")
A43: =+'pivot dyrka..'!A7 -> Ikke fordelt | B43: =IF('pivot dyrka..'!B7>0,'pivot dyrka..'!B7,"") | C43: =IF('pivot dyrka..'!C7>0,'pivot dyrka..'!C7,"") | D43: =IF('pivot dyrka..'!D7>0,'pivot dyrka..'!D7,"") | E43: =IF('pivot dyrka..'!E7>0,'pivot dyrka..'!E7,"") | F43: =IF('pivot dyrka..'!F7>0,'pivot dyrka..'!F7,"") | G43: =IF('pivot dyrka..'!G7>0,'pivot dyrka..'!G7,"") | H43: =IF('pivot dyrka..'!H7>0,'pivot dyrka..'!H7,"") | I43: =IF('pivot dyrka..'!I7>0,'pivot dyrka..'!I7,"") | ... BA43: =IF('pivot dyrka..'!BA7>0,'pivot dyrka..'!BA7,"")
A44: =+'pivot dyrka..'!A8 -> dyrka | B44: =IF('pivot dyrka..'!B8>0,'pivot dyrka..'!B8,"") -> 1012 | C44: =IF('pivot dyrka..'!C8>0,'pivot dyrka..'!C8,"") -> 667 | D44: =IF('pivot dyrka..'!D8>0,'pivot dyrka..'!D8,"") -> 1332 | E44: =IF('pivot dyrka..'!E8>0,'pivot dyrka..'!E8,"") -> 802.9 | F44: =IF('pivot dyrka..'!F8>0,'pivot dyrka..'!F8,"") -> 968.3 | G44: =IF('pivot dyrka..'!G8>0,'pivot dyrka..'!G8,"") -> 643.7 | H44: =IF('pivot dyrka..'!H8>0,'pivot dyrka..'!H8,"") -> 964.6 | I44: =IF('pivot dyrka..'!I8>0,'pivot dyrka..'!I8,"") -> 386.5 | ... BA44: =IF('pivot dyrka..'!BA8>0,'pivot dyrka..'!BA8,"")
A45: =+'pivot dyrka..'!A9 -> dyrkbar | B45: =IF('pivot dyrka..'!B9>0,'pivot dyrka..'!B9,"") -> 472 | C45: =IF('pivot dyrka..'!C9>0,'pivot dyrka..'!C9,"") -> 512 | D45: =IF('pivot dyrka..'!D9>0,'pivot dyrka..'!D9,"") -> 1304 | E45: =IF('pivot dyrka..'!E9>0,'pivot dyrka..'!E9,"") -> 694.2 | F45: =IF('pivot dyrka..'!F9>0,'pivot dyrka..'!F9,"") -> 5376.2 | G45: =IF('pivot dyrka..'!G9>0,'pivot dyrka..'!G9,"") -> 582.6 | H45: =IF('pivot dyrka..'!H9>0,'pivot dyrka..'!H9,"") -> 2471.3 | I45: =IF('pivot dyrka..'!I9>0,'pivot dyrka..'!I9,"") -> 441.1 | ... BA45: =IF('pivot dyrka..'!BA9>0,'pivot dyrka..'!BA9,"")
A46: =+'pivot dyrka..'!A10 -> Sum | B46: =IF('pivot dyrka..'!B10>0,'pivot dyrka..'!B10,"") -> 1484 | C46: =IF('pivot dyrka..'!C10>0,'pivot dyrka..'!C10,"") -> 1179 | D46: =IF('pivot dyrka..'!D10>0,'pivot dyrka..'!D10,"") -> 2636 | E46: =IF('pivot dyrka..'!E10>0,'pivot dyrka..'!E10,"") -> 1497.1 | F46: =IF('pivot dyrka..'!F10>0,'pivot dyrka..'!F10,"") -> 6344.5 | G46: =IF('pivot dyrka..'!G10>0,'pivot dyrka..'!G10,"") -> 1226.3 | H46: =IF('pivot dyrka..'!H10>0,'pivot dyrka..'!H10,"") -> 3435.9 | I46: =IF('pivot dyrka..'!I10>0,'pivot dyrka..'!I10,"") -> 827.6 | ... BA46: =IF('pivot dyrka..'!BA10>0,'pivot dyrka..'!BA10,"")

Sheet pivot dyrka..
A1: Fullstendig tekst | B1: (Flere elementer)
A2: Fylke | B2: Viken | C2: =IF(B3="(Alle)",B2,B3) -> Viken
A3: Kommune | B3: (Alle)
A5: Summer av Areal | B5: Kolonneetiketter
A6: Radetiketter | B6: 2014 | C6: 2015 | D6: 2016 | E6: 2017 | F6: 2018 | G6: 2019 | H6: 2020 | I6: 2021 | J6: 2022 | K6: 2023 | L6: Sum
A7: Ikke fordelt
A8: dyrka | B8: 1012 | C8: 667 | D8: 1332 | E8: 802.9 | F8: 968.3 | G8: 643.7 | H8: 964.6 | I8: 386.5 | J8: 683.8 | K8: 437.4 | L8: 7898.2
A9: dyrkbar | B9: 472 | C9: 512 | D9: 1304 | E9: 694.2 | F9: 5376.2 | G9: 582.6 | H9: 2471.3 | I9: 441.1 | J9: 370 | K9: 799.1 | L9: 13022.5
A10: Sum | B10: 1484 | C10: 1179 | D10: 2636 | E10: 1497.1 | F10: 6344.5 | G10: 1226.3 | H10: 3435.9 | I10: 827.6 | J10: 1053.8 | K10: 1236.5 | L10: 20920.7
A12: Fylke | B12: Viken
A13: Kommune | B13: (Alle)
A14: Fullstendig tekst | B14: (Flere elementer)
B16: Kolonneetiketter
A17: Radetiketter | B17: dyrka | C17: dyrkbar | D17: Totalsum
A18: 2014 | B18: 1012 | C18: 472 | D18: 1484
A19: 2015 | B19: 667 | C19: 512 | D19: 1179
A20: 2016 | B20: 1332 | C20: 1304 | D20: 2636
A21: 2017 | B21: 802.9 | C21: 694.2 | D21: 1497.1
A22: 2018 | B22: 968.3 | C22: 5376.2 | D22: 6344.5
A23: 2019 | B23: 643.7 | C23: 582.6 | D23: 1226.3
A24: 2020 | B24: 964.6 | C24: 2471.3 | D24: 3435.9
A25: 2021 | B25: 386.5 | C25: 441.1 | D25: 827.6
A26: 2022 | B26: 683.8 | C26: 370 | D26: 1053.8
A27: 2023 | B27: 437.4 | C27: 799.1 | D27: 1236.5
A28: Totalsum | B28: 7898.2 | C28: 13022.5 | D28: 20920.7

Sheet Sammenlikning fylker og kommune
A8: Et utvalg kan velges ved å holde Ctrl-tasten eller Shift-tasten nede. Trykk på filter knappen oppe til høyre i slicerne når du ønsker å velge alle.
A9: Periode i tekst diagramtittel: | B9: 2006 - 2023 | C9: NB! Valgt periode/år må skrives inn | F9: NB! Akershus og Oslo har data fra 1965, Buskerud fra 1981, Østfold og Telemark fra 1990 og Vestfold fra 1991
A10: Tekst i diagramtittelen: | B10: =CONCATENATE("Omdisponering av ",'pivot sammenlikning'!C1," jord ",B9) -> Omdisponering av dyrka jord 2006 - 2023
K11: Velg fylke eller flere fylker i sliceren til høyre:
A12: FYLKER: | K12: KOMMUNER:

Sheet tabell
A1: Kilde: SSB KOSTRA fra 2005, Fylkesmannen før 2005. (Omdisponering ved enkeltvedtak etter jordloven og regulering etter plan- bygningsloven.)
B25: Formål gruppert | C25: (Flere elementer)
C27: År
B28: Formål | C28: dyrka | D28: dyrkbar | E28: Sum
B29: 2020 | C29: 961.1 | D29: 2471.3 | E29: 3432.4
B30: 2021 | C30: 346.9 | D30: 414.2 | E30: 761.1
B31: 2022 | C31: 663.5 | D31: 370 | E31: 1033.5
B32: 2023 | C32: 419 | D32: 799.1 | E32: 1218.1
B33: Sum | C33: 2390.5 | D33: 4054.6 | E33: 6445.1

Sheet pivot sammenlikning
A1: Jordstatus | B1: dyrka | C1: =IF(B1="(Alle)","dyrka og dyrkbar",B1) -> dyrka
A2: År | B2: (Flere elementer)
A4: Summer av Areal | B4: Kolonneetiketter
A5: Radetiketter | B5: Bolig- og fritidsbebyggelse | C5: Næringsbygg og offentlige bygg | D5: Samferdselsanlegg | E5: Annet spesialområde | F5: Friområder mm | G5: Golfbane mm | H5: Ikke fordelt | I5: Totalsum
A6: Viken | B6: 2149.2 | C6: 1766.5 | D6: 2288.6 | E6: 24 | F6: 433.3 | G6: 105 | H6: 407.7 | I6: 7174.3
A7: Oslo | B7: 0 | C7: 7 | D7: 5.4 | F7: 0 | G7: 0 | H7: 0 | I7: 12.4
A8: Totalsum | B8: 2149.2 | C8: 1773.5 | D8: 2294 | E8: 24 | F8: 433.3 | G8: 105 | H8: 407.7 | I8: 7186.7
A14: Fylke | B14: (Flere elementer)
A15: Jordstatus | B15: dyrka
A16: År | B16: (Flere elementer)
A17: Formål gruppert | B17: (Flere elementer)
A19: Radetiketter | B19: Summer av Areal
A20: 3033 Ullensaker | B20: 687.8
A21: 3007 Ringerike | B21: 622.8
A22: 3030 Lillestrøm | B22: 569
A23: 3025 Asker | B23: 543.2
A24: 3014 Indre Østfold | B24: 485.8
A25: 3003 Sarpsborg | B25: 458.3
A26: 3002 Moss | B26: 368.4
A27: 3035 Eidsvoll | B27: 350.3
A28: 3021 Ås | B28: 342.8
A29: 3020 Nordre Follo | B29: 280.5
A30: 3005 Drammen | B30: 278.9
A31: 3004 Fredrikstad | B31: 240.5
... A72: Totalsum | B72: 7910.6
