Workbook

Sheet Bare for statsforvalteren
A1: Denne fanen skal bare brukes av statsforvalteren
B3: INSTRUKSJON - Lim inn rapporteringsdata
B16: Kommune | C16: header_lvl | D16: row_type_id | E16: row_id | F16: kommune_id | G16: category | H16: section | I16: row_id_visible | J16: Utdannelse / Kurs | K16: Videreføring: Antall personer | L16: Antall nye personer | M16: Totalt antall personer det søkes for | N16: Ubrukte midler som ønskes overført | O16: Søknads- beløp | P16: Totalt beløp det søkes om til tiltaket | Q16: Ubrukte midler som tilbakebetales | R16: Svar / Merknad | S16: Antall personer innvilget | T16: Innvilget overføring av ubrukte | U16: Innvilget tilskudd til utbetaling | V16: Totalt innvilget beløp (Autosummert)

Sheet Rapportering
E1: rapporteringsskjema, versjon: | F1: {=INDEX(versjon[versjon],MATCH(MAX(COUNTIF(versjon[versjon],"<"&versjon[versjon])),COUNTIF(versjon[versjon],"<"&versjon[versjon]),0))} -> 20230207_1329
B2: 1. | C2: Informasjon om kommunen
B3: 1.1. | C3: Navn på kommunen | D3: =INDEX(kommunedata_grunnlag_før_rapportering[Svar / Merknad],MATCH(B3,kommunedata_grunnlag_før_rapportering[row_id],0)) -> #N/A
B4: 1.4. | C4: Kontaktperson | D4: =INDEX(kommunedata_grunnlag_før_rapportering[Svar / Merknad],MATCH(B4,kommunedata_grunnlag_før_rapportering[row_id],0)) -> #N/A
B5: 1.5. | C5: E-post | D5: =INDEX(kommunedata_grunnlag_før_rapportering[Svar / Merknad],MATCH(B5,kommunedata_grunnlag_før_rapportering[row_id],0)) -> #N/A
B6: 1.6. | C6: Telefon | D6: =INDEX(kommunedata_grunnlag_før_rapportering[Svar / Merknad],MATCH(B6,kommunedata_grunnlag_før_rapportering[row_id],0)) -> #N/A
B9: 2. | C9: Kompetansetiltak (grunn-, videre- og etterutdanning)
E10: Måloppnåelse (antall ansatte)
D11: Antall personer innvilget | E11: Fullført utdanning | F11: Under utdanning, men ikke fullført | G11: Samlet antall fullførte og under utdanning
B12: 2.1. | C12: Videregående skole, fag- og yrkesopplæring innen helse (fagbrev)
B13: 2.1a | C13: =INDEX(kommunedata_grunnlag_før_rapportering[Utdannelse / Kurs],MATCH(B13,kommunedata_grunnlag_før_rapportering[row_id],0)) -> #N/A | D13: =INDEX(kommunedata_grunnlag_før_rapportering[Antall personer innvilget],MATCH(B13,kommunedata_grunnlag_før_rapportering[row_id],0)) -> #N/A | G13: =SUM(E13:F13) -> 0
B14: 2.1b | C14: =INDEX(kommunedata_grunnlag_før_rapportering[Utdannelse / Kurs],MATCH(B14,kommunedata_grunnlag_før_rapportering[row_id],0)) -> #N/A | D14: =INDEX(kommunedata_grunnlag_før_rapportering[Antall personer innvilget],MATCH(B14,kommunedata_grunnlag_før_rapportering[row_id],0)) -> #N/A | G14: =SUM(E14:F14) -> 0
C15: Sum (2.1) : | D15: =SUM(D13:D14) -> #N/A | E15: =SUM(E13:E14) -> 0 | F15: =SUM(F13:F14) -> 0 | G15: =SUM(G13:G14) -> 0
B16: 2.2. | C16: Fagskoleutdanning
B17: 2.2a | C17: =INDEX(kommunedata_grunnlag_før_rapportering[Utdannelse / Kurs],MATCH(B17,kommunedata_grunnlag_før_rapportering[row_id],0)) -> #N/A | D17: =INDEX(kommunedata_grunnlag_før_rapportering[Antall personer innvilget],MATCH(B17,kommunedata_grunnlag_før_rapportering[row_id],0)) -> #N/A | G17: =SUM(E17:F17) -> 0
B18: 2.2b | C18: =INDEX(kommunedata_grunnlag_før_rapportering[Utdannelse / Kurs],MATCH(B18,kommunedata_grunnlag_før_rapportering[row_id],0)) -> #N/A | D18: =INDEX(kommunedata_grunnlag_før_rapportering[Antall personer innvilget],MATCH(B18,kommunedata_grunnlag_før_rapportering[row_id],0)) -> #N/A | G18: =SUM(E18:F18) -> 0
B19: 2.2c | C19: =INDEX(kommunedata_grunnlag_før_rapportering[Utdannelse / Kurs],MATCH(B19,kommunedata_grunnlag_før_rapportering[row_id],0)) -> #N/A | D19: =INDEX(kommunedata_grunnlag_før_rapportering[Antall personer innvilget],MATCH(B19,kommunedata_grunnlag_før_rapportering[row_id],0)) -> #N/A | G19: =SUM(E19:F19) -> 0
B20: 2.2d | C20: =INDEX(kommunedata_grunnlag_før_rapportering[Utdannelse / Kurs],MATCH(B20,kommunedata_grunnlag_før_rapportering[row_id],0)) -> #N/A | D20: =INDEX(kommunedata_grunnlag_før_rapportering[Antall personer innvilget],MATCH(B20,kommunedata_grunnlag_før_rapportering[row_id],0)) -> #N/A | G20: =SUM(E20:F20) -> 0
B21: 2.2e | C21: =INDEX(kommunedata_grunnlag_før_rapportering[Utdannelse / Kurs],MATCH(B21,kommunedata_grunnlag_før_rapportering[row_id],0)) -> #N/A | D21: =INDEX(kommunedata_grunnlag_før_rapportering[Antall personer innvilget],MATCH(B21,kommunedata_grunnlag_før_rapportering[row_id],0)) -> #N/A | G21: =SUM(E21:F21) -> 0
B22: 2.2f | C22: =INDEX(kommunedata_grunnlag_før_rapportering[Utdannelse / Kurs],MATCH(B22,kommunedata_grunnlag_før_rapportering[row_id],0)) -> #N/A | D22: =INDEX(kommunedata_grunnlag_før_rapportering[Antall personer innvilget],MATCH(B22,kommunedata_grunnlag_før_rapportering[row_id],0)) -> #N/A | G22: =SUM(E22:F22) -> 0
C23: Sum (2.2) : | D23: =SUM(D17:D22) -> #N/A | E23: =SUM(E17:E22) -> 0 | F23: =SUM(F17:F22) -> 0 | G23: =SUM(G17:G22) -> 0
B24: 2.3. | C24: Bachelorutdanning helse- og sosialfag
B25: 2.3a | C25: =INDEX(kommunedata_grunnlag_før_rapportering[Utdannelse / Kurs],MATCH(B25,kommunedata_grunnlag_før_rapportering[row_id],0)) -> #N/A | D25: =INDEX(kommunedata_grunnlag_før_rapportering[Antall personer innvilget],MATCH(B25,kommunedata_grunnlag_før_rapportering[row_id],0)) -> #N/A | G25: =SUM(E25:F25) -> 0
B26: 2.3b | C26: =INDEX(kommunedata_grunnlag_før_rapportering[Utdannelse / Kurs],MATCH(B26,kommunedata_grunnlag_før_rapportering[row_id],0)) -> #N/A | D26: =INDEX(kommunedata_grunnlag_før_rapportering[Antall personer innvilget],MATCH(B26,kommunedata_grunnlag_før_rapportering[row_id],0)) -> #N/A | G26: =SUM(E26:F26) -> 0
B27: 2.3c | C27: =INDEX(kommunedata_grunnlag_før_rapportering[Utdannelse / Kurs],MATCH(B27,kommunedata_grunnlag_før_rapportering[row_id],0)) -> #N/A | D27: =INDEX(kommunedata_grunnlag_før_rapportering[Antall personer innvilget],MATCH(B27,kommunedata_grunnlag_før_rapportering[row_id],0)) -> #N/A | G27: =SUM(E27:F27) -> 0
B28: 2.3d | C28: =INDEX(kommunedata_grunnlag_før_rapportering[Utdannelse / Kurs],MATCH(B28,kommunedata_grunnlag_før_rapportering[row_id],0)) -> #N/A | D28: =INDEX(kommunedata_grunnlag_før_rapportering[Antall personer innvilget],MATCH(B28,kommunedata_grunnlag_før_rapportering[row_id],0)) -> #N/A | G28: =SUM(E28:F28) -> 0
B29: 2.3e | C29: =INDEX(kommunedata_grunnlag_før_rapportering[Utdannelse / Kurs],MATCH(B29,kommunedata_grunnlag_før_rapportering[row_id],0)) -> #N/A | D29: =INDEX(kommunedata_grunnlag_før_rapportering[Antall personer innvilget],MATCH(B29,kommunedata_grunnlag_før_rapportering[row_id],0)) -> #N/A | G29: =SUM(E29:F29) -> 0
B30: 2.3f | C30: =INDEX(kommunedata_grunnlag_før_rapportering[Utdannelse / Kurs],MATCH(B30,kommunedata_grunnlag_før_rapportering[row_id],0)) -> #N/A | D30: =INDEX(kommunedata_grunnlag_før_rapportering[Antall personer innvilget],MATCH(B30,kommunedata_grunnlag_før_rapportering[row_id],0)) -> #N/A | G30: =SUM(E30:F30) -> 0
B31: 2.3g | C31: =INDEX(kommunedata_grunnlag_før_rapportering[Utdannelse / Kurs],MATCH(B31,kommunedata_grunnlag_før_rapportering[row_id],0)) -> #N/A | D31: =INDEX(kommunedata_grunnlag_før_rapportering[Antall personer innvilget],MATCH(B31,kommunedata_grunnlag_før_rapportering[row_id],0)) -> #N/A | G31: =SUM(E31:F31) -> 0
B32: 2.3h | C32: =INDEX(kommunedata_grunnlag_før_rapportering[Utdannelse / Kurs],MATCH(B32,kommunedata_grunnlag_før_rapportering[row_id],0)) -> #N/A | D32: =INDEX(kommunedata_grunnlag_før_rapportering[Antall personer innvilget],MATCH(B32,kommunedata_grunnlag_før_rapportering[row_id],0)) -> #N/A | G32: =SUM(E32:F32) -> 0
B33: 2.3i | C33: =INDEX(kommunedata_grunnlag_før_rapportering[Utdannelse / Kurs],MATCH(B33,kommunedata_grunnlag_før_rapportering[row_id],0)) -> #N/A | D33: =INDEX(kommunedata_grunnlag_før_rapportering[Antall personer innvilget],MATCH(B33,kommunedata_grunnlag_før_rapportering[row_id],0)) -> #N/A | G33: =SUM(E33:F33) -> 0
C34: Sum (2.3) : | D34: =SUM(D25:D33) -> #N/A | E34: =SUM(E25:E33) -> 0 | F34: =SUM(F25:F33) -> 0 | G34: =SUM(G25:G33) -> 0
E35: Måloppnåelse (antall ansatte)
D36: Antall personer innvilget | E36: Fullført utdanning | F36: Under utdanning, men ikke fullført | G36: Samlet antall fullførte og under utdanning
B37: 2.4. | C37: Videreutdanning og mastergradutdanning (påbygg bachelorutdanning)
B38: 2.4a | C38: =INDEX(kommunedata_grunnlag_før_rapportering[Utdannelse / Kurs],MATCH(B38,kommunedata_grunnlag_før_rapportering[row_id],0)) -> #N/A | D38: =INDEX(kommunedata_grunnlag_før_rapportering[Antall personer innvilget],MATCH(B38,kommunedata_grunnlag_før_rapportering[row_id],0)) -> #N/A | G38: =SUM(E38:F38) -> 0
B39: 2.4b | C39: =INDEX(kommunedata_grunnlag_før_rapportering[Utdannelse / Kurs],MATCH(B39,kommunedata_grunnlag_før_rapportering[row_id],0)) -> #N/A | D39: =INDEX(kommunedata_grunnlag_før_rapportering[Antall personer innvilget],MATCH(B39,kommunedata_grunnlag_før_rapportering[row_id],0)) -> #N/A | G39: =SUM(E39:F39) -> 0
B40: 2.4c | C40: =INDEX(kommunedata_grunnlag_før_rapportering[Utdannelse / Kurs],MATCH(B40,kommunedata_grunnlag_før_rapportering[row_id],0)) -> #N/A | D40: =INDEX(kommunedata_grunnlag_før_rapportering[Antall personer innvilget],MATCH(B40,kommunedata_grunnlag_før_rapportering[row_id],0)) -> #N/A | G40: =SUM(E40:F40) -> 0
B41: 2.4d | C41: =INDEX(kommunedata_grunnlag_før_rapportering[Utdannelse / Kurs],MATCH(B41,kommunedata_grunnlag_før_rapportering[row_id],0)) -> #N/A | D41: =INDEX(kommunedata_grunnlag_før_rapportering[Antall personer innvilget],MATCH(B41,kommunedata_grunnlag_før_rapportering[row_id],0)) -> #N/A | G41: =SUM(E41:F41) -> 0
B42: 2.4e | C42: =INDEX(kommunedata_grunnlag_før_rapportering[Utdannelse / Kurs],MATCH(B42,kommunedata_grunnlag_før_rapportering[row_id],0)) -> #N/A | D42: =INDEX(kommunedata_grunnlag_før_rapportering[Antall personer innvilget],MATCH(B42,kommunedata_grunnlag_før_rapportering[row_id],0)) -> #N/A | G42: =SUM(E42:F42) -> 0
...

Sheet backend (Ikke rør)
C1: rowId - prosjektSøknadsbeløp | D1: rowId - prosjekttema | E1: rowTypeId - prosjekttema | F1: totalt innvilget | G1: prosjeksøknad har fått innvilgede midler | H1: tema inngår i prosjektsøknad | I1: prosjekttema inngår i prosjektsøknad som har fått innvilgede midler | J1: rowId - prosjekttittel | K1: prosjekt | N1: versjon | O1: beskrivelse | Z1: sort order | AA1: Kommune | AB1: header_lvl | AC1: row_type_id | AD1: row_id | AE1: kommune_id | AF1: category | AG1: section | AH1: row_id_visible | AI1: Utdannelse / Kurs | AJ1: Videreføring: Antall personer | AK1: Antall nye personer | AL1: Totalt antall personer det søkes for | AM1: Ubrukte midler som ønskes overført | AN1: Søknads- beløp | AO1: Totalt beløp det søkes om til tiltaket | AP1: Ubrukte midler som tilbakebetales | AQ1: Svar / Merknad i søknaden | AR1: Antall personer innvilget | AS1: Innvilget overføring av ubrukte | AT1: Innvilget tilskudd til utbetaling | AU1: Totalt innvilget beløp (Autosummert) | AV1: prosjekttema inngår i prosjektsøknaden | AW1: prosjekttema inngår i prosjektsøknad som har fått innvilgede midler | AX1: Antall personer fullført utdanning | AY1: Antall personer under utdanning, men ikke fullført | AZ1: Samlet antall personer fullførte og under utdanning | BA1: Ubenyttet beløp | BB1: Svar / Merknad i rapporteringsskjemaet | BE1: =Z1 -> sort order | BF1: =AA1 -> Kommune | BG1: =AB1 -> header_lvl | BH1: =AC1 -> row_type_id | BI1: =AD1 -> row_id | BJ1: =AE1 -> kommune_id | BK1: =AF1 -> category | BL1: =AG1 -> section | ... CG1: =BB1 -> Svar / Merknad i rapporteringsskjemaet
C2: P1.7c | D2: P1.2a | E2: P_.2a | F2: =SUMIFS(kommunedata_grunnlag_før_rapportering[Totalt innvilget beløp (Autosummert)],kommunedata_grunnlag_før_rapportering[row_id],prosjekttema_og_tittel[[#This Row],[rowId - prosjektSøknadsbeløp]]) -> 0 | G2: =prosjekttema_og_tittel[[#This Row],[totalt innvilget]]>0 -> FALSE | H2: =IFERROR(IF(INDEX(kommunedata_grunnlag_før_rapportering[Svar / Merknad],MATCH(prosjekttema_og_tittel[[#This Row],[rowId - prosjekttema]],kommunedata_grunnlag_før_rapportering[row_id],0))="Ja",1,0),0) -> 0 | I2: =IF(AND(prosjekttema_og_tittel[[#This Row],[prosjeksøknad har fått innvilgede midler]],prosjekttema_og_tittel[[#This Row],[tema inngår i prosjektsøknad]]=1),1,0) -> 0 | J2: P1.1a | K2: =IFERROR(INDEX(kommunedata_grunnlag_før_rapportering[Svar / Merknad],MATCH(prosjekttema_og_tittel[[#This Row],[rowId - prosjekttittel]],kommunedata_grunnlag_før_rapportering[row_id],0)),"") | N2: 20221206_0946 | O2: Begynner justering til 2023 | BE2: {=_xlfn._xlws.SORT(_xlfn._xlws.FILTER(Z2:BB700,BC2:BC700 = TRUE))} -> 1 | BF2: 0 | BG2: 0 | BH2: 0 | BI2: 0 | BJ2: 0 | BK2: 0 | BL2: 0 | BM2: 0 | BN2: 0 | BO2: 0 | BP2: 0 | BQ2: 0 | BR2: 0 | BS2: 0 | BT2: 0 | BU2: 0 | BV2: 0 | BW2: 0 | BX2: 0 | BY2: 0 | BZ2: 0 | CC2: Måloppnåelse (antall ansatte) | CD2: 0 | CE2: 0 | CF2: 0 | CG2: 0
C3: P1.7c | D3: P1.2b | E3: P_.2b | F3: =SUMIFS(kommunedata_grunnlag_før_rapportering[Totalt innvilget beløp (Autosummert)],kommunedata_grunnlag_før_rapportering[row_id],prosjekttema_og_tittel[[#This Row],[rowId - prosjektSøknadsbeløp]]) -> 0 | G3: =prosjekttema_og_tittel[[#This Row],[totalt innvilget]]>0 -> FALSE | H3: =IFERROR(IF(INDEX(kommunedata_grunnlag_før_rapportering[Svar / Merknad],MATCH(prosjekttema_og_tittel[[#This Row],[rowId - prosjekttema]],kommunedata_grunnlag_før_rapportering[row_id],0))="Ja",1,0),0) -> 0 | I3: =IF(AND(prosjekttema_og_tittel[[#This Row],[prosjeksøknad har fått innvilgede midler]],prosjekttema_og_tittel[[#This Row],[tema inngår i prosjektsøknad]]=1),1,0) -> 0 | J3: P1.1a | K3: =IFERROR(INDEX(kommunedata_grunnlag_før_rapportering[Svar / Merknad],MATCH(prosjekttema_og_tittel[[#This Row],[rowId - prosjekttittel]],kommunedata_grunnlag_før_rapportering[row_id],0)),"") | N3: 20221206_0952 | O3: Legger til backen output | Z3: 11 | AA3: =Rapportering!$D$3 -> #N/A | AB3: 4 | AC3: 1.1. | AD3: 1.1. | AE3: 0 | AF3: Informasjon om kommunen | AG3: 0 | AH3: 1.1. | AI3: Navn på kommunen | AJ3: 0 | AK3: 0 | AL3: 0 | AM3: 0 | AN3: 0 | AO3: 0 | AP3: 0 | AQ3: =Rapportering!D3 -> #N/A | AR3: 0 | AS3: 0 | AT3: 0 | AU3: 0 | BC3: TRUE | BE3: 11 | BF3: #N/A | BG3: 4 | BH3: 1.1. | BI3: 1.1. | BJ3: 0 | BK3: Informasjon om kommunen | BL3: 0 | BM3: 1.1. | BN3: Navn på kommunen | BO3: 0 | BP3: 0 | BQ3: 0 | BR3: 0 | BS3: 0 | BT3: 0 | BU3: 0 | BV3: #N/A | BW3: 0 | BX3: 0 | BY3: 0 | BZ3: 0 | CA3: 0 | CB3: 0 | CC3: 0 | CD3: 0 | CE3: 0 | CF3: 0 | CG3: 0
C4: P1.7c | D4: P1.2c | E4: P_.2c | F4: =SUMIFS(kommunedata_grunnlag_før_rapportering[Totalt innvilget beløp (Autosummert)],kommunedata_grunnlag_før_rapportering[row_id],prosjekttema_og_tittel[[#This Row],[rowId - prosjektSøknadsbeløp]]) -> 0 | G4: =prosjekttema_og_tittel[[#This Row],[totalt innvilget]]>0 -> FALSE | H4: =IFERROR(IF(INDEX(kommunedata_grunnlag_før_rapportering[Svar / Merknad],MATCH(prosjekttema_og_tittel[[#This Row],[rowId - prosjekttema]],kommunedata_grunnlag_før_rapportering[row_id],0))="Ja",1,0),0) -> 0 | I4: =IF(AND(prosjekttema_og_tittel[[#This Row],[prosjeksøknad har fått innvilgede midler]],prosjekttema_og_tittel[[#This Row],[tema inngår i prosjektsøknad]]=1),1,0) -> 0 | J4: P1.1a | K4: =IFERROR(INDEX(kommunedata_grunnlag_før_rapportering[Svar / Merknad],MATCH(prosjekttema_og_tittel[[#This Row],[rowId - prosjekttittel]],kommunedata_grunnlag_før_rapportering[row_id],0)),"") | N4: 20221206_1133 | O4: Legger til for 9 prosjekt | Z4: 14 | AA4: =Rapportering!$D$3 -> #N/A | AB4: 4 | AC4: 1.4. | AD4: 1.4. | AE4: 0 | AF4: Informasjon om kommunen | AG4: 0 | AH4: 1.4. | AI4: Kontaktperson | AJ4: 0 | AK4: 0 | AL4: 0 | AM4: 0 | AN4: 0 | AO4: 0 | AP4: 0 | AQ4: =Rapportering!D4 -> #N/A | AR4: 0 | AS4: 0 | AT4: 0 | AU4: 0 | BC4: TRUE | BE4: 14 | BF4: #N/A | BG4: 4 | BH4: 1.4. | BI4: 1.4. | BJ4: 0 | BK4: Informasjon om kommunen | BL4: 0 | BM4: 1.4. | BN4: Kontaktperson | BO4: 0 | BP4: 0 | BQ4: 0 | BR4: 0 | BS4: 0 | BT4: 0 | BU4: 0 | BV4: #N/A | BW4: 0 | BX4: 0 | BY4: 0 | BZ4: 0 | CA4: 0 | CB4: 0 | CC4: 0 | CD4: 0 | CE4: 0 | CF4: 0 | CG4: 0
C5: P1.7c | D5: P1.2d | E5: P_.2d | F5: =SUMIFS(kommunedata_grunnlag_før_rapportering[Totalt innvilget beløp (Autosummert)],kommunedata_grunnlag_før_rapportering[row_id],prosjekttema_og_tittel[[#This Row],[rowId - prosjektSøknadsbeløp]]) -> 0 | G5: =prosjekttema_og_tittel[[#This Row],[totalt innvilget]]>0 -> FALSE | H5: =IFERROR(IF(INDEX(kommunedata_grunnlag_før_rapportering[Svar / Merknad],MATCH(prosjekttema_og_tittel[[#This Row],[rowId - prosjekttema]],kommunedata_grunnlag_før_rapportering[row_id],0))="Ja",1,0),0) -> 0 | I5: =IF(AND(prosjekttema_og_tittel[[#This Row],[prosjeksøknad har fått innvilgede midler]],prosjekttema_og_tittel[[#This Row],[tema inngår i prosjektsøknad]]=1),1,0) -> 0 | J5: P1.1a | K5: =IFERROR(INDEX(kommunedata_grunnlag_før_rapportering[Svar / Merknad],MATCH(prosjekttema_og_tittel[[#This Row],[rowId - prosjekttittel]],kommunedata_grunnlag_før_rapportering[row_id],0)),"") | N5: 20221206_1140 | O5: Første test | Z5: 15 | AA5: =Rapportering!$D$3 -> #N/A | AB5: 4 | AC5: 1.5. | AD5: 1.5. | AE5: 0 | AF5: Informasjon om kommunen | AG5: 0 | AH5: 1.5. | AI5: E-post | AJ5: 0 | AK5: 0 | AL5: 0 | AM5: 0 | AN5: 0 | AO5: 0 | AP5: 0 | AQ5: =Rapportering!D5 -> #N/A | AR5: 0 | AS5: 0 | AT5: 0 | AU5: 0 | BC5: TRUE | BE5: 15 | BF5: #N/A | BG5: 4 | BH5: 1.5. | BI5: 1.5. | BJ5: 0 | BK5: Informasjon om kommunen | BL5: 0 | BM5: 1.5. | BN5: E-post | BO5: 0 | BP5: 0 | BQ5: 0 | BR5: 0 | BS5: 0 | BT5: 0 | BU5: 0 | BV5: #N/A | BW5: 0 | BX5: 0 | BY5: 0 | BZ5: 0 | CA5: 0 | CB5: 0 | CC5: 0 | CD5: 0 | CE5: 0 | CF5: 0 | CG5: 0
C6: P1.7c | D6: P1.2e | E6: P_.2e | F6: =SUMIFS(kommunedata_grunnlag_før_rapportering[Totalt innvilget beløp (Autosummert)],kommunedata_grunnlag_før_rapportering[row_id],prosjekttema_og_tittel[[#This Row],[rowId - prosjektSøknadsbeløp]]) -> 0 | G6: =prosjekttema_og_tittel[[#This Row],[totalt innvilget]]>0 -> FALSE | H6: =IFERROR(IF(INDEX(kommunedata_grunnlag_før_rapportering[Svar / Merknad],MATCH(prosjekttema_og_tittel[[#This Row],[rowId - prosjekttema]],kommunedata_grunnlag_før_rapportering[row_id],0))="Ja",1,0),0) -> 0 | I6: =IF(AND(prosjekttema_og_tittel[[#This Row],[prosjeksøknad har fått innvilgede midler]],prosjekttema_og_tittel[[#This Row],[tema inngår i prosjektsøknad]]=1),1,0) -> 0 | J6: P1.1a | K6: =IFERROR(INDEX(kommunedata_grunnlag_før_rapportering[Svar / Merknad],MATCH(prosjekttema_og_tittel[[#This Row],[rowId - prosjekttittel]],kommunedata_grunnlag_før_rapportering[row_id],0)),"") | N6: 20230127_1305 | O6: Fjernet nasjonalt verferdsteknologiprogram | Z6: 16 | AA6: =Rapportering!$D$3 -> #N/A | AB6: 4 | AC6: 1.6. | AD6: 1.6. | AE6: 0 | AF6: Informasjon om kommunen | AG6: 0 | AH6: 1.6. | AI6: Telefon | AJ6: 0 | AK6: 0 | AL6: 0 | AM6: 0 | AN6: 0 | AO6: 0 | AP6: 0 | AQ6: =Rapportering!D6 -> #N/A | AR6: 0 | AS6: 0 | AT6: 0 | AU6: 0 | BC6: TRUE | BE6: 16 | BF6: #N/A | BG6: 4 | BH6: 1.6. | BI6: 1.6. | BJ6: 0 | BK6: Informasjon om kommunen | BL6: 0 | BM6: 1.6. | BN6: Telefon | BO6: 0 | BP6: 0 | BQ6: 0 | BR6: 0 | BS6: 0 | BT6: 0 | BU6: 0 | BV6: #N/A | BW6: 0 | BX6: 0 | BY6: 0 | BZ6: 0 | CA6: 0 | CB6: 0 | CC6: 0 | CD6: 0 | CE6: 0 | CF6: 0 | CG6: 0
C7: P1.7c | D7: P1.2f | E7: P_.2f | F7: =SUMIFS(kommunedata_grunnlag_før_rapportering[Totalt innvilget beløp (Autosummert)],kommunedata_grunnlag_før_rapportering[row_id],prosjekttema_og_tittel[[#This Row],[rowId - prosjektSøknadsbeløp]]) -> 0 | G7: =prosjekttema_og_tittel[[#This Row],[totalt innvilget]]>0 -> FALSE | H7: =IFERROR(IF(INDEX(kommunedata_grunnlag_før_rapportering[Svar / Merknad],MATCH(prosjekttema_og_tittel[[#This Row],[rowId - prosjekttema]],kommunedata_grunnlag_før_rapportering[row_id],0))="Ja",1,0),0) -> 0 | I7: =IF(AND(prosjekttema_og_tittel[[#This Row],[prosjeksøknad har fått innvilgede midler]],prosjekttema_og_tittel[[#This Row],[tema inngår i prosjektsøknad]]=1),1,0) -> 0 | J7: P1.1a | K7: =IFERROR(INDEX(kommunedata_grunnlag_før_rapportering[Svar / Merknad],MATCH(prosjekttema_og_tittel[[#This Row],[rowId - prosjekttittel]],kommunedata_grunnlag_før_rapportering[row_id],0)),"") | N7: 20230130_0001 | O7: Begynt å legge inn bedre utdatafana for rapportering | BE7: 20 | BF7: 0 | BG7: 0 | BH7: 0 | BI7: 0 | BJ7: 0 | BK7: 0 | BL7: 0 | BM7: 0 | BN7: 0 | BO7: 0 | BP7: 0 | BQ7: 0 | BR7: 0 | BS7: 0 | BT7: 0 | BU7: 0 | BV7: 0 | BW7: 0 | BX7: 0 | BY7: 0 | BZ7: 0 | CC7: Måloppnåelse (antall ansatte) | CD7: 0 | CE7: 0 | CF7: 0 | CG7: 0
C8: P1.7c | D8: P1.2g | E8: P_.2g | F8: =SUMIFS(kommunedata_grunnlag_før_rapportering[Totalt innvilget beløp (Autosummert)],kommunedata_grunnlag_før_rapportering[row_id],prosjekttema_og_tittel[[#This Row],[rowId - prosjektSøknadsbeløp]]) -> 0 | G8: =prosjekttema_og_tittel[[#This Row],[totalt innvilget]]>0 -> FALSE | H8: =IFERROR(IF(INDEX(kommunedata_grunnlag_før_rapportering[Svar / Merknad],MATCH(prosjekttema_og_tittel[[#This Row],[rowId - prosjekttema]],kommunedata_grunnlag_før_rapportering[row_id],0))="Ja",1,0),0) -> 0 | I8: =IF(AND(prosjekttema_og_tittel[[#This Row],[prosjeksøknad har fått innvilgede midler]],prosjekttema_og_tittel[[#This Row],[tema inngår i prosjektsøknad]]=1),1,0) -> 0 | J8: P1.1a | K8: =IFERROR(INDEX(kommunedata_grunnlag_før_rapportering[Svar / Merknad],MATCH(prosjekttema_og_tittel[[#This Row],[rowId - prosjekttittel]],kommunedata_grunnlag_før_rapportering[row_id],0)),"") | N8: 20230130_1235 | O8: Lagt til utdata til rapportsammenstilling | BE8: 21 | BF8: 0 | BG8: 0 | BH8: 0 | BI8: 0 | BJ8: 0 | BK8: 0 | BL8: 0 | BM8: 0 | BN8: 0 | BO8: 0 | BP8: 0 | BQ8: 0 | BR8: 0 | BS8: 0 | BT8: 0 | BU8: 0 | BV8: 0 | BW8: 0 | BX8: 0 | BY8: 0 | BZ8: 0 | CC8: Måloppnåelse (antall ansatte) | CD8: 0 | CE8: 0 | CF8: 0 | CG8: 0
C9: P1.7c | D9: P1.2h | E9: P_.2h | F9: =SUMIFS(kommunedata_grunnlag_før_rapportering[Totalt innvilget beløp (Autosummert)],kommunedata_grunnlag_før_rapportering[row_id],prosjekttema_og_tittel[[#This Row],[rowId - prosjektSøknadsbeløp]]) -> 0 | G9: =prosjekttema_og_tittel[[#This Row],[totalt innvilget]]>0 -> FALSE | H9: =IFERROR(IF(INDEX(kommunedata_grunnlag_før_rapportering[Svar / Merknad],MATCH(prosjekttema_og_tittel[[#This Row],[rowId - prosjekttema]],kommunedata_grunnlag_før_rapportering[row_id],0))="Ja",1,0),0) -> 0 | I9: =IF(AND(prosjekttema_og_tittel[[#This Row],[prosjeksøknad har fått innvilgede midler]],prosjekttema_og_tittel[[#This Row],[tema inngår i prosjektsøknad]]=1),1,0) -> 0 | J9: P1.1a | K9: =IFERROR(INDEX(kommunedata_grunnlag_før_rapportering[Svar / Merknad],MATCH(prosjekttema_og_tittel[[#This Row],[rowId - prosjekttittel]],kommunedata_grunnlag_før_rapportering[row_id],0)),"") | N9: 20230131_1325 | O9: Håndtering av prosjektrader dersom søknad ikke har prosjekt | BE9: 22 | BF9: 0 | BG9: 0 | BH9: 0 | BI9: 0 | BJ9: 0 | BK9: 0 | BL9: 0 | BM9: 0 | BN9: 0 | BO9: 0 | BP9: 0 | BQ9: 0 | BR9: 0 | BS9: 0 | BT9: 0 | BU9: 0 | BV9: 0 | BW9: 0 | BX9: 0 | BY9: 0 | BZ9: 0 | CC9: Måloppnåelse (antall ansatte) | CD9: 0 | CE9: 0 | CF9: 0 | CG9: 0
C10: P2.7c | D10: P2.2a | E10: P_.2a | F10: =SUMIFS(kommunedata_grunnlag_før_rapportering[Totalt innvilget beløp (Autosummert)],kommunedata_grunnlag_før_rapportering[row_id],prosjekttema_og_tittel[[#This Row],[rowId - prosjektSøknadsbeløp]]) -> 0 | G10: =prosjekttema_og_tittel[[#This Row],[totalt innvilget]]>0 -> FALSE | H10: =IFERROR(IF(INDEX(kommunedata_grunnlag_før_rapportering[Svar / Merknad],MATCH(prosjekttema_og_tittel[[#This Row],[rowId - prosjekttema]],kommunedata_grunnlag_før_rapportering[row_id],0))="Ja",1,0),0) -> 0 | I10: =IF(AND(prosjekttema_og_tittel[[#This Row],[prosjeksøknad har fått innvilgede midler]],prosjekttema_og_tittel[[#This Row],[tema inngår i prosjektsøknad]]=1),1,0) -> 0 | J10: P2.1a | K10: =IFERROR(INDEX(kommunedata_grunnlag_før_rapportering[Svar / Merknad],MATCH(prosjekttema_og_tittel[[#This Row],[rowId - prosjekttittel]],kommunedata_grunnlag_før_rapportering[row_id],0)),"") | N10: 20230203_1035 | O10: Skjuler utdata-fane siden denne likevel kan hentes inn vha power query | BE10: 23 | BF10: 0 | BG10: 0 | BH10: 0 | BI10: 0 | BJ10: 0 | BK10: 0 | BL10: 0 | BM10: 0 | BN10: 0 | BO10: 0 | BP10: 0 | BQ10: 0 | BR10: 0 | BS10: 0 | BT10: 0 | BU10: 0 | BV10: 0 | BW10: 0 | BX10: 0 | BY10: 0 | BZ10: 0 | CC10: Måloppnåelse (antall ansatte) | CD10: 0 | CE10: 0 | CF10: 0 | CG10: 0
C11: P2.7c | D11: P2.2b | E11: P_.2b | F11: =SUMIFS(kommunedata_grunnlag_før_rapportering[Totalt innvilget beløp (Autosummert)],kommunedata_grunnlag_før_rapportering[row_id],prosjekttema_og_tittel[[#This Row],[rowId - prosjektSøknadsbeløp]]) -> 0 | G11: =prosjekttema_og_tittel[[#This Row],[totalt innvilget]]>0 -> FALSE | H11: =IFERROR(IF(INDEX(kommunedata_grunnlag_før_rapportering[Svar / Merknad],MATCH(prosjekttema_og_tittel[[#This Row],[rowId - prosjekttema]],kommunedata_grunnlag_før_rapportering[row_id],0))="Ja",1,0),0) -> 0 | I11: =IF(AND(prosjekttema_og_tittel[[#This Row],[prosjeksøknad har fått innvilgede midler]],prosjekttema_og_tittel[[#This Row],[tema inngår i prosjektsøknad]]=1),1,0) -> 0 | J11: P2.1a | K11: =IFERROR(INDEX(kommunedata_grunnlag_før_rapportering[Svar / Merknad],MATCH(prosjekttema_og_tittel[[#This Row],[rowId - prosjekttittel]],kommunedata_grunnlag_før_rapportering[row_id],0)),"") | N11: 20230203_1255 | O11: Fikser at måloppnåelse for BPA ikke kom med i utdataene | Z11: 1 | AA11: {=kommunedata_grunnlag_før_rapportering[]} -> 0 | AB11: 0 | AC11: 0 | AD11: 0 | AE11: 0 | AF11: 0 | AG11: 0 | AH11: 0 | AI11: 0 | AJ11: 0 | AK11: 0 | AL11: 0 | AM11: 0 | AN11: 0 | AO11: 0 | AP11: 0 | AQ11: 0 | AR11: 0 | AS11: 0 | AT11: 0 | AU11: 0 | AV11: =IFERROR(INDEX(prosjekttema_og_tittel[tema inngår i prosjektsøknad],MATCH(AD11,prosjekttema_og_tittel[rowId - prosjekttema],0)),"") | AW11: =IFERROR(INDEX(prosjekttema_og_tittel[prosjekttema inngår i prosjektsøknad som har fått innvilgede midler],MATCH(AD11,prosjekttema_og_tittel[rowId - prosjekttema],0)),"") | AX11: =IFERROR(INDEX($T$13:$T$76,MATCH('backend (Ikke rør)'!$AD11,$Q$13:$Q$76,0)),"") -> Måloppnåelse (antall ansatte) | AY11: =IFERROR(INDEX($U$13:$U$76,MATCH('backend (Ikke rør)'!$AD11,$Q$13:$Q$76,0)),"") -> 0 | AZ11: =IFERROR(INDEX($V$13:$V$76,MATCH('backend (Ikke rør)'!$AD11,$Q$13:$Q$76,0)),"") -> 0 | BA11: =IFERROR(INDEX($V$79:$V$107,MATCH('backend (Ikke rør)'!$AD11,$Q$79:$Q$107,0)),"") -> 0 | BB11: =IFERROR(INDEX($W$79:$W$107,MATCH('backend (Ikke rør)'!$AD11,$Q$79:$Q$107,0)),"") -> 0 | BC11: =IF(OR(AD11="1.1.",AD11="1.4.",AD11="1.5.",AD11="1.6."),FALSE,TRUE) -> TRUE | BE11: 24 | BF11: 0 | BG11: 0 | BH11: 0 | BI11: 0 | BJ11: 0 | BK11: 0 | BL11: 0 | BM11: 0 | BN11: 0 | BO11: 0 | BP11: 0 | BQ11: 0 | BR11: 0 | BS11: 0 | BT11: 0 | BU11: 0 | BV11: 0 | BW11: 0 | BX11: 0 | BY11: 0 | BZ11: 0 | CC11: Måloppnåelse (antall ansatte) | CD11: 0 | CE11: 0 | CF11: 0 | CG11: 0
C12: P2.7c | D12: P2.2c | E12: P_.2c | F12: =SUMIFS(kommunedata_grunnlag_før_rapportering[Totalt innvilget beløp (Autosummert)],kommunedata_grunnlag_før_rapportering[row_id],prosjekttema_og_tittel[[#This Row],[rowId - prosjektSøknadsbeløp]]) -> 0 | G12: =prosjekttema_og_tittel[[#This Row],[totalt innvilget]]>0 -> FALSE | H12: =IFERROR(IF(INDEX(kommunedata_grunnlag_før_rapportering[Svar / Merknad],MATCH(prosjekttema_og_tittel[[#This Row],[rowId - prosjekttema]],kommunedata_grunnlag_før_rapportering[row_id],0))="Ja",1,0),0) -> 0 | I12: =IF(AND(prosjekttema_og_tittel[[#This Row],[prosjeksøknad har fått innvilgede midler]],prosjekttema_og_tittel[[#This Row],[tema inngår i prosjektsøknad]]=1),1,0) -> 0 | J12: P2.1a | K12: =IFERROR(INDEX(kommunedata_grunnlag_før_rapportering[Svar / Merknad],MATCH(prosjekttema_og_tittel[[#This Row],[rowId - prosjekttittel]],kommunedata_grunnlag_før_rapportering[row_id],0)),"") | N12: 20230203_1351 | O12: Fikset backend-formel hvor match-type ikke var blitt satt til 0-excact match) | P12: Måloppnåelse kompetansetiltak | Z12: =VALUE(SUBSTITUTE(AD12,".","")) -> #VALUE! | AV12: =IFERROR(INDEX(prosjekttema_og_tittel[tema inngår i prosjektsøknad],MATCH(AD12,prosjekttema_og_tittel[rowId - prosjekttema],0)),"") | AW12: =IFERROR(INDEX(prosjekttema_og_tittel[prosjekttema inngår i prosjektsøknad som har fått innvilgede midler],MATCH(AD12,prosjekttema_og_tittel[rowId - prosjekttema],0)),"") | AX12: =IFERROR(INDEX($T$13:$T$76,MATCH('backend (Ikke rør)'!$AD12,$Q$13:$Q$76,0)),"") -> Måloppnåelse (antall ansatte) | AY12: =IFERROR(INDEX($U$13:$U$76,MATCH('backend (Ikke rør)'!$AD12,$Q$13:$Q$76,0)),"") -> 0 | AZ12: =IFERROR(INDEX($V$13:$V$76,MATCH('backend (Ikke rør)'!$AD12,$Q$13:$Q$76,0)),"") -> 0 | BA12: =IFERROR(INDEX($V$79:$V$107,MATCH('backend (Ikke rør)'!$AD12,$Q$79:$Q$107,0)),"") -> 0 | BB12: =IFERROR(INDEX($W$79:$W$107,MATCH('backend (Ikke rør)'!$AD12,$Q$79:$Q$107,0)),"") -> 0 | BC12: =IF(OR(AD12="1.1.",AD12="1.4.",AD12="1.5.",AD12="1.6."),FALSE,TRUE) -> TRUE | BE12: 25 | BF12: 0 | BG12: 0 | BH12: 0 | BI12: 0 | BJ12: 0 | BK12: 0 | BL12: 0 | BM12: 0 | BN12: 0 | BO12: 0 | BP12: 0 | BQ12: 0 | BR12: 0 | BS12: 0 | BT12: 0 | BU12: 0 | BV12: 0 | BW12: 0 | BX12: 0 | BY12: 0 | BZ12: 0 | CC12: Måloppnåelse (antall ansatte) | CD12: 0 | CE12: 0 | CF12: 0 | CG12: 0
C13: P2.7c | D13: P2.2d | E13: P_.2d | F13: =SUMIFS(kommunedata_grunnlag_før_rapportering[Totalt innvilget beløp (Autosummert)],kommunedata_grunnlag_før_rapportering[row_id],prosjekttema_og_tittel[[#This Row],[rowId - prosjektSøknadsbeløp]]) -> 0 | G13: =prosjekttema_og_tittel[[#This Row],[totalt innvilget]]>0 -> FALSE | H13: =IFERROR(IF(INDEX(kommunedata_grunnlag_før_rapportering[Svar / Merknad],MATCH(prosjekttema_og_tittel[[#This Row],[rowId - prosjekttema]],kommunedata_grunnlag_før_rapportering[row_id],0))="Ja",1,0),0) -> 0 | I13: =IF(AND(prosjekttema_og_tittel[[#This Row],[prosjeksøknad har fått innvilgede midler]],prosjekttema_og_tittel[[#This Row],[tema inngår i prosjektsøknad]]=1),1,0) -> 0 | J13: P2.1a | K13: =IFERROR(INDEX(kommunedata_grunnlag_før_rapportering[Svar / Merknad],MATCH(prosjekttema_og_tittel[[#This Row],[rowId - prosjekttittel]],kommunedata_grunnlag_før_rapportering[row_id],0)),"") | N13: 20230203_1355 | O13: Dropper prosjektrader | Q13: =Rapportering!B9 -> 2. | R13: =Rapportering!C9 -> Kompetansetiltak (grunn-, videre- og etterutdanning) | S13: =Rapportering!D9 -> 0 | T13: =Rapportering!E9 -> 0 | U13: =Rapportering!F9 -> 0 | V13: =Rapportering!G9 -> 0 | W13: =Rapportering!H9 -> 0 | Z13: =VALUE(SUBSTITUTE(AD13,".","")) -> #VALUE! | AV13: =IFERROR(INDEX(prosjekttema_og_tittel[tema inngår i prosjektsøknad],MATCH(AD13,prosjekttema_og_tittel[rowId - prosjekttema],0)),"") | AW13: =IFERROR(INDEX(prosjekttema_og_tittel[prosjekttema inngår i prosjektsøknad som har fått innvilgede midler],MATCH(AD13,prosjekttema_og_tittel[rowId - prosjekttema],0)),"") | AX13: =IFERROR(INDEX($T$13:$T$76,MATCH('backend (Ikke rør)'!$AD13,$Q$13:$Q$76,0)),"") -> Måloppnåelse (antall ansatte) | AY13: =IFERROR(INDEX($U$13:$U$76,MATCH('backend (Ikke rør)'!$AD13,$Q$13:$Q$76,0)),"") -> 0 | AZ13: =IFERROR(INDEX($V$13:$V$76,MATCH('backend (Ikke rør)'!$AD13,$Q$13:$Q$76,0)),"") -> 0 | BA13: =IFERROR(INDEX($V$79:$V$107,MATCH('backend (Ikke rør)'!$AD13,$Q$79:$Q$107,0)),"") -> 0 | BB13: =IFERROR(INDEX($W$79:$W$107,MATCH('backend (Ikke rør)'!$AD13,$Q$79:$Q$107,0)),"") -> 0 | BC13: =IF(OR(AD13="1.1.",AD13="1.4.",AD13="1.5.",AD13="1.6."),FALSE,TRUE) -> TRUE | BE13: 26 | BF13: 0 | BG13: 0 | BH13: 0 | BI13: 0 | BJ13: 0 | BK13: 0 | BL13: 0 | BM13: 0 | BN13: 0 | BO13: 0 | BP13: 0 | BQ13: 0 | BR13: 0 | BS13: 0 | BT13: 0 | BU13: 0 | BV13: 0 | BW13: 0 | BX13: 0 | BY13: 0 | BZ13: 0 | CC13: Måloppnåelse (antall ansatte) | CD13: 0 | CE13: 0 | CF13: 0 | CG13: 0
C14: P2.7c | D14: P2.2e | E14: P_.2e | F14: =SUMIFS(kommunedata_grunnlag_før_rapportering[Totalt innvilget beløp (Autosummert)],kommunedata_grunnlag_før_rapportering[row_id],prosjekttema_og_tittel[[#This Row],[rowId - prosjektSøknadsbeløp]]) -> 0 | G14: =prosjekttema_og_tittel[[#This Row],[totalt innvilget]]>0 -> FALSE | H14: =IFERROR(IF(INDEX(kommunedata_grunnlag_før_rapportering[Svar / Merknad],MATCH(prosjekttema_og_tittel[[#This Row],[rowId - prosjekttema]],kommunedata_grunnlag_før_rapportering[row_id],0))="Ja",1,0),0) -> 0 | I14: =IF(AND(prosjekttema_og_tittel[[#This Row],[prosjeksøknad har fått innvilgede midler]],prosjekttema_og_tittel[[#This Row],[tema inngår i prosjektsøknad]]=1),1,0) -> 0 | J14: P2.1a | K14: =IFERROR(INDEX(kommunedata_grunnlag_før_rapportering[Svar / Merknad],MATCH(prosjekttema_og_tittel[[#This Row],[rowId - prosjekttittel]],kommunedata_grunnlag_før_rapportering[row_id],0)),"") | N14: 20230206_1456 | O14: Fjerner en link som ved et uhell var opprettet til en annen fil | Q14: =Rapportering!B10 -> 0 | R14: =Rapportering!C10 -> 0 | S14: =Rapportering!D10 -> 0 | T14: =Rapportering!E10 -> Måloppnåelse (antall ansatte) | U14: =Rapportering!F10 -> 0 | V14: =Rapportering!G10 -> 0 | W14: =Rapportering!H10 -> 0 | Z14: =VALUE(SUBSTITUTE(AD14,".","")) -> #VALUE! | AV14: =IFERROR(INDEX(prosjekttema_og_tittel[tema inngår i prosjektsøknad],MATCH(AD14,prosjekttema_og_tittel[rowId - prosjekttema],0)),"") | AW14: =IFERROR(INDEX(prosjekttema_og_tittel[prosjekttema inngår i prosjektsøknad som har fått innvilgede midler],MATCH(AD14,prosjekttema_og_tittel[rowId - prosjekttema],0)),"") | AX14: =IFERROR(INDEX($T$13:$T$76,MATCH('backend (Ikke rør)'!$AD14,$Q$13:$Q$76,0)),"") -> Måloppnåelse (antall ansatte) | AY14: =IFERROR(INDEX($U$13:$U$76,MATCH('backend (Ikke rør)'!$AD14,$Q$13:$Q$76,0)),"") -> 0 | AZ14: =IFERROR(INDEX($V$13:$V$76,MATCH('backend (Ikke rør)'!$AD14,$Q$13:$Q$76,0)),"") -> 0 | BA14: =IFERROR(INDEX($V$79:$V$107,MATCH('backend (Ikke rør)'!$AD14,$Q$79:$Q$107,0)),"") -> 0 | BB14: =IFERROR(INDEX($W$79:$W$107,MATCH('backend (Ikke rør)'!$AD14,$Q$79:$Q$107,0)),"") -> 0 | BC14: =IF(OR(AD14="1.1.",AD14="1.4.",AD14="1.5.",AD14="1.6."),FALSE,TRUE) -> TRUE | BE14: 27 | BF14: 0 | BG14: 0 | BH14: 0 | BI14: 0 | BJ14: 0 | BK14: 0 | BL14: 0 | BM14: 0 | BN14: 0 | BO14: 0 | BP14: 0 | BQ14: 0 | BR14: 0 | BS14: 0 | BT14: 0 | BU14: 0 | BV14: 0 | BW14: 0 | BX14: 0 | BY14: 0 | BZ14: 0 | CC14: Måloppnåelse (antall ansatte) | CD14: 0 | CE14: 0 | CF14: 0 | CG14: 0
C15: P2.7c | D15: P2.2f | E15: P_.2f | F15: =SUMIFS(kommunedata_grunnlag_før_rapportering[Totalt innvilget beløp (Autosummert)],kommunedata_grunnlag_før_rapportering[row_id],prosjekttema_og_tittel[[#This Row],[rowId - prosjektSøknadsbeløp]]) -> 0 | G15: =prosjekttema_og_tittel[[#This Row],[totalt innvilget]]>0 -> FALSE | H15: =IFERROR(IF(INDEX(kommunedata_grunnlag_før_rapportering[Svar / Merknad],MATCH(prosjekttema_og_tittel[[#This Row],[rowId - prosjekttema]],kommunedata_grunnlag_før_rapportering[row_id],0))="Ja",1,0),0) -> 0 | I15: =IF(AND(prosjekttema_og_tittel[[#This Row],[prosjeksøknad har fått innvilgede midler]],prosjekttema_og_tittel[[#This Row],[tema inngår i prosjektsøknad]]=1),1,0) -> 0 | J15: P2.1a | K15: =IFERROR(INDEX(kommunedata_grunnlag_før_rapportering[Svar / Merknad],MATCH(prosjekttema_og_tittel[[#This Row],[rowId - prosjekttittel]],kommunedata_grunnlag_før_rapportering[row_id],0)),"") | N15: 20230207_1307 | O15: Fikser feil der noe i backend var hardkodet, men egentlig skulle være referanser | Q15: =Rapportering!B11 -> 0 | R15: =Rapportering!C11 -> 0 | S15: =Rapportering!D11 -> Antall personer innvilget | T15: =Rapportering!E11 -> Fullført utdanning | U15: =Rapportering!F11 -> Under utdanning, men ikke fullført | V15: =Rapportering!G11 -> Samlet antall fullførte og under utdanning | W15: =Rapportering!H11 -> 0 | Z15: =VALUE(SUBSTITUTE(AD15,".","")) -> #VALUE! | AV15: =IFERROR(INDEX(prosjekttema_og_tittel[tema inngår i prosjektsøknad],MATCH(AD15,prosjekttema_og_tittel[rowId - prosjekttema],0)),"") | AW15: =IFERROR(INDEX(prosjekttema_og_tittel[prosjekttema inngår i prosjektsøknad som har fått innvilgede midler],MATCH(AD15,prosjekttema_og_tittel[rowId - prosjekttema],0)),"") | AX15: =IFERROR(INDEX($T$13:$T$76,MATCH('backend (Ikke rør)'!$AD15,$Q$13:$Q$76,0)),"") -> Måloppnåelse (antall ansatte) | AY15: =IFERROR(INDEX($U$13:$U$76,MATCH('backend (Ikke rør)'!$AD15,$Q$13:$Q$76,0)),"") -> 0 | AZ15: =IFERROR(INDEX($V$13:$V$76,MATCH('backend (Ikke rør)'!$AD15,$Q$13:$Q$76,0)),"") -> 0 | BA15: =IFERROR(INDEX($V$79:$V$107,MATCH('backend (Ikke rør)'!$AD15,$Q$79:$Q$107,0)),"") -> 0 | BB15: =IFERROR(INDEX($W$79:$W$107,MATCH('backend (Ikke rør)'!$AD15,$Q$79:$Q$107,0)),"") -> 0 | BC15: =IF(OR(AD15="1.1.",AD15="1.4.",AD15="1.5.",AD15="1.6."),FALSE,TRUE) -> TRUE | BE15: 28 | BF15: 0 | BG15: 0 | BH15: 0 | BI15: 0 | BJ15: 0 | BK15: 0 | BL15: 0 | BM15: 0 | BN15: 0 | BO15: 0 | BP15: 0 | BQ15: 0 | BR15: 0 | BS15: 0 | BT15: 0 | BU15: 0 | BV15: 0 | BW15: 0 | BX15: 0 | BY15: 0 | BZ15: 0 | CC15: Måloppnåelse (antall ansatte) | CD15: 0 | CE15: 0 | CF15: 0 | CG15: 0
C16: P2.7c | D16: P2.2g | E16: P_.2g | F16: =SUMIFS(kommunedata_grunnlag_før_rapportering[Totalt innvilget beløp (Autosummert)],kommunedata_grunnlag_før_rapportering[row_id],prosjekttema_og_tittel[[#This Row],[rowId - prosjektSøknadsbeløp]]) -> 0 | G16: =prosjekttema_og_tittel[[#This Row],[totalt innvilget]]>0 -> FALSE | H16: =IFERROR(IF(INDEX(kommunedata_grunnlag_før_rapportering[Svar / Merknad],MATCH(prosjekttema_og_tittel[[#This Row],[rowId - prosjekttema]],kommunedata_grunnlag_før_rapportering[row_id],0))="Ja",1,0),0) -> 0 | I16: =IF(AND(prosjekttema_og_tittel[[#This Row],[prosjeksøknad har fått innvilgede midler]],prosjekttema_og_tittel[[#This Row],[tema inngår i prosjektsøknad]]=1),1,0) -> 0 | J16: P2.1a | K16: =IFERROR(INDEX(kommunedata_grunnlag_før_rapportering[Svar / Merknad],MATCH(prosjekttema_og_tittel[[#This Row],[rowId - prosjekttittel]],kommunedata_grunnlag_før_rapportering[row_id],0)),"") | N16: 20230207_1329 | O16: PROD | Q16: =Rapportering!B12 -> 2.1. | R16: =Rapportering!C12 -> Videregående skole, fag- og yrkesopplæring innen helse (fagbrev) | S16: =Rapportering!D12 -> 0 | T16: =Rapportering!E12 -> 0 | U16: =Rapportering!F12 -> 0 | V16: =Rapportering!G12 -> 0 | W16: =Rapportering!H12 -> 0 | Z16: =VALUE(SUBSTITUTE(AD16,".","")) -> #VALUE! | AV16: =IFERROR(INDEX(prosjekttema_og_tittel[tema inngår i prosjektsøknad],MATCH(AD16,prosjekttema_og_tittel[rowId - prosjekttema],0)),"") | AW16: =IFERROR(INDEX(prosjekttema_og_tittel[prosjekttema inngår i prosjektsøknad som har fått innvilgede midler],MATCH(AD16,prosjekttema_og_tittel[rowId - prosjekttema],0)),"") | AX16: =IFERROR(INDEX($T$13:$T$76,MATCH('backend (Ikke rør)'!$AD16,$Q$13:$Q$76,0)),"") -> Måloppnåelse (antall ansatte) | AY16: =IFERROR(INDEX($U$13:$U$76,MATCH('backend (Ikke rør)'!$AD16,$Q$13:$Q$76,0)),"") -> 0 | AZ16: =IFERROR(INDEX($V$13:$V$76,MATCH('backend (Ikke rør)'!$AD16,$Q$13:$Q$76,0)),"") -> 0 | BA16: =IFERROR(INDEX($V$79:$V$107,MATCH('backend (Ikke rør)'!$AD16,$Q$79:$Q$107,0)),"") -> 0 | BB16: =IFERROR(INDEX($W$79:$W$107,MATCH('backend (Ikke rør)'!$AD16,$Q$79:$Q$107,0)),"") -> 0 | BC16: =IF(OR(AD16="1.1.",AD16="1.4.",AD16="1.5.",AD16="1.6."),FALSE,TRUE) -> TRUE | BE16: 29 | BF16: 0 | BG16: 0 | BH16: 0 | BI16: 0 | BJ16: 0 | BK16: 0 | BL16: 0 | BM16: 0 | BN16: 0 | BO16: 0 | BP16: 0 | BQ16: 0 | BR16: 0 | BS16: 0 | BT16: 0 | BU16: 0 | BV16: 0 | BW16: 0 | BX16: 0 | BY16: 0 | BZ16: 0 | CC16: Måloppnåelse (antall ansatte) | CD16: 0 | CE16: 0 | CF16: 0 | CG16: 0
C17: P2.7c | D17: P2.2h | E17: P_.2h | F17: =SUMIFS(kommunedata_grunnlag_før_rapportering[Totalt innvilget beløp (Autosummert)],kommunedata_grunnlag_før_rapportering[row_id],prosjekttema_og_tittel[[#This Row],[rowId - prosjektSøknadsbeløp]]) -> 0 | G17: =prosjekttema_og_tittel[[#This Row],[totalt innvilget]]>0 -> FALSE | H17: =IFERROR(IF(INDEX(kommunedata_grunnlag_før_rapportering[Svar / Merknad],MATCH(prosjekttema_og_tittel[[#This Row],[rowId - prosjekttema]],kommunedata_grunnlag_før_rapportering[row_id],0))="Ja",1,0),0) -> 0 | I17: =IF(AND(prosjekttema_og_tittel[[#This Row],[prosjeksøknad har fått innvilgede midler]],prosjekttema_og_tittel[[#This Row],[tema inngår i prosjektsøknad]]=1),1,0) -> 0 | J17: P2.1a | K17: =IFERROR(INDEX(kommunedata_grunnlag_før_rapportering[Svar / Merknad],MATCH(prosjekttema_og_tittel[[#This Row],[rowId - prosjekttittel]],kommunedata_grunnlag_før_rapportering[row_id],0)),"") | Q17: =Rapportering!B13 -> 2.1a | R17: =Rapportering!C13 -> #N/A | S17: =Rapportering!D13 -> #N/A | T17: =Rapportering!E13 -> 0 | U17: =Rapportering!F13 -> 0 | V17: =Rapportering!G13 -> 0 | W17: =Rapportering!H13 -> 0 | Z17: =VALUE(SUBSTITUTE(AD17,".","")) -> #VALUE! | AV17: =IFERROR(INDEX(prosjekttema_og_tittel[tema inngår i prosjektsøknad],MATCH(AD17,prosjekttema_og_tittel[rowId - prosjekttema],0)),"") | AW17: =IFERROR(INDEX(prosjekttema_og_tittel[prosjekttema inngår i prosjektsøknad som har fått innvilgede midler],MATCH(AD17,prosjekttema_og_tittel[rowId - prosjekttema],0)),"") | AX17: =IFERROR(INDEX($T$13:$T$76,MATCH('backend (Ikke rør)'!$AD17,$Q$13:$Q$76,0)),"") -> Måloppnåelse (antall ansatte) | AY17: =IFERROR(INDEX($U$13:$U$76,MATCH('backend (Ikke rør)'!$AD17,$Q$13:$Q$76,0)),"") -> 0 | AZ17: =IFERROR(INDEX($V$13:$V$76,MATCH('backend (Ikke rør)'!$AD17,$Q$13:$Q$76,0)),"") -> 0 | BA17: =IFERROR(INDEX($V$79:$V$107,MATCH('backend (Ikke rør)'!$AD17,$Q$79:$Q$107,0)),"") -> 0 | BB17: =IFERROR(INDEX($W$79:$W$107,MATCH('backend (Ikke rør)'!$AD17,$Q$79:$Q$107,0)),"") -> 0 | BC17: =IF(OR(AD17="1.1.",AD17="1.4.",AD17="1.5.",AD17="1.6."),FALSE,TRUE) -> TRUE | BE17: 30 | BF17: 0 | BG17: 0 | BH17: 0 | BI17: 0 | BJ17: 0 | BK17: 0 | BL17: 0 | BM17: 0 | BN17: 0 | BO17: 0 | BP17: 0 | BQ17: 0 | BR17: 0 | BS17: 0 | BT17: 0 | BU17: 0 | BV17: 0 | BW17: 0 | BX17: 0 | BY17: 0 | BZ17: 0 | CC17: Måloppnåelse (antall ansatte) | CD17: 0 | CE17: 0 | CF17: 0 | CG17: 0
C18: P3.7c | D18: P3.2a | E18: P_.2a | F18: =SUMIFS(kommunedata_grunnlag_før_rapportering[Totalt innvilget beløp (Autosummert)],kommunedata_grunnlag_før_rapportering[row_id],prosjekttema_og_tittel[[#This Row],[rowId - prosjektSøknadsbeløp]]) -> 0 | G18: =prosjekttema_og_tittel[[#This Row],[totalt innvilget]]>0 -> FALSE | H18: =IFERROR(IF(INDEX(kommunedata_grunnlag_før_rapportering[Svar / Merknad],MATCH(prosjekttema_og_tittel[[#This Row],[rowId - prosjekttema]],kommunedata_grunnlag_før_rapportering[row_id],0))="Ja",1,0),0) -> 0 | I18: =IF(AND(prosjekttema_og_tittel[[#This Row],[prosjeksøknad har fått innvilgede midler]],prosjekttema_og_tittel[[#This Row],[tema inngår i prosjektsøknad]]=1),1,0) -> 0 | J18: P3.1a | K18: =IFERROR(INDEX(kommunedata_grunnlag_før_rapportering[Svar / Merknad],MATCH(prosjekttema_og_tittel[[#This Row],[rowId - prosjekttittel]],kommunedata_grunnlag_før_rapportering[row_id],0)),"") | Q18: =Rapportering!B14 -> 2.1b | R18: =Rapportering!C14 -> #N/A | S18: =Rapportering!D14 -> #N/A | T18: =Rapportering!E14 -> 0 | U18: =Rapportering!F14 -> 0 | V18: =Rapportering!G14 -> 0 | W18: =Rapportering!H14 -> 0 | Z18: =VALUE(SUBSTITUTE(AD18,".","")) -> #VALUE! | AV18: =IFERROR(INDEX(prosjekttema_og_tittel[tema inngår i prosjektsøknad],MATCH(AD18,prosjekttema_og_tittel[rowId - prosjekttema],0)),"") | AW18: =IFERROR(INDEX(prosjekttema_og_tittel[prosjekttema inngår i prosjektsøknad som har fått innvilgede midler],MATCH(AD18,prosjekttema_og_tittel[rowId - prosjekttema],0)),"") | AX18: =IFERROR(INDEX($T$13:$T$76,MATCH('backend (Ikke rør)'!$AD18,$Q$13:$Q$76,0)),"") -> Måloppnåelse (antall ansatte) | AY18: =IFERROR(INDEX($U$13:$U$76,MATCH('backend (Ikke rør)'!$AD18,$Q$13:$Q$76,0)),"") -> 0 | AZ18: =IFERROR(INDEX($V$13:$V$76,MATCH('backend (Ikke rør)'!$AD18,$Q$13:$Q$76,0)),"") -> 0 | BA18: =IFERROR(INDEX($V$79:$V$107,MATCH('backend (Ikke rør)'!$AD18,$Q$79:$Q$107,0)),"") -> 0 | BB18: =IFERROR(INDEX($W$79:$W$107,MATCH('backend (Ikke rør)'!$AD18,$Q$79:$Q$107,0)),"") -> 0 | BC18: =IF(OR(AD18="1.1.",AD18="1.4.",AD18="1.5.",AD18="1.6."),FALSE,TRUE) -> TRUE | BE18: 31 | BF18: 0 | BG18: 0 | BH18: 0 | BI18: 0 | BJ18: 0 | BK18: 0 | BL18: 0 | BM18: 0 | BN18: 0 | BO18: 0 | BP18: 0 | BQ18: 0 | BR18: 0 | BS18: 0 | BT18: 0 | BU18: 0 | BV18: 0 | BW18: 0 | BX18: 0 | BY18: 0 | BZ18: 0 | CC18: Måloppnåelse (antall ansatte) | CD18: 0 | CE18: 0 | CF18: 0 | CG18: 0
C19: P3.7c | D19: P3.2b | E19: P_.2b | F19: =SUMIFS(kommunedata_grunnlag_før_rapportering[Totalt innvilget beløp (Autosummert)],kommunedata_grunnlag_før_rapportering[row_id],prosjekttema_og_tittel[[#This Row],[rowId - prosjektSøknadsbeløp]]) -> 0 | G19: =prosjekttema_og_tittel[[#This Row],[totalt innvilget]]>0 -> FALSE | H19: =IFERROR(IF(INDEX(kommunedata_grunnlag_før_rapportering[Svar / Merknad],MATCH(prosjekttema_og_tittel[[#This Row],[rowId - prosjekttema]],kommunedata_grunnlag_før_rapportering[row_id],0))="Ja",1,0),0) -> 0 | I19: =IF(AND(prosjekttema_og_tittel[[#This Row],[prosjeksøknad har fått innvilgede midler]],prosjekttema_og_tittel[[#This Row],[tema inngår i prosjektsøknad]]=1),1,0) -> 0 | J19: P3.1a | K19: =IFERROR(INDEX(kommunedata_grunnlag_før_rapportering[Svar / Merknad],MATCH(prosjekttema_og_tittel[[#This Row],[rowId - prosjekttittel]],kommunedata_grunnlag_før_rapportering[row_id],0)),"") | Q19: =Rapportering!B15 -> 0 | R19: =Rapportering!C15 -> Sum (2.1) : | S19: =Rapportering!D15 -> #N/A | T19: =Rapportering!E15 -> 0 | U19: =Rapportering!F15 -> 0 | V19: =Rapportering!G15 -> 0 | W19: =Rapportering!H15 -> 0 | Z19: =VALUE(SUBSTITUTE(AD19,".","")) -> #VALUE! | AV19: =IFERROR(INDEX(prosjekttema_og_tittel[tema inngår i prosjektsøknad],MATCH(AD19,prosjekttema_og_tittel[rowId - prosjekttema],0)),"") | AW19: =IFERROR(INDEX(prosjekttema_og_tittel[prosjekttema inngår i prosjektsøknad som har fått innvilgede midler],MATCH(AD19,prosjekttema_og_tittel[rowId - prosjekttema],0)),"") | AX19: =IFERROR(INDEX($T$13:$T$76,MATCH('backend (Ikke rør)'!$AD19,$Q$13:$Q$76,0)),"") -> Måloppnåelse (antall ansatte) | AY19: =IFERROR(INDEX($U$13:$U$76,MATCH('backend (Ikke rør)'!$AD19,$Q$13:$Q$76,0)),"") -> 0 | AZ19: =IFERROR(INDEX($V$13:$V$76,MATCH('backend (Ikke rør)'!$AD19,$Q$13:$Q$76,0)),"") -> 0 | BA19: =IFERROR(INDEX($V$79:$V$107,MATCH('backend (Ikke rør)'!$AD19,$Q$79:$Q$107,0)),"") -> 0 | BB19: =IFERROR(INDEX($W$79:$W$107,MATCH('backend (Ikke rør)'!$AD19,$Q$79:$Q$107,0)),"") -> 0 | BC19: =IF(OR(AD19="1.1.",AD19="1.4.",AD19="1.5.",AD19="1.6."),FALSE,TRUE) -> TRUE | BE19: 32 | BF19: 0 | BG19: 0 | BH19: 0 | BI19: 0 | BJ19: 0 | BK19: 0 | BL19: 0 | BM19: 0 | BN19: 0 | BO19: 0 | BP19: 0 | BQ19: 0 | BR19: 0 | BS19: 0 | BT19: 0 | BU19: 0 | BV19: 0 | BW19: 0 | BX19: 0 | BY19: 0 | BZ19: 0 | CC19: Måloppnåelse (antall ansatte) | CD19: 0 | CE19: 0 | CF19: 0 | CG19: 0
C20: P3.7c | D20: P3.2c | E20: P_.2c | F20: =SUMIFS(kommunedata_grunnlag_før_rapportering[Totalt innvilget beløp (Autosummert)],kommunedata_grunnlag_før_rapportering[row_id],prosjekttema_og_tittel[[#This Row],[rowId - prosjektSøknadsbeløp]]) -> 0 | G20: =prosjekttema_og_tittel[[#This Row],[totalt innvilget]]>0 -> FALSE | H20: =IFERROR(IF(INDEX(kommunedata_grunnlag_før_rapportering[Svar / Merknad],MATCH(prosjekttema_og_tittel[[#This Row],[rowId - prosjekttema]],kommunedata_grunnlag_før_rapportering[row_id],0))="Ja",1,0),0) -> 0 | I20: =IF(AND(prosjekttema_og_tittel[[#This Row],[prosjeksøknad har fått innvilgede midler]],prosjekttema_og_tittel[[#This Row],[tema inngår i prosjektsøknad]]=1),1,0) -> 0 | J20: P3.1a | K20: =IFERROR(INDEX(kommunedata_grunnlag_før_rapportering[Svar / Merknad],MATCH(prosjekttema_og_tittel[[#This Row],[rowId - prosjekttittel]],kommunedata_grunnlag_før_rapportering[row_id],0)),"") | Q20: =Rapportering!B16 -> 2.2. | R20: =Rapportering!C16 -> Fagskoleutdanning | S20: =Rapportering!D16 -> 0 | T20: =Rapportering!E16 -> 0 | U20: =Rapportering!F16 -> 0 | V20: =Rapportering!G16 -> 0 | W20: =Rapportering!H16 -> 0 | Z20: =VALUE(SUBSTITUTE(AD20,".","")) -> #VALUE! | AV20: =IFERROR(INDEX(prosjekttema_og_tittel[tema inngår i prosjektsøknad],MATCH(AD20,prosjekttema_og_tittel[rowId - prosjekttema],0)),"") | AW20: =IFERROR(INDEX(prosjekttema_og_tittel[prosjekttema inngår i prosjektsøknad som har fått innvilgede midler],MATCH(AD20,prosjekttema_og_tittel[rowId - prosjekttema],0)),"") | AX20: =IFERROR(INDEX($T$13:$T$76,MATCH('backend (Ikke rør)'!$AD20,$Q$13:$Q$76,0)),"") -> Måloppnåelse (antall ansatte) | AY20: =IFERROR(INDEX($U$13:$U$76,MATCH('backend (Ikke rør)'!$AD20,$Q$13:$Q$76,0)),"") -> 0 | AZ20: =IFERROR(INDEX($V$13:$V$76,MATCH('backend (Ikke rør)'!$AD20,$Q$13:$Q$76,0)),"") -> 0 | BA20: =IFERROR(INDEX($V$79:$V$107,MATCH('backend (Ikke rør)'!$AD20,$Q$79:$Q$107,0)),"") -> 0 | BB20: =IFERROR(INDEX($W$79:$W$107,MATCH('backend (Ikke rør)'!$AD20,$Q$79:$Q$107,0)),"") -> 0 | BC20: =IF(OR(AD20="1.1.",AD20="1.4.",AD20="1.5.",AD20="1.6."),FALSE,TRUE) -> TRUE | BE20: 33 | BF20: 0 | BG20: 0 | BH20: 0 | BI20: 0 | BJ20: 0 | BK20: 0 | BL20: 0 | BM20: 0 | BN20: 0 | BO20: 0 | BP20: 0 | BQ20: 0 | BR20: 0 | BS20: 0 | BT20: 0 | BU20: 0 | BV20: 0 | BW20: 0 | BX20: 0 | BY20: 0 | BZ20: 0 | CC20: Måloppnåelse (antall ansatte) | CD20: 0 | CE20: 0 | CF20: 0 | CG20: 0
C21: P3.7c | D21: P3.2d | E21: P_.2d | F21: =SUMIFS(kommunedata_grunnlag_før_rapportering[Totalt innvilget beløp (Autosummert)],kommunedata_grunnlag_før_rapportering[row_id],prosjekttema_og_tittel[[#This Row],[rowId - prosjektSøknadsbeløp]]) -> 0 | G21: =prosjekttema_og_tittel[[#This Row],[totalt innvilget]]>0 -> FALSE | H21: =IFERROR(IF(INDEX(kommunedata_grunnlag_før_rapportering[Svar / Merknad],MATCH(prosjekttema_og_tittel[[#This Row],[rowId - prosjekttema]],kommunedata_grunnlag_før_rapportering[row_id],0))="Ja",1,0),0) -> 0 | I21: =IF(AND(prosjekttema_og_tittel[[#This Row],[prosjeksøknad har fått innvilgede midler]],prosjekttema_og_tittel[[#This Row],[tema inngår i prosjektsøknad]]=1),1,0) -> 0 | J21: P3.1a | K21: =IFERROR(INDEX(kommunedata_grunnlag_før_rapportering[Svar / Merknad],MATCH(prosjekttema_og_tittel[[#This Row],[rowId - prosjekttittel]],kommunedata_grunnlag_før_rapportering[row_id],0)),"") | Q21: =Rapportering!B17 -> 2.2a | R21: =Rapportering!C17 -> #N/A | S21: =Rapportering!D17 -> #N/A | T21: =Rapportering!E17 -> 0 | U21: =Rapportering!F17 -> 0 | V21: =Rapportering!G17 -> 0 | W21: =Rapportering!H17 -> 0 | Z21: 20 | AV21: =IFERROR(INDEX(prosjekttema_og_tittel[tema inngår i prosjektsøknad],MATCH(AD21,prosjekttema_og_tittel[rowId - prosjekttema],0)),"") | AW21: =IFERROR(INDEX(prosjekttema_og_tittel[prosjekttema inngår i prosjektsøknad som har fått innvilgede midler],MATCH(AD21,prosjekttema_og_tittel[rowId - prosjekttema],0)),"") | AX21: =IFERROR(INDEX($T$13:$T$76,MATCH('backend (Ikke rør)'!$AD21,$Q$13:$Q$76,0)),"") -> Måloppnåelse (antall ansatte) | AY21: =IFERROR(INDEX($U$13:$U$76,MATCH('backend (Ikke rør)'!$AD21,$Q$13:$Q$76,0)),"") -> 0 | AZ21: =IFERROR(INDEX($V$13:$V$76,MATCH('backend (Ikke rør)'!$AD21,$Q$13:$Q$76,0)),"") -> 0 | BA21: =IFERROR(INDEX($V$79:$V$107,MATCH('backend (Ikke rør)'!$AD21,$Q$79:$Q$107,0)),"") -> 0 | BB21: =IFERROR(INDEX($W$79:$W$107,MATCH('backend (Ikke rør)'!$AD21,$Q$79:$Q$107,0)),"") -> 0 | BC21: =IF(OR(AD21="1.1.",AD21="1.4.",AD21="1.5.",AD21="1.6."),FALSE,TRUE) -> TRUE | BE21: 34 | BF21: 0 | BG21: 0 | BH21: 0 | BI21: 0 | BJ21: 0 | BK21: 0 | BL21: 0 | BM21: 0 | BN21: 0 | BO21: 0 | BP21: 0 | BQ21: 0 | BR21: 0 | BS21: 0 | BT21: 0 | BU21: 0 | BV21: 0 | BW21: 0 | BX21: 0 | BY21: 0 | BZ21: 0 | CC21: Måloppnåelse (antall ansatte) | CD21: 0 | CE21: 0 | CF21: 0 | CG21: 0
C22: P3.7c | D22: P3.2e | E22: P_.2e | F22: =SUMIFS(kommunedata_grunnlag_før_rapportering[Totalt innvilget beløp (Autosummert)],kommunedata_grunnlag_før_rapportering[row_id],prosjekttema_og_tittel[[#This Row],[rowId - prosjektSøknadsbeløp]]) -> 0 | G22: =prosjekttema_og_tittel[[#This Row],[totalt innvilget]]>0 -> FALSE | H22: =IFERROR(IF(INDEX(kommunedata_grunnlag_før_rapportering[Svar / Merknad],MATCH(prosjekttema_og_tittel[[#This Row],[rowId - prosjekttema]],kommunedata_grunnlag_før_rapportering[row_id],0))="Ja",1,0),0) -> 0 | I22: =IF(AND(prosjekttema_og_tittel[[#This Row],[prosjeksøknad har fått innvilgede midler]],prosjekttema_og_tittel[[#This Row],[tema inngår i prosjektsøknad]]=1),1,0) -> 0 | J22: P3.1a | K22: =IFERROR(INDEX(kommunedata_grunnlag_før_rapportering[Svar / Merknad],MATCH(prosjekttema_og_tittel[[#This Row],[rowId - prosjekttittel]],kommunedata_grunnlag_før_rapportering[row_id],0)),"") | Q22: =Rapportering!B18 -> 2.2b | R22: =Rapportering!C18 -> #N/A | S22: =Rapportering!D18 -> #N/A | T22: =Rapportering!E18 -> 0 | U22: =Rapportering!F18 -> 0 | V22: =Rapportering!G18 -> 0 | W22: =Rapportering!H18 -> 0 | Z22: 21 | AV22: =IFERROR(INDEX(prosjekttema_og_tittel[tema inngår i prosjektsøknad],MATCH(AD22,prosjekttema_og_tittel[rowId - prosjekttema],0)),"") | AW22: =IFERROR(INDEX(prosjekttema_og_tittel[prosjekttema inngår i prosjektsøknad som har fått innvilgede midler],MATCH(AD22,prosjekttema_og_tittel[rowId - prosjekttema],0)),"") | AX22: =IFERROR(INDEX($T$13:$T$76,MATCH('backend (Ikke rør)'!$AD22,$Q$13:$Q$76,0)),"") -> Måloppnåelse (antall ansatte) | AY22: =IFERROR(INDEX($U$13:$U$76,MATCH('backend (Ikke rør)'!$AD22,$Q$13:$Q$76,0)),"") -> 0 | AZ22: =IFERROR(INDEX($V$13:$V$76,MATCH('backend (Ikke rør)'!$AD22,$Q$13:$Q$76,0)),"") -> 0 | BA22: =IFERROR(INDEX($V$79:$V$107,MATCH('backend (Ikke rør)'!$AD22,$Q$79:$Q$107,0)),"") -> 0 | BB22: =IFERROR(INDEX($W$79:$W$107,MATCH('backend (Ikke rør)'!$AD22,$Q$79:$Q$107,0)),"") -> 0 | BC22: =IF(OR(AD22="1.1.",AD22="1.4.",AD22="1.5.",AD22="1.6."),FALSE,TRUE) -> TRUE | BE22: 35 | BF22: 0 | BG22: 0 | BH22: 0 | BI22: 0 | BJ22: 0 | BK22: 0 | BL22: 0 | BM22: 0 | BN22: 0 | BO22: 0 | BP22: 0 | BQ22: 0 | BR22: 0 | BS22: 0 | BT22: 0 | BU22: 0 | BV22: 0 | BW22: 0 | BX22: 0 | BY22: 0 | BZ22: 0 | CC22: Måloppnåelse (antall ansatte) | CD22: 0 | CE22: 0 | CF22: 0 | CG22: 0
C23: P3.7c | D23: P3.2f | E23: P_.2f | F23: =SUMIFS(kommunedata_grunnlag_før_rapportering[Totalt innvilget beløp (Autosummert)],kommunedata_grunnlag_før_rapportering[row_id],prosjekttema_og_tittel[[#This Row],[rowId - prosjektSøknadsbeløp]]) -> 0 | G23: =prosjekttema_og_tittel[[#This Row],[totalt innvilget]]>0 -> FALSE | H23: =IFERROR(IF(INDEX(kommunedata_grunnlag_før_rapportering[Svar / Merknad],MATCH(prosjekttema_og_tittel[[#This Row],[rowId - prosjekttema]],kommunedata_grunnlag_før_rapportering[row_id],0))="Ja",1,0),0) -> 0 | I23: =IF(AND(prosjekttema_og_tittel[[#This Row],[prosjeksøknad har fått innvilgede midler]],prosjekttema_og_tittel[[#This Row],[tema inngår i prosjektsøknad]]=1),1,0) -> 0 | J23: P3.1a | K23: =IFERROR(INDEX(kommunedata_grunnlag_før_rapportering[Svar / Merknad],MATCH(prosjekttema_og_tittel[[#This Row],[rowId - prosjekttittel]],kommunedata_grunnlag_før_rapportering[row_id],0)),"") | Q23: =Rapportering!B19 -> 2.2c | R23: =Rapportering!C19 -> #N/A | S23: =Rapportering!D19 -> #N/A | T23: =Rapportering!E19 -> 0 | U23: =Rapportering!F19 -> 0 | V23: =Rapportering!G19 -> 0 | W23: =Rapportering!H19 -> 0 | Z23: 22 | AV23: =IFERROR(INDEX(prosjekttema_og_tittel[tema inngår i prosjektsøknad],MATCH(AD23,prosjekttema_og_tittel[rowId - prosjekttema],0)),"") | AW23: =IFERROR(INDEX(prosjekttema_og_tittel[prosjekttema inngår i prosjektsøknad som har fått innvilgede midler],MATCH(AD23,prosjekttema_og_tittel[rowId - prosjekttema],0)),"") | AX23: =IFERROR(INDEX($T$13:$T$76,MATCH('backend (Ikke rør)'!$AD23,$Q$13:$Q$76,0)),"") -> Måloppnåelse (antall ansatte) | AY23: =IFERROR(INDEX($U$13:$U$76,MATCH('backend (Ikke rør)'!$AD23,$Q$13:$Q$76,0)),"") -> 0 | AZ23: =IFERROR(INDEX($V$13:$V$76,MATCH('backend (Ikke rør)'!$AD23,$Q$13:$Q$76,0)),"") -> 0 | BA23: =IFERROR(INDEX($V$79:$V$107,MATCH('backend (Ikke rør)'!$AD23,$Q$79:$Q$107,0)),"") -> 0 | BB23: =IFERROR(INDEX($W$79:$W$107,MATCH('backend (Ikke rør)'!$AD23,$Q$79:$Q$107,0)),"") -> 0 | BC23: =IF(OR(AD23="1.1.",AD23="1.4.",AD23="1.5.",AD23="1.6."),FALSE,TRUE) -> TRUE | BE23: 36 | BF23: 0 | BG23: 0 | BH23: 0 | BI23: 0 | BJ23: 0 | BK23: 0 | BL23: 0 | BM23: 0 | BN23: 0 | BO23: 0 | BP23: 0 | BQ23: 0 | BR23: 0 | BS23: 0 | BT23: 0 | BU23: 0 | BV23: 0 | BW23: 0 | BX23: 0 | BY23: 0 | BZ23: 0 | CC23: Måloppnåelse (antall ansatte) | CD23: 0 | CE23: 0 | CF23: 0 | CG23: 0
C24: P3.7c | D24: P3.2g | E24: P_.2g | F24: =SUMIFS(kommunedata_grunnlag_før_rapportering[Totalt innvilget beløp (Autosummert)],kommunedata_grunnlag_før_rapportering[row_id],prosjekttema_og_tittel[[#This Row],[rowId - prosjektSøknadsbeløp]]) -> 0 | G24: =prosjekttema_og_tittel[[#This Row],[totalt innvilget]]>0 -> FALSE | H24: =IFERROR(IF(INDEX(kommunedata_grunnlag_før_rapportering[Svar / Merknad],MATCH(prosjekttema_og_tittel[[#This Row],[rowId - prosjekttema]],kommunedata_grunnlag_før_rapportering[row_id],0))="Ja",1,0),0) -> 0 | I24: =IF(AND(prosjekttema_og_tittel[[#This Row],[prosjeksøknad har fått innvilgede midler]],prosjekttema_og_tittel[[#This Row],[tema inngår i prosjektsøknad]]=1),1,0) -> 0 | J24: P3.1a | K24: =IFERROR(INDEX(kommunedata_grunnlag_før_rapportering[Svar / Merknad],MATCH(prosjekttema_og_tittel[[#This Row],[rowId - prosjekttittel]],kommunedata_grunnlag_før_rapportering[row_id],0)),"") | Q24: =Rapportering!B20 -> 2.2d | R24: =Rapportering!C20 -> #N/A | S24: =Rapportering!D20 -> #N/A | T24: =Rapportering!E20 -> 0 | U24: =Rapportering!F20 -> 0 | V24: =Rapportering!G20 -> 0 | W24: =Rapportering!H20 -> 0 | Z24: 23 | AV24: =IFERROR(INDEX(prosjekttema_og_tittel[tema inngår i prosjektsøknad],MATCH(AD24,prosjekttema_og_tittel[rowId - prosjekttema],0)),"") | AW24: =IFERROR(INDEX(prosjekttema_og_tittel[prosjekttema inngår i prosjektsøknad som har fått innvilgede midler],MATCH(AD24,prosjekttema_og_tittel[rowId - prosjekttema],0)),"") | AX24: =IFERROR(INDEX($T$13:$T$76,MATCH('backend (Ikke rør)'!$AD24,$Q$13:$Q$76,0)),"") -> Måloppnåelse (antall ansatte) | AY24: =IFERROR(INDEX($U$13:$U$76,MATCH('backend (Ikke rør)'!$AD24,$Q$13:$Q$76,0)),"") -> 0 | AZ24: =IFERROR(INDEX($V$13:$V$76,MATCH('backend (Ikke rør)'!$AD24,$Q$13:$Q$76,0)),"") -> 0 | BA24: =IFERROR(INDEX($V$79:$V$107,MATCH('backend (Ikke rør)'!$AD24,$Q$79:$Q$107,0)),"") -> 0 | BB24: =IFERROR(INDEX($W$79:$W$107,MATCH('backend (Ikke rør)'!$AD24,$Q$79:$Q$107,0)),"") -> 0 | BC24: =IF(OR(AD24="1.1.",AD24="1.4.",AD24="1.5.",AD24="1.6."),FALSE,TRUE) -> TRUE | BE24: 37 | BF24: 0 | BG24: 0 | BH24: 0 | BI24: 0 | BJ24: 0 | BK24: 0 | BL24: 0 | BM24: 0 | BN24: 0 | BO24: 0 | BP24: 0 | BQ24: 0 | BR24: 0 | BS24: 0 | BT24: 0 | BU24: 0 | BV24: 0 | BW24: 0 | BX24: 0 | BY24: 0 | BZ24: 0 | CC24: Måloppnåelse (antall ansatte) | CD24: 0 | CE24: 0 | CF24: 0 | CG24: 0
