Workbook

Sheet Bare for statsforvalteren
A1: Denne fanen skal bare brukes av statsforvalteren
B3: INSTRUKSJON - Lim inn rapporteringsdata
B16: Kommune | C16: header_lvl | D16: row_type_id | E16: row_id | F16: kommune_id | G16: category | H16: section | I16: row_id_visible | J16: Utdannelse / Kurs | K16: Videreføring: Antall personer | L16: Antall nye personer | M16: Totalt antall personer det søkes for | N16: Ubrukte midler som ønskes overført | O16: Søknads- beløp | P16: Totalt beløp det søkes om til tiltaket | Q16: Ubrukte midler som tilbakebetales | R16: Svar / Merknad | S16: Antall personer innvilget | T16: Innvilget overføring av ubrukte | U16: Innvilget tilskudd til utbetaling | V16: Totalt innvilget beløp (Autosummert)

Sheet Rapportering
E1: rapporteringsskjema, versjon: | F1: {=INDEX(versjon[versjon],MATCH(MAX(COUNTIF(versjon[versjon],"<"&versjon[versjon])),COUNTIF(versjon[versjon],"<"&versjon[versjon]),0))} -> 20230207_1329
B2: 1. | C2: Informasjon om kommunen
B3: 1.1. | C3: Navn på kommunen | D3: =INDEX(kommunedata_grunnlag_før_rapportering[Svar / Merknad],MATCH(B3,kommunedata_grunnlag_før_rapportering[row_id],0)) -> #N/A
B4: 1.4. | C4: Kontaktperson | D4: =INDEX(kommunedata_grunnlag_før_rapportering[Svar / Merknad],MATCH(B4,kommunedata_grunnlag_før_rapportering[row_id],0)) -> #N/A
B5: 1.5. | C5: E-post | D5: =INDEX(kommunedata_grunnlag_før_rapportering[Svar / Merknad],MATCH(B5,kommunedata_grunnlag_før_rapportering[row_id],0)) -> #N/A
B6: 1.6. | C6: Telefon | D6: =INDEX(kommunedata_grunnlag_før_rapportering[Svar / Merknad],MATCH(B6,kommunedata_grunnlag_før_rapportering[row_id],0)) -> #N/A
B9: 2. | C9: Kompetansetiltak (grunn-, videre- og etterutdanning)
E10: Måloppnåelse (antall ansatte)
D11: Antall personer innvilget | E11: Fullført utdanning | F11: Under utdanning, men ikke fullført | G11: Samlet antall fullførte og under utdanning
B12: 2.1. | C12: Videregående skole, fag- og yrkesopplæring innen helse (fagbrev)
B13: 2.1a | C13: =INDEX(kommunedata_grunnlag_før_rapportering[Utdannelse / Kurs],MATCH(B13,kommunedata_grunnlag_før_rapportering[row_id],0)) -> #N/A | D13: =INDEX(kommunedata_grunnlag_før_rapportering[Antall personer innvilget],MATCH(B13,kommunedata_grunnlag_før_rapportering[row_id],0)) -> #N/A | G13: =SUM(E13:F13) -> 0
B14: 2.1b | C14: =INDEX(kommunedata_grunnlag_før_rapportering[Utdannelse / Kurs],MATCH(B14,kommunedata_grunnlag_før_rapportering[row_id],0)) -> #N/A | D14: =INDEX(kommunedata_grunnlag_før_rapportering[Antall personer innvilget],MATCH(B14,kommunedata_grunnlag_før_rapportering[row_id],0)) -> #N/A | G14: =SUM(E14:F14) -> 0
C15: Sum (2.1) : | D15: =SUM(D13:D14) -> #N/A | E15: =SUM(E13:E14) -> 0 | F15: =SUM(F13:F14) -> 0 | G15: =SUM(G13:G14) -> 0
B16: 2.2. | C16: Fagskoleutdanning
B17: 2.2a | C17: =INDEX(kommunedata_grunnlag_før_rapportering[Utdannelse / Kurs],MATCH(B17,kommunedata_grunnlag_før_rapportering[row_id],0)) -> #N/A | D17: =INDEX(kommunedata_grunnlag_før_rapportering[Antall personer innvilget],MATCH(B17,kommunedata_grunnlag_før_rapportering[row_id],0)) -> #N/A | G17: =SUM(E17:F17) -> 0
B18: 2.2b | C18: =INDEX(kommunedata_grunnlag_før_rapportering[Utdannelse / Kurs],MATCH(B18,kommunedata_grunnlag_før_rapportering[row_id],0)) -> #N/A | D18: =INDEX(kommunedata_grunnlag_før_rapportering[Antall personer innvilget],MATCH(B18,kommunedata_grunnlag_før_rapportering[row_id],0)) -> #N/A | G18: =SUM(E18:F18) -> 0
B19: 2.2c | C19: =INDEX(kommunedata_grunnlag_før_rapportering[Utdannelse / Kurs],MATCH(B19,kommunedata_grunnlag_før_rapportering[row_id],0)) -> #N/A | D19: =INDEX(kommunedata_grunnlag_før_rapportering[Antall personer innvilget],MATCH(B19,kommunedata_grunnlag_før_rapportering[row_id],0)) -> #N/A | G19: =SUM(E19:F19) -> 0
B20: 2.2d | C20: =INDEX(kommunedata_grunnlag_før_rapportering[Utdannelse / Kurs],MATCH(B20,kommunedata_grunnlag_før_rapportering[row_id],0)) -> #N/A | D20: =INDEX(kommunedata_grunnlag_før_rapportering[Antall personer innvilget],MATCH(B20,kommunedata_grunnlag_før_rapportering[row_id],0)) -> #N/A | G20: =SUM(E20:F20) -> 0
B21: 2.2e | C21: =INDEX(kommunedata_grunnlag_før_rapportering[Utdannelse / Kurs],MATCH(B21,kommunedata_grunnlag_før_rapportering[row_id],0)) -> #N/A | D21: =INDEX(kommunedata_grunnlag_før_rapportering[Antall personer innvilget],MATCH(B21,kommunedata_grunnlag_før_rapportering[row_id],0)) -> #N/A | G21: =SUM(E21:F21) -> 0
B22: 2.2f | C22: =INDEX(kommunedata_grunnlag_før_rapportering[Utdannelse / Kurs],MATCH(B22,kommunedata_grunnlag_før_rapportering[row_id],0)) -> #N/A | D22: =INDEX(kommunedata_grunnlag_før_rapportering[Antall personer innvilget],MATCH(B22,kommunedata_grunnlag_før_rapportering[row_id],0)) -> #N/A | G22: =SUM(E22:F22) -> 0
C23: Sum (2.2) : | D23: =SUM(D17:D22) -> #N/A | E23: =SUM(E17:E22) -> 0 | F23: =SUM(F17:F22) -> 0 | G23: =SUM(G17:G22) -> 0
B24: 2.3. | C24: Bachelorutdanning helse- og sosialfag
B25: 2.3a | C25: =INDEX(kommunedata_grunnlag_før_rapportering[Utdannelse / Kurs],MATCH(B25,kommunedata_grunnlag_før_rapportering[row_id],0)) -> #N/A | D25: =INDEX(kommunedata_grunnlag_før_rapportering[Antall personer innvilget],MATCH(B25,kommunedata_grunnlag_før_rapportering[row_id],0)) -> #N/A | G25: =SUM(E25:F25) -> 0
B26: 2.3b | C26: =INDEX(kommunedata_grunnlag_før_rapportering[Utdannelse / Kurs],MATCH(B26,kommunedata_grunnlag_før_rapportering[row_id],0)) -> #N/A | D26: =INDEX(kommunedata_grunnlag_før_rapportering[Antall personer innvilget],MATCH(B26,kommunedata_grunnlag_før_rapportering[row_id],0)) -> #N/A | G26: =SUM(E26:F26) -> 0
B27: 2.3c | C27: =INDEX(kommunedata_grunnlag_før_rapportering[Utdannelse / Kurs],MATCH(B27,kommunedata_grunnlag_før_rapportering[row_id],0)) -> #N/A | D27: =INDEX(kommunedata_grunnlag_før_rapportering[Antall personer innvilget],MATCH(B27,kommunedata_grunnlag_før_rapportering[row_id],0)) -> #N/A | G27: =SUM(E27:F27) -> 0
B28: 2.3d | C28: =INDEX(kommunedata_grunnlag_før_rapportering[Utdannelse / Kurs],MATCH(B28,kommunedata_grunnlag_før_rapportering[row_id],0)) -> #N/A | D28: =INDEX(kommunedata_grunnlag_før_rapportering[Antall personer innvilget],MATCH(B28,kommunedata_grunnlag_før_rapportering[row_id],0)) -> #N/A | G28: =SUM(E28:F28) -> 0
B29: 2.3e | C29: =INDEX(kommunedata_grunnlag_før_rapportering[Utdannelse / Kurs],MATCH(B29,kommunedata_grunnlag_før_rapportering[row_id],0)) -> #N/A | D29: =INDEX(kommunedata_grunnlag_før_rapportering[Antall personer innvilget],MATCH(B29,kommunedata_grunnlag_før_rapportering[row_id],0)) -> #N/A | G29: =SUM(E29:F29) -> 0
B30: 2.3f | C30: =INDEX(kommunedata_grunnlag_før_rapportering[Utdannelse / Kurs],MATCH(B30,kommunedata_grunnlag_før_rapportering[row_id],0)) -> #N/A | D30: =INDEX(kommunedata_grunnlag_før_rapportering[Antall personer innvilget],MATCH(B30,kommunedata_grunnlag_før_rapportering[row_id],0)) -> #N/A | G30: =SUM(E30:F30) -> 0
B31: 2.3g | C31: =INDEX(kommunedata_grunnlag_før_rapportering[Utdannelse / Kurs],MATCH(B31,kommunedata_grunnlag_før_rapportering[row_id],0)) -> #N/A | D31: =INDEX(kommunedata_grunnlag_før_rapportering[Antall personer innvilget],MATCH(B31,kommunedata_grunnlag_før_rapportering[row_id],0)) -> #N/A | G31: =SUM(E31:F31) -> 0
B32: 2.3h | C32: =INDEX(kommunedata_grunnlag_før_rapportering[Utdannelse / Kurs],MATCH(B32,kommunedata_grunnlag_før_rapportering[row_id],0)) -> #N/A | D32: =INDEX(kommunedata_grunnlag_før_rapportering[Antall personer innvilget],MATCH(B32,kommunedata_grunnlag_før_rapportering[row_id],0)) -> #N/A | G32: =SUM(E32:F32) -> 0
B33: 2.3i | C33: =INDEX(kommunedata_grunnlag_før_rapportering[Utdannelse / Kurs],MATCH(B33,kommunedata_grunnlag_før_rapportering[row_id],0)) -> #N/A | D33: =INDEX(kommunedata_grunnlag_før_rapportering[Antall personer innvilget],MATCH(B33,kommunedata_grunnlag_før_rapportering[row_id],0)) -> #N/A | G33: =SUM(E33:F33) -> 0
C34: Sum (2.3) : | D34: =SUM(D25:D33) -> #N/A | E34: =SUM(E25:E33) -> 0 | F34: =SUM(F25:F33) -> 0 | G34: =SUM(G25:G33) -> 0
E35: Måloppnåelse (antall ansatte)
D36: Antall personer innvilget | E36: Fullført utdanning | F36: Under utdanning, men ikke fullført | G36: Samlet antall fullførte og under utdanning
B37: 2.4. | C37: Videreutdanning og mastergradutdanning (påbygg bachelorutdanning)
B38: 2.4a | C38: =INDEX(kommunedata_grunnlag_før_rapportering[Utdannelse / Kurs],MATCH(B38,kommunedata_grunnlag_før_rapportering[row_id],0)) -> #N/A | D38: =INDEX(kommunedata_grunnlag_før_rapportering[Antall personer innvilget],MATCH(B38,kommunedata_grunnlag_før_rapportering[row_id],0)) -> #N/A | G38: =SUM(E38:F38) -> 0
B39: 2.4b | C39: =INDEX(kommunedata_grunnlag_før_rapportering[Utdannelse / Kurs],MATCH(B39,kommunedata_grunnlag_før_rapportering[row_id],0)) -> #N/A | D39: =INDEX(kommunedata_grunnlag_før_rapportering[Antall personer innvilget],MATCH(B39,kommunedata_grunnlag_før_rapportering[row_id],0)) -> #N/A | G39: =SUM(E39:F39) -> 0
B40: 2.4c | C40: =INDEX(kommunedata_grunnlag_før_rapportering[Utdannelse / Kurs],MATCH(B40,kommunedata_grunnlag_før_rapportering[row_id],0)) -> #N/A | D40: =INDEX(kommunedata_grunnlag_før_rapportering[Antall personer innvilget],MATCH(B40,kommunedata_grunnlag_før_rapportering[row_id],0)) -> #N/A | G40: =SUM(E40:F40) -> 0
B41: 2.4d | C41: =INDEX(kommunedata_grunnlag_før_rapportering[Utdannelse / Kurs],MATCH(B41,kommunedata_grunnlag_før_rapportering[row_id],0)) -> #N/A | D41: =INDEX(kommunedata_grunnlag_før_rapportering[Antall personer innvilget],MATCH(B41,kommunedata_grunnlag_før_rapportering[row_id],0)) -> #N/A | G41: =SUM(E41:F41) -> 0
B42: 2.4e | C42: =INDEX(kommunedata_grunnlag_før_rapportering[Utdannelse / Kurs],MATCH(B42,kommunedata_grunnlag_før_rapportering[row_id],0)) -> #N/A | D42: =INDEX(kommunedata_grunnlag_før_rapportering[Antall personer innvilget],MATCH(B42,kommunedata_grunnlag_før_rapportering[row_id],0)) -> #N/A | G42: =SUM(E42:F42) -> 0
B43: 2.4f | C43: =INDEX(kommunedata_grunnlag_før_rapportering[Utdannelse / Kurs],MATCH(B43,kommunedata_grunnlag_før_rapportering[row_id],0)) -> #N/A | D43: =INDEX(kommunedata_grunnlag_før_rapportering[Antall personer innvilget],MATCH(B43,kommunedata_grunnlag_før_rapportering[row_id],0)) -> #N/A | G43: =SUM(E43:F43) -> 0
B44: 2.4g | C44: =INDEX(kommunedata_grunnlag_før_rapportering[Utdannelse / Kurs],MATCH(B44,kommunedata_grunnlag_før_rapportering[row_id],0)) -> #N/A | D44: =INDEX(kommunedata_grunnlag_før_rapportering[Antall personer innvilget],MATCH(B44,kommunedata_grunnlag_før_rapportering[row_id],0)) -> #N/A | G44: =SUM(E44:F44) -> 0
B45: 2.4h | C45: =INDEX(kommunedata_grunnlag_før_rapportering[Utdannelse / Kurs],MATCH(B45,kommunedata_grunnlag_før_rapportering[row_id],0)) -> #N/A | D45: =INDEX(kommunedata_grunnlag_før_rapportering[Antall personer innvilget],MATCH(B45,kommunedata_grunnlag_før_rapportering[row_id],0)) -> #N/A | G45: =SUM(E45:F45) -> 0
C46: Sum (2.4) : | D46: =SUM(D38:D45) -> #N/A | E46: =SUM(E38:E45) -> 0 | F46: =SUM(F38:F45) -> 0 | G46: =SUM(G38:G45) -> 0
B47: 2.5. | C47: ABC-opplæring
B48: 2.5a | C48: =INDEX(kommunedata_grunnlag_før_rapportering[Utdannelse / Kurs],MATCH(B48,kommunedata_grunnlag_før_rapportering[row_id],0)) -> #N/A | D48: =INDEX(kommunedata_grunnlag_før_rapportering[Antall personer innvilget],MATCH(B48,kommunedata_grunnlag_før_rapportering[row_id],0)) -> #N/A | G48: =SUM(E48:F48) -> 0
B49: 2.5b | C49: =INDEX(kommunedata_grunnlag_før_rapportering[Utdannelse / Kurs],MATCH(B49,kommunedata_grunnlag_før_rapportering[row_id],0)) -> #N/A | D49: =INDEX(kommunedata_grunnlag_før_rapportering[Antall personer innvilget],MATCH(B49,kommunedata_grunnlag_før_rapportering[row_id],0)) -> #N/A | G49: =SUM(E49:F49) -> 0
B50: 2.5c | C50: =INDEX(kommunedata_grunnlag_før_rapportering[Utdannelse / Kurs],MATCH(B50,kommunedata_grunnlag_før_rapportering[row_id],0)) -> #N/A | D50: =INDEX(kommunedata_grunnlag_før_rapportering[Antall personer innvilget],MATCH(B50,kommunedata_grunnlag_før_rapportering[row_id],0)) -> #N/A | G50: =SUM(E50:F50) -> 0
B51: 2.5d | C51: =INDEX(kommunedata_grunnlag_før_rapportering[Utdannelse / Kurs],MATCH(B51,kommunedata_grunnlag_før_rapportering[row_id],0)) -> #N/A | D51: =INDEX(kommunedata_grunnlag_før_rapportering[Antall personer innvilget],MATCH(B51,kommunedata_grunnlag_før_rapportering[row_id],0)) -> #N/A | G51: =SUM(E51:F51) -> 0
B52: 2.5e | C52: =INDEX(kommunedata_grunnlag_før_rapportering[Utdannelse / Kurs],MATCH(B52,kommunedata_grunnlag_før_rapportering[row_id],0)) -> #N/A | D52: =INDEX(kommunedata_grunnlag_før_rapportering[Antall personer innvilget],MATCH(B52,kommunedata_grunnlag_før_rapportering[row_id],0)) -> #N/A | G52: =SUM(E52:F52) -> 0
C53: Sum (2.5) : | D53: =SUM(D48:D52) -> #N/A | E53: =SUM(E48:E52) -> 0 | F53: =SUM(F48:F52) -> 0 | G53: =SUM(G48:G52) -> 0
B54: 2.6. | C54: Annen internopplæring / korte etterutdanninger /kurs mv.
B55: 2.6a | C55: =INDEX(kommunedata_grunnlag_før_rapportering[Utdannelse / Kurs],MATCH(B55,kommunedata_grunnlag_før_rapportering[row_id],0)) -> #N/A | D55: =INDEX(kommunedata_grunnlag_før_rapportering[Antall personer innvilget],MATCH(B55,kommunedata_grunnlag_før_rapportering[row_id],0)) -> #N/A | G55: =SUM(E55:F55) -> 0
B56: 2.6b | C56: =INDEX(kommunedata_grunnlag_før_rapportering[Utdannelse / Kurs],MATCH(B56,kommunedata_grunnlag_før_rapportering[row_id],0)) -> #N/A | D56: =INDEX(kommunedata_grunnlag_før_rapportering[Antall personer innvilget],MATCH(B56,kommunedata_grunnlag_før_rapportering[row_id],0)) -> #N/A | G56: =SUM(E56:F56) -> 0
B57: 2.6c | C57: =INDEX(kommunedata_grunnlag_før_rapportering[Utdannelse / Kurs],MATCH(B57,kommunedata_grunnlag_før_rapportering[row_id],0)) -> #N/A | D57: =INDEX(kommunedata_grunnlag_før_rapportering[Antall personer innvilget],MATCH(B57,kommunedata_grunnlag_før_rapportering[row_id],0)) -> #N/A | G57: =SUM(E57:F57) -> 0
C58: Sum (2.6) : | D58: =SUM(D55:D57) -> #N/A | E58: =SUM(E55:E57) -> 0 | F58: =SUM(F55:F57) -> 0 | G58: =SUM(G55:G57) -> 0
B59: 2.7. | C59: Andre kompetansehevende tiltak med midler direkte fra statsforvalteren | H59: Beskrivelse av tiltaket og hva tilskuddet har gått til.
B60: 2.7a | C60: (Ikke for kommuner) | G60: =SUM(E60:F60) -> 0
B61: 2.7b | C61: (Ikke for kommuner) | G61: =SUM(E61:F61) -> 0
B62: 2.7c | C62: (Ikke for kommuner) | G62: =SUM(E62:F62) -> 0
C63: Sum (2.7) : | D63: =SUM(D60:D62) -> 0 | E63: =SUM(E60:E62) -> 0 | F63: =SUM(F60:F62) -> 0 | G63: =SUM(G60:G62) -> 0
C64: Total måloppnåelse kompetansetiltak | D64: =D15+D23+D34+D46+D53+D58 -> #N/A | E64: =E15+E23+E34+E46+E53+E58 -> 0 | F64: =F15+F23+F34+F46+F53+F58 -> 0 | G64: =G15+G23+G34+G46+G53+G58 -> 0
C65: Tilskudd til Kompetansetiltak
D66: Økonomirapportering
D67: Totalt søkt tilskudd | E67: Utbetalt tilskudd 2023 | F67: Totalt innvilget tilskudd | G67: Ubenyttet beløp
B68: 2.1. | C68: Videregående skole, fag- og yrkesopplæring innen helse (fagbrev) | D68: =SUMIFS(kommunedata_grunnlag_før_rapportering[Totalt beløp det søkes om til tiltaket],kommunedata_grunnlag_før_rapportering[section],$C68) -> 0 | E68: =SUMIFS(kommunedata_grunnlag_før_rapportering[Innvilget tilskudd til utbetaling],kommunedata_grunnlag_før_rapportering[section],$C68) -> 0 | F68: =SUMIFS(kommunedata_grunnlag_før_rapportering[Totalt innvilget beløp (Autosummert)],kommunedata_grunnlag_før_rapportering[section],$C68) -> 0
B69: 2.2. | C69: Fagskoleutdanning | D69: =SUMIFS(kommunedata_grunnlag_før_rapportering[Totalt beløp det søkes om til tiltaket],kommunedata_grunnlag_før_rapportering[section],$C69) -> 0 | E69: =SUMIFS(kommunedata_grunnlag_før_rapportering[Innvilget tilskudd til utbetaling],kommunedata_grunnlag_før_rapportering[section],$C69) -> 0 | F69: =SUMIFS(kommunedata_grunnlag_før_rapportering[Totalt innvilget beløp (Autosummert)],kommunedata_grunnlag_før_rapportering[section],$C69) -> 0
B70: 2.3. | C70: Bachelorutdanning helse- og sosialfag | D70: =SUMIFS(kommunedata_grunnlag_før_rapportering[Totalt beløp det søkes om til tiltaket],kommunedata_grunnlag_før_rapportering[section],$C70) -> 0 | E70: =SUMIFS(kommunedata_grunnlag_før_rapportering[Innvilget tilskudd til utbetaling],kommunedata_grunnlag_før_rapportering[section],$C70) -> 0 | F70: =SUMIFS(kommunedata_grunnlag_før_rapportering[Totalt innvilget beløp (Autosummert)],kommunedata_grunnlag_før_rapportering[section],$C70) -> 0
B71: 2.4. | C71: Videreutdanning og mastergradutdanning (påbygg bachelorutdanning) | D71: =SUMIFS(kommunedata_grunnlag_før_rapportering[Totalt beløp det søkes om til tiltaket],kommunedata_grunnlag_før_rapportering[section],$C71) -> 0 | E71: =SUMIFS(kommunedata_grunnlag_før_rapportering[Innvilget tilskudd til utbetaling],kommunedata_grunnlag_før_rapportering[section],$C71) -> 0 | F71: =SUMIFS(kommunedata_grunnlag_før_rapportering[Totalt innvilget beløp (Autosummert)],kommunedata_grunnlag_før_rapportering[section],$C71) -> 0
B72: 2.5. | C72: ABC-opplæring | D72: =SUMIFS(kommunedata_grunnlag_før_rapportering[Totalt beløp det søkes om til tiltaket],kommunedata_grunnlag_før_rapportering[section],$C72) -> 0 | E72: =SUMIFS(kommunedata_grunnlag_før_rapportering[Innvilget tilskudd til utbetaling],kommunedata_grunnlag_før_rapportering[section],$C72) -> 0 | F72: =SUMIFS(kommunedata_grunnlag_før_rapportering[Totalt innvilget beløp (Autosummert)],kommunedata_grunnlag_før_rapportering[section],$C72) -> 0
B73: 2.6. | C73: Annen internopplæring / korte etterutdanninger /kurs mv. | D73: =SUMIFS(kommunedata_grunnlag_før_rapportering[Totalt beløp det søkes om til tiltaket],kommunedata_grunnlag_før_rapportering[section],$C73) -> 0 | E73: =SUMIFS(kommunedata_grunnlag_før_rapportering[Innvilget tilskudd til utbetaling],kommunedata_grunnlag_før_rapportering[section],$C73) -> 0 | F73: =SUMIFS(kommunedata_grunnlag_før_rapportering[Totalt innvilget beløp (Autosummert)],kommunedata_grunnlag_før_rapportering[section],$C73) -> 0
B74: 2.7. | C74: Andre kompetansehevende tiltak med midler direkte fra statsforvalteren
C75: Sum kompetansetiltak: | D75: =SUM(D68:D74) -> 0 | E75: =SUM(E68:E74) -> 0 | F75: =SUM(F68:F74) -> 0 | G75: =SUM(G68:G74) -> 0
C79: Opplæringstilskudd BPA (brukerstyrt personlig assistanse)
E80: =$E$10 -> Måloppnåelse (antall ansatte)
D81: Antall personer innvilget | E81: Fullført opplæring | F81: Under opplæring, men ikke fullført | G81: Samlet antall fullførte og under opplæring
B82: 3.1. | C82: =INDEX(kommunedata_grunnlag_før_rapportering[Utdannelse / Kurs],MATCH(B82,kommunedata_grunnlag_før_rapportering[row_id],0)) -> #N/A | D82: =INDEX(kommunedata_grunnlag_før_rapportering[Antall personer innvilget],MATCH(B82,kommunedata_grunnlag_før_rapportering[row_id],0)) -> #N/A | G82: =SUM(E82:F82) -> 0
B83: 3.2. | C83: =INDEX(kommunedata_grunnlag_før_rapportering[Utdannelse / Kurs],MATCH(B83,kommunedata_grunnlag_før_rapportering[row_id],0)) -> #N/A | D83: =INDEX(kommunedata_grunnlag_før_rapportering[Antall personer innvilget],MATCH(B83,kommunedata_grunnlag_før_rapportering[row_id],0)) -> #N/A | G83: =SUM(E83:F83) -> 0
B84: 3.3. | C84: =INDEX(kommunedata_grunnlag_før_rapportering[Utdannelse / Kurs],MATCH(B84,kommunedata_grunnlag_før_rapportering[row_id],0)) -> #N/A | D84: =INDEX(kommunedata_grunnlag_før_rapportering[Antall personer innvilget],MATCH(B84,kommunedata_grunnlag_før_rapportering[row_id],0)) -> #N/A | G84: =SUM(E84:F84) -> 0
D85: =SUM(D82:D84) -> #N/A | E85: =SUM(E82:E84) -> 0 | F85: =SUM(F82:F84) -> 0 | G85: =SUM(G82:G84) -> 0
C86: Tilskudd BPA
D87: Økonomirapportering
D88: Totalt søkt tilskudd | E88: Utbetalt tilskudd 2023 | F88: Totalt innvilget tilskudd | G88: Ubenyttet beløp
B89: 3. | D89: =SUMIFS(kommunedata_grunnlag_før_rapportering[Totalt beløp det søkes om til tiltaket],kommunedata_grunnlag_før_rapportering[category],$C79) -> 0 | E89: =SUMIFS(kommunedata_grunnlag_før_rapportering[Innvilget tilskudd til utbetaling],kommunedata_grunnlag_før_rapportering[category],$C79) -> 0 | F89: =SUMIFS(kommunedata_grunnlag_før_rapportering[Totalt innvilget beløp (Autosummert)],kommunedata_grunnlag_før_rapportering[category],$C79) -> 0
B93: 4. | C93: Innovasjonsprosjekter
B94: 4.1. | C94: Prosjekttema | D94: Antall prosjektsøknader hvor tema inngår | F94: Antall prosjektsøknader med innvilgede midler hvor tema inngår
D95: Merk: Flere tema kan inngå i et prosjekt | F95: Merk: Flere tema kan inngå i et prosjekt
B96: P_.2a | C96: Heltid og faste stillinger | D96: =SUMIFS(prosjekttema_og_tittel[tema inngår i prosjektsøknad],prosjekttema_og_tittel[rowTypeId - prosjekttema],B96) -> 0 | F96: =SUMIFS(prosjekttema_og_tittel[prosjekttema inngår i prosjektsøknad som har fått innvilgede midler],prosjekttema_og_tittel[rowTypeId - prosjekttema],B96) -> 0
B97: P_.2b | C97: Brukermedvirkning og samspill med pårørende | D97: =SUMIFS(prosjekttema_og_tittel[tema inngår i prosjektsøknad],prosjekttema_og_tittel[rowTypeId - prosjekttema],B97) -> 0 | F97: =SUMIFS(prosjekttema_og_tittel[prosjekttema inngår i prosjektsøknad som har fått innvilgede midler],prosjekttema_og_tittel[rowTypeId - prosjekttema],B97) -> 0
B98: P_.2c | C98: Ledelse og fagutvikling | D98: =SUMIFS(prosjekttema_og_tittel[tema inngår i prosjektsøknad],prosjekttema_og_tittel[rowTypeId - prosjekttema],B98) -> 0 | F98: =SUMIFS(prosjekttema_og_tittel[prosjekttema inngår i prosjektsøknad som har fått innvilgede midler],prosjekttema_og_tittel[rowTypeId - prosjekttema],B98) -> 0
B99: P_.2d | C99: Strategisk kompetanseutvikling og livslang læring | D99: =SUMIFS(prosjekttema_og_tittel[tema inngår i prosjektsøknad],prosjekttema_og_tittel[rowTypeId - prosjekttema],B99) -> 0 | F99: =SUMIFS(prosjekttema_og_tittel[prosjekttema inngår i prosjektsøknad som har fått innvilgede midler],prosjekttema_og_tittel[rowTypeId - prosjekttema],B99) -> 0
B100: P_.2e | C100: Organisering av tjenester og oppgaver med vekt på tverrfaglighet | D100: =SUMIFS(prosjekttema_og_tittel[tema inngår i prosjektsøknad],prosjekttema_og_tittel[rowTypeId - prosjekttema],B100) -> 0 | F100: =SUMIFS(prosjekttema_og_tittel[prosjekttema inngår i prosjektsøknad som har fått innvilgede midler],prosjekttema_og_tittel[rowTypeId - prosjekttema],B100) -> 0
B101: P_.2f | C101: Etablering av praksisplasser | D101: =SUMIFS(prosjekttema_og_tittel[tema inngår i prosjektsøknad],prosjekttema_og_tittel[rowTypeId - prosjekttema],B101) -> 0 | F101: =SUMIFS(prosjekttema_og_tittel[prosjekttema inngår i prosjektsøknad som har fått innvilgede midler],prosjekttema_og_tittel[rowTypeId - prosjekttema],B101) -> 0
B102: P_.2g | C102: Involvering av frivillige, lokalsamfunn og næringsliv. | D102: =SUMIFS(prosjekttema_og_tittel[tema inngår i prosjektsøknad],prosjekttema_og_tittel[rowTypeId - prosjekttema],B102) -> 0 | F102: =SUMIFS(prosjekttema_og_tittel[prosjekttema inngår i prosjektsøknad som har fått innvilgede midler],prosjekttema_og_tittel[rowTypeId - prosjekttema],B102) -> 0
B103: P_.2h | C103: Annet | D103: =SUMIFS(prosjekttema_og_tittel[tema inngår i prosjektsøknad],prosjekttema_og_tittel[rowTypeId - prosjekttema],B103) -> 0 | F103: =SUMIFS(prosjekttema_og_tittel[prosjekttema inngår i prosjektsøknad som har fått innvilgede midler],prosjekttema_og_tittel[rowTypeId - prosjekttema],B103) -> 0
C104: Tilskudd til innovasjonsprosjekter
D105: Økonomirapportering
D106: Totalt søkt tilskudd | E106: Utbetalt tilskudd 2023 | F106: Totalt beløp innvilget | G106: Ubenyttet beløp | H106: Kort oppsummeringer av hvordan prosjektet har gått (2-3 setninger)
B107: P1.7c | C107: =INDEX(prosjekttema_og_tittel[prosjekt],MATCH(B107,prosjekttema_og_tittel[rowId - prosjektSøknadsbeløp],0)) | D107: =SUMIFS(kommunedata_grunnlag_før_rapportering[Totalt beløp det søkes om til tiltaket],kommunedata_grunnlag_før_rapportering[row_id],$B107) -> 0 | E107: =SUMIFS(kommunedata_grunnlag_før_rapportering[Innvilget tilskudd til utbetaling],kommunedata_grunnlag_før_rapportering[row_id],$B107) -> 0 | F107: =SUMIFS(kommunedata_grunnlag_før_rapportering[Totalt innvilget beløp (Autosummert)],kommunedata_grunnlag_før_rapportering[row_id],$B107) -> 0
B108: P2.7c | C108: =INDEX(prosjekttema_og_tittel[prosjekt],MATCH(B108,prosjekttema_og_tittel[rowId - prosjektSøknadsbeløp],0)) | D108: =SUMIFS(kommunedata_grunnlag_før_rapportering[Totalt beløp det søkes om til tiltaket],kommunedata_grunnlag_før_rapportering[row_id],$B108) -> 0 | E108: =SUMIFS(kommunedata_grunnlag_før_rapportering[Innvilget tilskudd til utbetaling],kommunedata_grunnlag_før_rapportering[row_id],$B108) -> 0 | F108: =SUMIFS(kommunedata_grunnlag_før_rapportering[Totalt innvilget beløp (Autosummert)],kommunedata_grunnlag_før_rapportering[row_id],$B108) -> 0
...

Sheet backend (Ikke rør)
C1: rowId - prosjektSøknadsbeløp | D1: rowId - prosjekttema | E1: rowTypeId - prosjekttema | F1: totalt innvilget | G1: prosjeksøknad har fått innvilgede midler | H1: tema inngår i prosjektsøknad | I1: prosjekttema inngår i prosjektsøknad som har fått innvilgede midler | J1: rowId - prosjekttittel | K1: prosjekt | N1: versjon | O1: beskrivelse | Z1: sort order | AA1: Kommune | AB1: header_lvl | AC1: row_type_id | AD1: row_id | AE1: kommune_id | AF1: category | AG1: section | AH1: row_id_visible | AI1: Utdannelse / Kurs | AJ1: Videreføring: Antall personer | AK1: Antall nye personer | AL1: Totalt antall personer det søkes for | AM1: Ubrukte midler som ønskes overført | AN1: Søknads- beløp | AO1: Totalt beløp det søkes om til tiltaket | AP1: Ubrukte midler som tilbakebetales | AQ1: Svar / Merknad i søknaden | AR1: Antall personer innvilget | AS1: Innvilget overføring av ubrukte | AT1: Innvilget tilskudd til utbetaling | AU1: Totalt innvilget beløp (Autosummert) | AV1: prosjekttema inngår i prosjektsøknaden | AW1: prosjekttema inngår i prosjektsøknad som har fått innvilgede midler | AX1: Antall personer fullført utdanning | AY1: Antall personer under utdanning, men ikke fullført | AZ1: Samlet antall personer fullførte og under utdanning | BA1: Ubenyttet beløp | BB1: Svar / Merknad i rapporteringsskjemaet | BE1: =Z1 -> sort order | BF1: =AA1 -> Kommune | BG1: =AB1 -> header_lvl | BH1: =AC1 -> row_type_id | BI1: =AD1 -> row_id | BJ1: =AE1 -> kommune_id | BK1: =AF1 -> category | BL1: =AG1 -> section | ... CG1: =BB1 -> Svar / Merknad i rapporteringsskjemaet
C2: P1.7c | D2: P1.2a | E2: P_.2a | F2: =SUMIFS(kommunedata_grunnlag_før_rapportering[Totalt innvilget beløp (Autosummert)],kommunedata_grunnlag_før_rapportering[row_id],prosjekttema_og_tittel[[#This Row],[rowId - prosjektSøknadsbeløp]]) -> 0 | G2: =prosjekttema_og_tittel[[#This Row],[totalt innvilget]]>0 -> FALSE | H2: =IFERROR(IF(INDEX(kommunedata_grunnlag_før_rapportering[Svar / Merknad],MATCH(prosjekttema_og_tittel[[#This Row],[rowId - prosjekttema]],kommunedata_grunnlag_før_rapportering[row_id],0))="Ja",1,0),0) -> 0 | I2: =IF(AND(prosjekttema_og_tittel[[#This Row],[prosjeksøknad har fått innvilgede midler]],prosjekttema_og_tittel[[#This Row],[tema inngår i prosjektsøknad]]=1),1,0) -> 0 | J2: P1.1a | K2: =IFERROR(INDEX(kommunedata_grunnlag_før_rapportering[Svar / Merknad],MATCH(prosjekttema_og_tittel[[#This Row],[rowId - prosjekttittel]],kommunedata_grunnlag_før_rapportering[row_id],0)),"") | N2: 20221206_0946 | O2: Begynner justering til 2023 | BE2: {=_xlfn._xlws.SORT(_xlfn._xlws.FILTER(Z2:BB700,BC2:BC700 = TRUE))} -> 1 | BF2: 0 | BG2: 0 | BH2: 0 | BI2: 0 | BJ2: 0 | BK2: 0 | BL2: 0 | BM2: 0 | BN2: 0 | BO2: 0 | BP2: 0 | BQ2: 0 | BR2: 0 | BS2: 0 | BT2: 0 | BU2: 0 | BV2: 0 | BW2: 0 | BX2: 0 | BY2: 0 | BZ2: 0 | CC2: Måloppnåelse (antall ansatte) | CD2: 0 | CE2: 0 | CF2: 0 | CG2: 0
C3: P1.7c | D3: P1.2b | E3: P_.2b | F3: =SUMIFS(kommunedata_grunnlag_før_rapportering[Totalt innvilget beløp (Autosummert)],kommunedata_grunnlag_før_rapportering[row_id],prosjekttema_og_tittel[[#This Row],[rowId - prosjektSøknadsbeløp]]) -> 0 | G3: =prosjekttema_og_tittel[[#This Row],[totalt innvilget]]>0 -> FALSE | H3: =IFERROR(IF(INDEX(kommunedata_grunnlag_før_rapportering[Svar / Merknad],MATCH(prosjekttema_og_tittel[[#This Row],[rowId - prosjekttema]],kommunedata_grunnlag_før_rapportering[row_id],0))="Ja",1,0),0) -> 0 | I3: =IF(AND(prosjekttema_og_tittel[[#This Row],[prosjeksøknad har fått innvilgede midler]],prosjekttema_og_tittel[[#This Row],[tema inngår i prosjektsøknad]]=1),1,0) -> 0 | J3: P1.1a | K3: =IFERROR(INDEX(kommunedata_grunnlag_før_rapportering[Svar / Merknad],MATCH(prosjekttema_og_tittel[[#This Row],[rowId - prosjekttittel]],kommunedata_grunnlag_før_rapportering[row_id],0)),"") | N3: 20221206_0952 | O3: Legger til backen output | Z3: 11 | AA3: =Rapportering!$D$3 -> #N/A | AB3: 4 | AC3: 1.1. | AD3: 1.1. | AE3: 0 | AF3: Informasjon om kommunen | AG3: 0 | AH3: 1.1. | AI3: Navn på kommunen | AJ3: 0 | AK3: 0 | AL3: 0 | AM3: 0 | AN3: 0 | AO3: 0 | AP3: 0 | AQ3: =Rapportering!D3 -> #N/A | AR3: 0 | AS3: 0 | AT3: 0 | AU3: 0 | BC3: TRUE | BE3: 11 | BF3: #N/A | BG3: 4 | BH3: 1.1. | BI3: 1.1. | BJ3: 0 | BK3: Informasjon om kommunen | BL3: 0 | BM3: 1.1. | BN3: Navn på kommunen | BO3: 0 | BP3: 0 | BQ3: 0 | BR3: 0 | BS3: 0 | BT3: 0 | BU3: 0 | BV3: #N/A | BW3: 0 | BX3: 0 | BY3: 0 | BZ3: 0 | CA3: 0 | CB3: 0 | CC3: 0 | CD3: 0 | CE3: 0 | CF3: 0 | CG3: 0
C4: P1.7c | D4: P1.2c | E4: P_.2c | F4: =SUMIFS(kommunedata_grunnlag_før_rapportering[Totalt innvilget beløp (Autosummert)],kommunedata_grunnlag_før_rapportering[row_id],prosjekttema_og_tittel[[#This Row],[rowId - prosjektSøknadsbeløp]]) -> 0 | G4: =prosjekttema_og_tittel[[#This Row],[totalt innvilget]]>0 -> FALSE | H4: =IFERROR(IF(INDEX(kommunedata_grunnlag_før_rapportering[Svar / Merknad],MATCH(prosjekttema_og_tittel[[#This Row],[rowId - prosjekttema]],kommunedata_grunnlag_før_rapportering[row_id],0))="Ja",1,0),0) -> 0 | I4: =IF(AND(prosjekttema_og_tittel[[#This Row],[prosjeksøknad har fått innvilgede midler]],prosjekttema_og_tittel[[#This Row],[tema inngår i prosjektsøknad]]=1),1,0) -> 0 | J4: P1.1a | K4: =IFERROR(INDEX(kommunedata_grunnlag_før_rapportering[Svar / Merknad],MATCH(prosjekttema_og_tittel[[#This Row],[rowId - prosjekttittel]],kommunedata_grunnlag_før_rapportering[row_id],0)),"") | N4: 20221206_1133 | O4: Legger til for 9 prosjekt | Z4: 14 | AA4: =Rapportering!$D$3 -> #N/A | AB4: 4 | AC4: 1.4. | AD4: 1.4. | AE4: 0 | AF4: Informasjon om kommunen | AG4: 0 | AH4: 1.4. | AI4: Kontaktperson | AJ4: 0 | AK4: 0 | AL4: 0 | AM4: 0 | AN4: 0 | AO4: 0 | AP4: 0 | AQ4: =Rapportering!D4 -> #N/A | AR4: 0 | AS4: 0 | AT4: 0 | AU4: 0 | BC4: TRUE | BE4: 14 | BF4: #N/A | BG4: 4 | BH4: 1.4. | BI4: 1.4. | BJ4: 0 | BK4: Informasjon om kommunen | BL4: 0 | BM4: 1.4. | BN4: Kontaktperson | BO4: 0 | BP4: 0 | BQ4: 0 | BR4: 0 | BS4: 0 | BT4: 0 | BU4: 0 | BV4: #N/A | BW4: 0 | BX4: 0 | BY4: 0 | BZ4: 0 | CA4: 0 | CB4: 0 | CC4: 0 | CD4: 0 | CE4: 0 | CF4: 0 | CG4: 0
C5: P1.7c | D5: P1.2d | E5: P_.2d | F5: =SUMIFS(kommunedata_grunnlag_før_rapportering[Totalt innvilget beløp (Autosummert)],kommunedata_grunnlag_før_rapportering[row_id],prosjekttema_og_tittel[[#This Row],[rowId - prosjektSøknadsbeløp]]) -> 0 | G5: =prosjekttema_og_tittel[[#This Row],[totalt innvilget]]>0 -> FALSE | H5: =IFERROR(IF(INDEX(kommunedata_grunnlag_før_rapportering[Svar / Merknad],MATCH(prosjekttema_og_tittel[[#This Row],[rowId - prosjekttema]],kommunedata_grunnlag_før_rapportering[row_id],0))="Ja",1,0),0) -> 0 | I5: =IF(AND(prosjekttema_og_tittel[[#This Row],[prosjeksøknad har fått innvilgede midler]],prosjekttema_og_tittel[[#This Row],[tema inngår i prosjektsøknad]]=1),1,0) -> 0 | J5: P1.1a | K5: =IFERROR(INDEX(kommunedata_grunnlag_før_rapportering[Svar / Merknad],MATCH(prosjekttema_og_tittel[[#This Row],[rowId - prosjekttittel]],kommunedata_grunnlag_før_rapportering[row_id],0)),"") | N5: 20221206_1140 | O5: Første test | Z5: 15 | AA5: =Rapportering!$D$3 -> #N/A | AB5: 4 | AC5: 1.5. | AD5: 1.5. | AE5: 0 | AF5: Informasjon om kommunen | AG5: 0 | AH5: 1.5. | AI5: E-post | AJ5: 0 | AK5: 0 | AL5: 0 | AM5: 0 | AN5: 0 | AO5: 0 | AP5: 0 | AQ5: =Rapportering!D5 -> #N/A | AR5: 0 | AS5: 0 | AT5: 0 | AU5: 0 | BC5: TRUE | BE5: 15 | BF5: #N/A | BG5: 4 | BH5: 1.5. | BI5: 1.5. | BJ5: 0 | BK5: Informasjon om kommunen | BL5: 0 | BM5: 1.5. | BN5: E-post | BO5: 0 | BP5: 0 | BQ5: 0 | BR5: 0 | BS5: 0 | BT5: 0 | BU5: 0 | BV5: #N/A | BW5: 0 | BX5: 0 | BY5: 0 | BZ5: 0 | CA5: 0 | CB5: 0 | CC5: 0 | CD5: 0 | CE5: 0 | CF5: 0 | CG5: 0
C6: P1.7c | D6: P1.2e | E6: P_.2e | F6: =SUMIFS(kommunedata_grunnlag_før_rapportering[Totalt innvilget beløp (Autosummert)],kommunedata_grunnlag_før_rapportering[row_id],prosjekttema_og_tittel[[#This Row],[rowId - prosjektSøknadsbeløp]]) -> 0 | G6: =prosjekttema_og_tittel[[#This Row],[totalt innvilget]]>0 -> FALSE | H6: =IFERROR(IF(INDEX(kommunedata_grunnlag_før_rapportering[Svar / Merknad],MATCH(prosjekttema_og_tittel[[#This Row],[rowId - prosjekttema]],kommunedata_grunnlag_før_rapportering[row_id],0))="Ja",1,0),0) -> 0 | I6: =IF(AND(prosjekttema_og_tittel[[#This Row],[prosjeksøknad har fått innvilgede midler]],prosjekttema_og_tittel[[#This Row],[tema inngår i prosjektsøknad]]=1),1,0) -> 0 | J6: P1.1a | K6: =IFERROR(INDEX(kommunedata_grunnlag_før_rapportering[Svar / Merknad],MATCH(prosjekttema_og_tittel[[#This Row],[rowId - prosjekttittel]],kommunedata_grunnlag_før_rapportering[row_id],0)),"") | N6: 20230127_1305 | O6: Fjernet nasjonalt verferdsteknologiprogram | Z6: 16 | AA6: =Rapportering!$D$3 -> #N/A | AB6: 4 | AC6: 1.6. | AD6: 1.6. | AE6: 0 | AF6: Informasjon om kommunen | AG6: 0 | AH6: 1.6. | AI6: Telefon | AJ6: 0 | AK6: 0 | AL6: 0 | AM6: 0 | AN6: 0 | AO6: 0 | AP6: 0 | AQ6: =Rapportering!D6 -> #N/A | AR6: 0 | AS6: 0 | AT6: 0 | AU6: 0 | BC6: TRUE | BE6: 16 | BF6: #N/A | BG6: 4 | BH6: 1.6. | BI6: 1.6. | BJ6: 0 | BK6: Informasjon om kommunen | BL6: 0 | BM6: 1.6. | BN6: Telefon | BO6: 0 | BP6: 0 | BQ6: 0 | BR6: 0 | BS6: 0 | BT6: 0 | BU6: 0 | BV6: #N/A | BW6: 0 | BX6: 0 | BY6: 0 | BZ6: 0 | CA6: 0 | CB6: 0 | CC6: 0 | CD6: 0 | CE6: 0 | CF6: 0 | CG6: 0
C7: P1.7c | D7: P1.2f | E7: P_.2f | F7: =SUMIFS(kommunedata_grunnlag_før_rapportering[Totalt innvilget beløp (Autosummert)],kommunedata_grunnlag_før_rapportering[row_id],prosjekttema_og_tittel[[#This Row],[rowId - prosjektSøknadsbeløp]]) -> 0 | G7: =prosjekttema_og_tittel[[#This Row],[totalt innvilget]]>0 -> FALSE | H7: =IFERROR(IF(INDEX(kommunedata_grunnlag_før_rapportering[Svar / Merknad],MATCH(prosjekttema_og_tittel[[#This Row],[rowId - prosjekttema]],kommunedata_grunnlag_før_rapportering[row_id],0))="Ja",1,0),0) -> 0 | I7: =IF(AND(prosjekttema_og_tittel[[#This Row],[prosjeksøknad har fått innvilgede midler]],prosjekttema_og_tittel[[#This Row],[tema inngår i prosjektsøknad]]=1),1,0) -> 0 | J7: P1.1a | K7: =IFERROR(INDEX(kommunedata_grunnlag_før_rapportering[Svar / Merknad],MATCH(prosjekttema_og_tittel[[#This Row],[rowId - prosjekttittel]],kommunedata_grunnlag_før_rapportering[row_id],0)),"") | N7: 20230130_0001 | O7: Begynt å legge inn bedre utdatafana for rapportering | BE7: 20 | BF7: 0 | BG7: 0 | BH7: 0 | BI7: 0 | BJ7: 0 | BK7: 0 | BL7: 0 | BM7: 0 | BN7: 0 | BO7: 0 | BP7: 0 | BQ7: 0 | BR7: 0 | BS7: 0 | BT7: 0 | BU7: 0 | BV7: 0 | BW7: 0 | BX7: 0 | BY7: 0 | BZ7: 0 | CC7: Måloppnåelse (antall ansatte) | CD7: 0 | CE7: 0 | CF7: 0 | CG7: 0
C8: P1.7c | D8: P1.2g | E8: P_.2g | F8: =SUMIFS(kommunedata_grunnlag_før_rapportering[Totalt innvilget beløp (Autosummert)],kommunedata_grunnlag_før_rapportering[row_id],prosjekttema_og_tittel[[#This Row],[rowId - prosjektSøknadsbeløp]]) -> 0 | G8: =prosjekttema_og_tittel[[#This Row],[totalt innvilget]]>0 -> FALSE | H8: =IFERROR(IF(INDEX(kommunedata_grunnlag_før_rapportering[Svar / Merknad],MATCH(prosjekttema_og_tittel[[#This Row],[rowId - prosjekttema]],kommunedata_grunnlag_før_rapportering[row_id],0))="Ja",1,0),0) -> 0 | I8: =IF(AND(prosjekttema_og_tittel[[#This Row],[prosjeksøknad har fått innvilgede midler]],prosjekttema_og_tittel[[#This Row],[tema inngår i prosjektsøknad]]=1),1,0) -> 0 | J8: P1.1a | K8: =IFERROR(INDEX(kommunedata_grunnlag_før_rapportering[Svar / Merknad],MATCH(prosjekttema_og_tittel[[#This Row],[rowId - prosjekttittel]],kommunedata_grunnlag_før_rapportering[row_id],0)),"") | N8: 20230130_1235 | O8: Lagt til utdata til rapportsammenstilling | BE8: 21 | BF8: 0 | BG8: 0 | BH8: 0 | BI8: 0 | BJ8: 0 | BK8: 0 | BL8: 0 | BM8: 0 | BN8: 0 | BO8: 0 | BP8: 0 | BQ8: 0 | BR8: 0 | BS8: 0 | BT8: 0 | BU8: 0 | BV8: 0 | BW8: 0 | BX8: 0 | BY8: 0 | BZ8: 0 | CC8: Måloppnåelse (antall ansatte) | CD8: 0 | CE8: 0 | CF8: 0 | CG8: 0
C9: P1.7c | D9: P1.2h | E9: P_.2h | F9: =SUMIFS(kommunedata_grunnlag_før_rapportering[Totalt innvilget beløp (Autosummert)],kommunedata_grunnlag_før_rapportering[row_id],prosjekttema_og_tittel[[#This Row],[rowId - prosjektSøknadsbeløp]]) -> 0 | G9: =prosjekttema_og_tittel[[#This Row],[totalt innvilget]]>0 -> FALSE | H9: =IFERROR(IF(INDEX(kommunedata_grunnlag_før_rapportering[Svar / Merknad],MATCH(prosjekttema_og_tittel[[#This Row],[rowId - prosjekttema]],kommunedata_grunnlag_før_rapportering[row_id],0))="Ja",1,0),0) -> 0 | I9: =IF(AND(prosjekttema_og_tittel[[#This Row],[prosjeksøknad har fått innvilgede midler]],prosjekttema_og_tittel[[#This Row],[tema inngår i prosjektsøknad]]=1),1,0) -> 0 | J9: P1.1a | K9: =IFERROR(INDEX(kommunedata_grunnlag_før_rapportering[Svar / Merknad],MATCH(prosjekttema_og_tittel[[#This Row],[rowId - prosjekttittel]],kommunedata_grunnlag_før_rapportering[row_id],0)),"") | N9: 20230131_1325 | O9: Håndtering av prosjektrader dersom søknad ikke har prosjekt | BE9: 22 | BF9: 0 | BG9: 0 | BH9: 0 | BI9: 0 | BJ9: 0 | BK9: 0 | BL9: 0 | BM9: 0 | BN9: 0 | BO9: 0 | BP9: 0 | BQ9: 0 | BR9: 0 | BS9: 0 | BT9: 0 | BU9: 0 | BV9: 0 | BW9: 0 | BX9: 0 | BY9: 0 | BZ9: 0 | CC9: Måloppnåelse (antall ansatte) | CD9: 0 | CE9: 0 | CF9: 0 | CG9: 0
C10: P2.7c | D10: P2.2a | E10: P_.2a | F10: =SUMIFS(kommunedata_grunnlag_før_rapportering[Totalt innvilget beløp (Autosummert)],kommunedata_grunnlag_før_rapportering[row_id],prosjekttema_og_tittel[[#This Row],[rowId - prosjektSøknadsbeløp]]) -> 0 | G10: =prosjekttema_og_tittel[[#This Row],[totalt innvilget]]>0 -> FALSE | H10: =IFERROR(IF(INDEX(kommunedata_grunnlag_før_rapportering[Svar / Merknad],MATCH(prosjekttema_og_tittel[[#This Row],[rowId - prosjekttema]],kommunedata_grunnlag_før_rapportering[row_id],0))="Ja",1,0),0) -> 0 | I10: =IF(AND(prosjekttema_og_tittel[[#This Row],[prosjeksøknad har fått innvilgede midler]],prosjekttema_og_tittel[[#This Row],[tema inngår i prosjektsøknad]]=1),1,0) -> 0 | J10: P2.1a | K10: =IFERROR(INDEX(kommunedata_grunnlag_før_rapportering[Svar / Merknad],MATCH(prosjekttema_og_tittel[[#This Row],[rowId - prosjekttittel]],kommunedata_grunnlag_før_rapportering[row_id],0)),"") | N10: 20230203_1035 | O10: Skjuler utdata-fane siden denne likevel kan hentes inn vha power query | BE10: 23 | BF10: 0 | BG10: 0 | BH10: 0 | BI10: 0 | BJ10: 0 | BK10: 0 | BL10: 0 | BM10: 0 | BN10: 0 | BO10: 0 | BP10: 0 | BQ10: 0 | BR10: 0 | BS10: 0 | BT10: 0 | BU10: 0 | BV10: 0 | BW10: 0 | BX10: 0 | BY10: 0 | BZ10: 0 | CC10: Måloppnåelse (antall ansatte) | CD10: 0 | CE10: 0 | CF10: 0 | CG10: 0
C11: P2.7c | D11: P2.2b | E11: P_.2b | F11: =SUMIFS(kommunedata_grunnlag_før_rapportering[Totalt innvilget beløp (Autosummert)],kommunedata_grunnlag_før_rapportering[row_id],prosjekttema_og_tittel[[#This Row],[rowId - prosjektSøknadsbeløp]]) -> 0 | G11: =prosjekttema_og_tittel[[#This Row],[totalt innvilget]]>0 -> FALSE | H11: =IFERROR(IF(INDEX(kommunedata_grunnlag_før_rapportering[Svar / Merknad],MATCH(prosjekttema_og_tittel[[#This Row],[rowId - prosjekttema]],kommunedata_grunnlag_før_rapportering[row_id],0))="Ja",1,0),0) -> 0 | I11: =IF(AND(prosjekttema_og_tittel[[#This Row],[prosjeksøknad har fått innvilgede midler]],prosjekttema_og_tittel[[#This Row],[tema inngår i prosjektsøknad]]=1),1,0) -> 0 | J11: P2.1a | K11: =IFERROR(INDEX(kommunedata_grunnlag_før_rapportering[Svar / Merknad],MATCH(prosjekttema_og_tittel[[#This Row],[rowId - prosjekttittel]],kommunedata_grunnlag_før_rapportering[row_id],0)),"") | N11: 20230203_1255 | O11: Fikser at måloppnåelse for BPA ikke kom med i utdataene | Z11: 1 | AA11: {=kommunedata_grunnlag_før_rapportering[]} -> 0 | AB11: 0 | AC11: 0 | AD11: 0 | AE11: 0 | AF11: 0 | AG11: 0 | AH11: 0 | AI11: 0 | AJ11: 0 | AK11: 0 | AL11: 0 | AM11: 0 | AN11: 0 | AO11: 0 | AP11: 0 | AQ11: 0 | AR11: 0 | AS11: 0 | AT11: 0 | AU11: 0 | AV11: =IFERROR(INDEX(prosjekttema_og_tittel[tema inngår i prosjektsøknad],MATCH(AD11,prosjekttema_og_tittel[rowId - prosjekttema],0)),"") | AW11: =IFERROR(INDEX(prosjekttema_og_tittel[prosjekttema inngår i prosjektsøknad som har fått innvilgede midler],MATCH(AD11,prosjekttema_og_tittel[rowId - prosjekttema],0)),"") | AX11: =IFERROR(INDEX($T$13:$T$76,MATCH('backend (Ikke rør)'!$AD11,$Q$13:$Q$76,0)),"") -> Måloppnåelse (antall ansatte) | AY11: =IFERROR(INDEX($U$13:$U$76,MATCH('backend (Ikke rør)'!$AD11,$Q$13:$Q$76,0)),"") -> 0 | AZ11: =IFERROR(INDEX($V$13:$V$76,MATCH('backend (Ikke rør)'!$AD11,$Q$13:$Q$76,0)),"") -> 0 | BA11: =IFERROR(INDEX($V$79:$V$107,MATCH('backend (Ikke rør)'!$AD11,$Q$79:$Q$107,0)),"") -> 0 | BB11: =IFERROR(INDEX($W$79:$W$107,MATCH('backend (Ikke rør)'!$AD11,$Q$79:$Q$107,0)),"") -> 0 | BC11: =IF(OR(AD11="1.1.",AD11="1.4.",AD11="1.5.",AD11="1.6."),FALSE,TRUE) -> TRUE | BE11: 24 | BF11: 0 | BG11: 0 | BH11: 0 | BI11: 0 | BJ11: 0 | BK11: 0 | BL11: 0 | BM11: 0 | BN11: 0 | BO11: 0 | BP11: 0 | BQ11: 0 | BR11: 0 | BS11: 0 | BT11: 0 | BU11: 0 | BV11: 0 | BW11: 0 | BX11: 0 | BY11: 0 | BZ11: 0 | CC11: Måloppnåelse (antall ansatte) | CD11: 0 | CE11: 0 | CF11: 0 | CG11: 0
C12: P2.7c | D12: P2.2c | E12: P_.2c | F12: =SUMIFS(kommunedata_grunnlag_før_rapportering[Totalt innvilget beløp (Autosummert)],kommunedata_grunnlag_før_rapportering[row_id],prosjekttema_og_tittel[[#This Row],[rowId - prosjektSøknadsbeløp]]) -> 0 | G12: =prosjekttema_og_tittel[[#This Row],[totalt innvilget]]>0 -> FALSE | H12: =IFERROR(IF(INDEX(kommunedata_grunnlag_før_rapportering[Svar / Merknad],MATCH(prosjekttema_og_tittel[[#This Row],[rowId - prosjekttema]],kommunedata_grunnlag_før_rapportering[row_id],0))="Ja",1,0),0) -> 0 | I12: =IF(AND(prosjekttema_og_tittel[[#This Row],[prosjeksøknad har fått innvilgede midler]],prosjekttema_og_tittel[[#This Row],[tema inngår i prosjektsøknad]]=1),1,0) -> 0 | J12: P2.1a | K12: =IFERROR(INDEX(kommunedata_grunnlag_før_rapportering[Svar / Merknad],MATCH(prosjekttema_og_tittel[[#This Row],[rowId - prosjekttittel]],kommunedata_grunnlag_før_rapportering[row_id],0)),"") | N12: 20230203_1351 | O12: Fikset backend-formel hvor match-type ikke var blitt satt til 0-excact match) | P12: Måloppnåelse kompetansetiltak | Z12: =VALUE(SUBSTITUTE(AD12,".","")) -> #VALUE! | AV12: =IFERROR(INDEX(prosjekttema_og_tittel[tema inngår i prosjektsøknad],MATCH(AD12,prosjekttema_og_tittel[rowId - prosjekttema],0)),"") | AW12: =IFERROR(INDEX(prosjekttema_og_tittel[prosjekttema inngår i prosjektsøknad som har fått innvilgede midler],MATCH(AD12,prosjekttema_og_tittel[rowId - prosjekttema],0)),"") | AX12: =IFERROR(INDEX($T$13:$T$76,MATCH('backend (Ikke rør)'!$AD12,$Q$13:$Q$76,0)),"") -> Måloppnåelse (antall ansatte) | AY12: =IFERROR(INDEX($U$13:$U$76,MATCH('backend (Ikke rør)'!$AD12,$Q$13:$Q$76,0)),"") -> 0 | AZ12: =IFERROR(INDEX($V$13:$V$76,MATCH('backend (Ikke rør)'!$AD12,$Q$13:$Q$76,0)),"") -> 0 | BA12: =IFERROR(INDEX($V$79:$V$107,MATCH('backend (Ikke rør)'!$AD12,$Q$79:$Q$107,0)),"") -> 0 | BB12: =IFERROR(INDEX($W$79:$W$107,MATCH('backend (Ikke rør)'!$AD12,$Q$79:$Q$107,0)),"") -> 0 | BC12: =IF(OR(AD12="1.1.",AD12="1.4.",AD12="1.5.",AD12="1.6."),FALSE,TRUE) -> TRUE | BE12: 25 | BF12: 0 | BG12: 0 | BH12: 0 | BI12: 0 | BJ12: 0 | BK12: 0 | BL12: 0 | BM12: 0 | BN12: 0 | BO12: 0 | BP12: 0 | BQ12: 0 | BR12: 0 | BS12: 0 | BT12: 0 | BU12: 0 | BV12: 0 | BW12: 0 | BX12: 0 | BY12: 0 | BZ12: 0 | CC12: Måloppnåelse (antall ansatte) | CD12: 0 | CE12: 0 | CF12: 0 | CG12: 0
C13: P2.7c | D13: P2.2d | E13: P_.2d | F13: =SUMIFS(kommunedata_grunnlag_før_rapportering[Totalt innvilget beløp (Autosummert)],kommunedata_grunnlag_før_rapportering[row_id],prosjekttema_og_tittel[[#This Row],[rowId - prosjektSøknadsbeløp]]) -> 0 | G13: =prosjekttema_og_tittel[[#This Row],[totalt innvilget]]>0 -> FALSE | H13: =IFERROR(IF(INDEX(kommunedata_grunnlag_før_rapportering[Svar / Merknad],MATCH(prosjekttema_og_tittel[[#This Row],[rowId - prosjekttema]],kommunedata_grunnlag_før_rapportering[row_id],0))="Ja",1,0),0) -> 0 | I13: =IF(AND(prosjekttema_og_tittel[[#This Row],[prosjeksøknad har fått innvilgede midler]],prosjekttema_og_tittel[[#This Row],[tema inngår i prosjektsøknad]]=1),1,0) -> 0 | J13: P2.1a | K13: =IFERROR(INDEX(kommunedata_grunnlag_før_rapportering[Svar / Merknad],MATCH(prosjekttema_og_tittel[[#This Row],[rowId - prosjekttittel]],kommunedata_grunnlag_før_rapportering[row_id],0)),"") | N13: 20230203_1355 | O13: Dropper prosjektrader | Q13: =Rapportering!B9 -> 2. | R13: =Rapportering!C9 -> Kompetansetiltak (grunn-, videre- og etterutdanning) | S13: =Rapportering!D9 -> 0 | T13: =Rapportering!E9 -> 0 | U13: =Rapportering!F9 -> 0 | V13: =Rapportering!G9 -> 0 | W13: =Rapportering!H9 -> 0 | Z13: =VALUE(SUBSTITUTE(AD13,".","")) -> #VALUE! | AV13: =IFERROR(INDEX(prosjekttema_og_tittel[tema inngår i prosjektsøknad],MATCH(AD13,prosjekttema_og_tittel[rowId - prosjekttema],0)),"") | AW13: =IFERROR(INDEX(prosjekttema_og_tittel[prosjekttema inngår i prosjektsøknad som har fått innvilgede midler],MATCH(AD13,prosjekttema_og_tittel[rowId - prosjekttema],0)),"") | AX13: =IFERROR(INDEX($T$13:$T$76,MATCH('backend (Ikke rør)'!$AD13,$Q$13:$Q$76,0)),"") -> Måloppnåelse (antall ansatte) | AY13: =IFERROR(INDEX($U$13:$U$76,MATCH('backend (Ikke rør)'!$AD13,$Q$13:$Q$76,0)),"") -> 0 | AZ13: =IFERROR(INDEX($V$13:$V$76,MATCH('backend (Ikke rør)'!$AD13,$Q$13:$Q$76,0)),"") -> 0 | BA13: =IFERROR(INDEX($V$79:$V$107,MATCH('backend (Ikke rør)'!$AD13,$Q$79:$Q$107,0)),"") -> 0 | BB13: =IFERROR(INDEX($W$79:$W$107,MATCH('backend (Ikke rør)'!$AD13,$Q$79:$Q$107,0)),"") -> 0 | BC13: =IF(OR(AD13="1.1.",AD13="1.4.",AD13="1.5.",AD13="1.6."),FALSE,TRUE) -> TRUE | BE13: 26 | BF13: 0 | BG13: 0 | BH13: 0 | BI13: 0 | BJ13: 0 | BK13: 0 | BL13: 0 | BM13: 0 | BN13: 0 | BO13: 0 | BP13: 0 | BQ13: 0 | BR13: 0 | BS13: 0 | BT13: 0 | BU13: 0 | BV13: 0 | BW13: 0 | BX13: 0 | BY13: 0 | BZ13: 0 | CC13: Måloppnåelse (antall ansatte) | CD13: 0 | CE13: 0 | CF13: 0 | CG13: 0
C14: P2.7c | D14: P2.2e | E14: P_.2e | F14: =SUMIFS(kommunedata_grunnlag_før_rapportering[Totalt innvilget beløp (Autosummert)],kommunedata_grunnlag_før_rapportering[row_id],prosjekttema_og_tittel[[#This Row],[rowId - prosjektSøknadsbeløp]]) -> 0 | G14: =prosjekttema_og_tittel[[#This Row],[totalt innvilget]]>0 -> FALSE | H14: =IFERROR(IF(INDEX(kommunedata_grunnlag_før_rapportering[Svar / Merknad],MATCH(prosjekttema_og_tittel[[#This Row],[rowId - prosjekttema]],kommunedata_grunnlag_før_rapportering[row_id],0))="Ja",1,0),0) -> 0 | I14: =IF(AND(prosjekttema_og_tittel[[#This Row],[prosjeksøknad har fått innvilgede midler]],prosjekttema_og_tittel[[#This Row],[tema inngår i prosjektsøknad]]=1),1,0) -> 0 | J14: P2.1a | K14: =IFERROR(INDEX(kommunedata_grunnlag_før_rapportering[Svar / Merknad],MATCH(prosjekttema_og_tittel[[#This Row],[rowId - prosjekttittel]],kommunedata_grunnlag_før_rapportering[row_id],0)),"") | N14: 20230206_1456 | O14: Fjerner en link som ved et uhell var opprettet til en annen fil | Q14: =Rapportering!B10 -> 0 | R14: =Rapportering!C10 -> 0 | S14: =Rapportering!D10 -> 0 | T14: =Rapportering!E10 -> Måloppnåelse (antall ansatte) | U14: =Rapportering!F10 -> 0 | V14: =Rapportering!G10 -> 0 | W14: =Rapportering!H10 -> 0 | Z14: =VALUE(SUBSTITUTE(AD14,".","")) -> #VALUE! | AV14: =IFERROR(INDEX(prosjekttema_og_tittel[tema inngår i prosjektsøknad],MATCH(AD14,prosjekttema_og_tittel[rowId - prosjekttema],0)),"") | AW14: =IFERROR(INDEX(prosjekttema_og_tittel[prosjekttema inngår i prosjektsøknad som har fått innvilgede midler],MATCH(AD14,prosjekttema_og_tittel[rowId - prosjekttema],0)),"") | AX14: =IFERROR(INDEX($T$13:$T$76,MATCH('backend (Ikke rør)'!$AD14,$Q$13:$Q$76,0)),"") -> Måloppnåelse (antall ansatte) | AY14: =IFERROR(INDEX($U$13:$U$76,MATCH('backend (Ikke rør)'!$AD14,$Q$13:$Q$76,0)),"") -> 0 | AZ14: =IFERROR(INDEX($V$13:$V$76,MATCH('backend (Ikke rør)'!$AD14,$Q$13:$Q$76,0)),"") -> 0 | BA14: =IFERROR(INDEX($V$79:$V$107,MATCH('backend (Ikke rør)'!$AD14,$Q$79:$Q$107,0)),"") -> 0 | BB14: =IFERROR(INDEX($W$79:$W$107,MATCH('backend (Ikke rør)'!$AD14,$Q$79:$Q$107,0)),"") -> 0 | BC14: =IF(OR(AD14="1.1.",AD14="1.4.",AD14="1.5.",AD14="1.6."),FALSE,TRUE) -> TRUE | BE14: 27 | BF14: 0 | BG14: 0 | BH14: 0 | BI14: 0 | BJ14: 0 | BK14: 0 | BL14: 0 | BM14: 0 | BN14: 0 | BO14: 0 | BP14: 0 | BQ14: 0 | BR14: 0 | BS14: 0 | BT14: 0 | BU14: 0 | BV14: 0 | BW14: 0 | BX14: 0 | BY14: 0 | BZ14: 0 | CC14: Måloppnåelse (antall ansatte) | CD14: 0 | CE14: 0 | CF14: 0 | CG14: 0
C15: P2.7c | D15: P2.2f | E15: P_.2f | F15: =SUMIFS(kommunedata_grunnlag_før_rapportering[Totalt innvilget beløp (Autosummert)],kommunedata_grunnlag_før_rapportering[row_id],prosjekttema_og_tittel[[#This Row],[rowId - prosjektSøknadsbeløp]]) -> 0 | G15: =prosjekttema_og_tittel[[#This Row],[totalt innvilget]]>0 -> FALSE | H15: =IFERROR(IF(INDEX(kommunedata_grunnlag_før_rapportering[Svar / Merknad],MATCH(prosjekttema_og_tittel[[#This Row],[rowId - prosjekttema]],kommunedata_grunnlag_før_rapportering[row_id],0))="Ja",1,0),0) -> 0 | I15: =IF(AND(prosjekttema_og_tittel[[#This Row],[prosjeksøknad har fått innvilgede midler]],prosjekttema_og_tittel[[#This Row],[tema inngår i prosjektsøknad]]=1),1,0) -> 0 | J15: P2.1a | K15: =IFERROR(INDEX(kommunedata_grunnlag_før_rapportering[Svar / Merknad],MATCH(prosjekttema_og_tittel[[#This Row],[rowId - prosjekttittel]],kommunedata_grunnlag_før_rapportering[row_id],0)),"") | N15: 20230207_1307 | O15: Fikser feil der noe i backend var hardkodet, men egentlig skulle være referanser | Q15: =Rapportering!B11 -> 0 | R15: =Rapportering!C11 -> 0 | S15: =Rapportering!D11 -> Antall personer innvilget | T15: =Rapportering!E11 -> Fullført utdanning | U15: =Rapportering!F11 -> Under utdanning, men ikke fullført | V15: =Rapportering!G11 -> Samlet antall fullførte og under utdanning | W15: =Rapportering!H11 -> 0 | Z15: =VALUE(SUBSTITUTE(AD15,".","")) -> #VALUE! | AV15: =IFERROR(INDEX(prosjekttema_og_tittel[tema inngår i prosjektsøknad],MATCH(AD15,prosjekttema_og_tittel[rowId - prosjekttema],0)),"") | AW15: =IFERROR(INDEX(prosjekttema_og_tittel[prosjekttema inngår i prosjektsøknad som har fått innvilgede midler],MATCH(AD15,prosjekttema_og_tittel[rowId - prosjekttema],0)),"") | AX15: =IFERROR(INDEX($T$13:$T$76,MATCH('backend (Ikke rør)'!$AD15,$Q$13:$Q$76,0)),"") -> Måloppnåelse (antall ansatte) | AY15: =IFERROR(INDEX($U$13:$U$76,MATCH('backend (Ikke rør)'!$AD15,$Q$13:$Q$76,0)),"") -> 0 | AZ15: =IFERROR(INDEX($V$13:$V$76,MATCH('backend (Ikke rør)'!$AD15,$Q$13:$Q$76,0)),"") -> 0 | BA15: =IFERROR(INDEX($V$79:$V$107,MATCH('backend (Ikke rør)'!$AD15,$Q$79:$Q$107,0)),"") -> 0 | BB15: =IFERROR(INDEX($W$79:$W$107,MATCH('backend (Ikke rør)'!$AD15,$Q$79:$Q$107,0)),"") -> 0 | BC15: =IF(OR(AD15="1.1.",AD15="1.4.",AD15="1.5.",AD15="1.6."),FALSE,TRUE) -> TRUE | BE15: 28 | BF15: 0 | BG15: 0 | BH15: 0 | BI15: 0 | BJ15: 0 | BK15: 0 | BL15: 0 | BM15: 0 | BN15: 0 | BO15: 0 | BP15: 0 | BQ15: 0 | BR15: 0 | BS15: 0 | BT15: 0 | BU15: 0 | BV15: 0 | BW15: 0 | BX15: 0 | BY15: 0 | BZ15: 0 | CC15: Måloppnåelse (antall ansatte) | CD15: 0 | CE15: 0 | CF15: 0 | CG15: 0
C16: P2.7c | D16: P2.2g | E16: P_.2g | F16: =SUMIFS(kommunedata_grunnlag_før_rapportering[Totalt innvilget beløp (Autosummert)],kommunedata_grunnlag_før_rapportering[row_id],prosjekttema_og_tittel[[#This Row],[rowId - prosjektSøknadsbeløp]]) -> 0 | G16: =prosjekttema_og_tittel[[#This Row],[totalt innvilget]]>0 -> FALSE | H16: =IFERROR(IF(INDEX(kommunedata_grunnlag_før_rapportering[Svar / Merknad],MATCH(prosjekttema_og_tittel[[#This Row],[rowId - prosjekttema]],kommunedata_grunnlag_før_rapportering[row_id],0))="Ja",1,0),0) -> 0 | I16: =IF(AND(prosjekttema_og_tittel[[#This Row],[prosjeksøknad har fått innvilgede midler]],prosjekttema_og_tittel[[#This Row],[tema inngår i prosjektsøknad]]=1),1,0) -> 0 | J16: P2.1a | K16: =IFERROR(INDEX(kommunedata_grunnlag_før_rapportering[Svar / Merknad],MATCH(prosjekttema_og_tittel[[#This Row],[rowId - prosjekttittel]],kommunedata_grunnlag_før_rapportering[row_id],0)),"") | N16: 20230207_1329 | O16: PROD | Q16: =Rapportering!B12 -> 2.1. | R16: =Rapportering!C12 -> Videregående skole, fag- og yrkesopplæring innen helse (fagbrev) | S16: =Rapportering!D12 -> 0 | T16: =Rapportering!E12 -> 0 | U16: =Rapportering!F12 -> 0 | V16: =Rapportering!G12 -> 0 | W16: =Rapportering!H12 -> 0 | Z16: =VALUE(SUBSTITUTE(AD16,".","")) -> #VALUE! | AV16: =IFERROR(INDEX(prosjekttema_og_tittel[tema inngår i prosjektsøknad],MATCH(AD16,prosjekttema_og_tittel[rowId - prosjekttema],0)),"") | AW16: =IFERROR(INDEX(prosjekttema_og_tittel[prosjekttema inngår i prosjektsøknad som har fått innvilgede midler],MATCH(AD16,prosjekttema_og_tittel[rowId - prosjekttema],0)),"") | AX16: =IFERROR(INDEX($T$13:$T$76,MATCH('backend (Ikke rør)'!$AD16,$Q$13:$Q$76,0)),"") -> Måloppnåelse (antall ansatte) | AY16: =IFERROR(INDEX($U$13:$U$76,MATCH('backend (Ikke rør)'!$AD16,$Q$13:$Q$76,0)),"") -> 0 | AZ16: =IFERROR(INDEX($V$13:$V$76,MATCH('backend (Ikke rør)'!$AD16,$Q$13:$Q$76,0)),"") -> 0 | BA16: =IFERROR(INDEX($V$79:$V$107,MATCH('backend (Ikke rør)'!$AD16,$Q$79:$Q$107,0)),"") -> 0 | BB16: =IFERROR(INDEX($W$79:$W$107,MATCH('backend (Ikke rør)'!$AD16,$Q$79:$Q$107,0)),"") -> 0 | BC16: =IF(OR(AD16="1.1.",AD16="1.4.",AD16="1.5.",AD16="1.6."),FALSE,TRUE) -> TRUE | BE16: 29 | BF16: 0 | BG16: 0 | BH16: 0 | BI16: 0 | BJ16: 0 | BK16: 0 | BL16: 0 | BM16: 0 | BN16: 0 | BO16: 0 | BP16: 0 | BQ16: 0 | BR16: 0 | BS16: 0 | BT16: 0 | BU16: 0 | BV16: 0 | BW16: 0 | BX16: 0 | BY16: 0 | BZ16: 0 | CC16: Måloppnåelse (antall ansatte) | CD16: 0 | CE16: 0 | CF16: 0 | CG16: 0
C17: P2.7c | D17: P2.2h | E17: P_.2h | F17: =SUMIFS(kommunedata_grunnlag_før_rapportering[Totalt innvilget beløp (Autosummert)],kommunedata_grunnlag_før_rapportering[row_id],prosjekttema_og_tittel[[#This Row],[rowId - prosjektSøknadsbeløp]]) -> 0 | G17: =prosjekttema_og_tittel[[#This Row],[totalt innvilget]]>0 -> FALSE | H17: =IFERROR(IF(INDEX(kommunedata_grunnlag_før_rapportering[Svar / Merknad],MATCH(prosjekttema_og_tittel[[#This Row],[rowId - prosjekttema]],kommunedata_grunnlag_før_rapportering[row_id],0))="Ja",1,0),0) -> 0 | I17: =IF(AND(prosjekttema_og_tittel[[#This Row],[prosjeksøknad har fått innvilgede midler]],prosjekttema_og_tittel[[#This Row],[tema inngår i prosjektsøknad]]=1),1,0) -> 0 | J17: P2.1a | K17: =IFERROR(INDEX(kommunedata_grunnlag_før_rapportering[Svar / Merknad],MATCH(prosjekttema_og_tittel[[#This Row],[rowId - prosjekttittel]],kommunedata_grunnlag_før_rapportering[row_id],0)),"") | Q17: =Rapportering!B13 -> 2.1a | R17: =Rapportering!C13 -> #N/A | S17: =Rapportering!D13 -> #N/A | T17: =Rapportering!E13 -> 0 | U17: =Rapportering!F13 -> 0 | V17: =Rapportering!G13 -> 0 | W17: =Rapportering!H13 -> 0 | Z17: =VALUE(SUBSTITUTE(AD17,".","")) -> #VALUE! | AV17: =IFERROR(INDEX(prosjekttema_og_tittel[tema inngår i prosjektsøknad],MATCH(AD17,prosjekttema_og_tittel[rowId - prosjekttema],0)),"") | AW17: =IFERROR(INDEX(prosjekttema_og_tittel[prosjekttema inngår i prosjektsøknad som har fått innvilgede midler],MATCH(AD17,prosjekttema_og_tittel[rowId - prosjekttema],0)),"") | AX17: =IFERROR(INDEX($T$13:$T$76,MATCH('backend (Ikke rør)'!$AD17,$Q$13:$Q$76,0)),"") -> Måloppnåelse (antall ansatte) | AY17: =IFERROR(INDEX($U$13:$U$76,MATCH('backend (Ikke rør)'!$AD17,$Q$13:$Q$76,0)),"") -> 0 | AZ17: =IFERROR(INDEX($V$13:$V$76,MATCH('backend (Ikke rør)'!$AD17,$Q$13:$Q$76,0)),"") -> 0 | BA17: =IFERROR(INDEX($V$79:$V$107,MATCH('backend (Ikke rør)'!$AD17,$Q$79:$Q$107,0)),"") -> 0 | BB17: =IFERROR(INDEX($W$79:$W$107,MATCH('backend (Ikke rør)'!$AD17,$Q$79:$Q$107,0)),"") -> 0 | BC17: =IF(OR(AD17="1.1.",AD17="1.4.",AD17="1.5.",AD17="1.6."),FALSE,TRUE) -> TRUE | BE17: 30 | BF17: 0 | BG17: 0 | BH17: 0 | BI17: 0 | BJ17: 0 | BK17: 0 | BL17: 0 | BM17: 0 | BN17: 0 | BO17: 0 | BP17: 0 | BQ17: 0 | BR17: 0 | BS17: 0 | BT17: 0 | BU17: 0 | BV17: 0 | BW17: 0 | BX17: 0 | BY17: 0 | BZ17: 0 | CC17: Måloppnåelse (antall ansatte) | CD17: 0 | CE17: 0 | CF17: 0 | CG17: 0
C18: P3.7c | D18: P3.2a | E18: P_.2a | F18: =SUMIFS(kommunedata_grunnlag_før_rapportering[Totalt innvilget beløp (Autosummert)],kommunedata_grunnlag_før_rapportering[row_id],prosjekttema_og_tittel[[#This Row],[rowId - prosjektSøknadsbeløp]]) -> 0 | G18: =prosjekttema_og_tittel[[#This Row],[totalt innvilget]]>0 -> FALSE | H18: =IFERROR(IF(INDEX(kommunedata_grunnlag_før_rapportering[Svar / Merknad],MATCH(prosjekttema_og_tittel[[#This Row],[rowId - prosjekttema]],kommunedata_grunnlag_før_rapportering[row_id],0))="Ja",1,0),0) -> 0 | I18: =IF(AND(prosjekttema_og_tittel[[#This Row],[prosjeksøknad har fått innvilgede midler]],prosjekttema_og_tittel[[#This Row],[tema inngår i prosjektsøknad]]=1),1,0) -> 0 | J18: P3.1a | K18: =IFERROR(INDEX(kommunedata_grunnlag_før_rapportering[Svar / Merknad],MATCH(prosjekttema_og_tittel[[#This Row],[rowId - prosjekttittel]],kommunedata_grunnlag_før_rapportering[row_id],0)),"") | Q18: =Rapportering!B14 -> 2.1b | R18: =Rapportering!C14 -> #N/A | S18: =Rapportering!D14 -> #N/A | T18: =Rapportering!E14 -> 0 | U18: =Rapportering!F14 -> 0 | V18: =Rapportering!G14 -> 0 | W18: =Rapportering!H14 -> 0 | Z18: =VALUE(SUBSTITUTE(AD18,".","")) -> #VALUE! | AV18: =IFERROR(INDEX(prosjekttema_og_tittel[tema inngår i prosjektsøknad],MATCH(AD18,prosjekttema_og_tittel[rowId - prosjekttema],0)),"") | AW18: =IFERROR(INDEX(prosjekttema_og_tittel[prosjekttema inngår i prosjektsøknad som har fått innvilgede midler],MATCH(AD18,prosjekttema_og_tittel[rowId - prosjekttema],0)),"") | AX18: =IFERROR(INDEX($T$13:$T$76,MATCH('backend (Ikke rør)'!$AD18,$Q$13:$Q$76,0)),"") -> Måloppnåelse (antall ansatte) | AY18: =IFERROR(INDEX($U$13:$U$76,MATCH('backend (Ikke rør)'!$AD18,$Q$13:$Q$76,0)),"") -> 0 | AZ18: =IFERROR(INDEX($V$13:$V$76,MATCH('backend (Ikke rør)'!$AD18,$Q$13:$Q$76,0)),"") -> 0 | BA18: =IFERROR(INDEX($V$79:$V$107,MATCH('backend (Ikke rør)'!$AD18,$Q$79:$Q$107,0)),"") -> 0 | BB18: =IFERROR(INDEX($W$79:$W$107,MATCH('backend (Ikke rør)'!$AD18,$Q$79:$Q$107,0)),"") -> 0 | BC18: =IF(OR(AD18="1.1.",AD18="1.4.",AD18="1.5.",AD18="1.6."),FALSE,TRUE) -> TRUE | BE18: 31 | BF18: 0 | BG18: 0 | BH18: 0 | BI18: 0 | BJ18: 0 | BK18: 0 | BL18: 0 | BM18: 0 | BN18: 0 | BO18: 0 | BP18: 0 | BQ18: 0 | BR18: 0 | BS18: 0 | BT18: 0 | BU18: 0 | BV18: 0 | BW18: 0 | BX18: 0 | BY18: 0 | BZ18: 0 | CC18: Måloppnåelse (antall ansatte) | CD18: 0 | CE18: 0 | CF18: 0 | CG18: 0
C19: P3.7c | D19: P3.2b | E19: P_.2b | F19: =SUMIFS(kommunedata_grunnlag_før_rapportering[Totalt innvilget beløp (Autosummert)],kommunedata_grunnlag_før_rapportering[row_id],prosjekttema_og_tittel[[#This Row],[rowId - prosjektSøknadsbeløp]]) -> 0 | G19: =prosjekttema_og_tittel[[#This Row],[totalt innvilget]]>0 -> FALSE | H19: =IFERROR(IF(INDEX(kommunedata_grunnlag_før_rapportering[Svar / Merknad],MATCH(prosjekttema_og_tittel[[#This Row],[rowId - prosjekttema]],kommunedata_grunnlag_før_rapportering[row_id],0))="Ja",1,0),0) -> 0 | I19: =IF(AND(prosjekttema_og_tittel[[#This Row],[prosjeksøknad har fått innvilgede midler]],prosjekttema_og_tittel[[#This Row],[tema inngår i prosjektsøknad]]=1),1,0) -> 0 | J19: P3.1a | K19: =IFERROR(INDEX(kommunedata_grunnlag_før_rapportering[Svar / Merknad],MATCH(prosjekttema_og_tittel[[#This Row],[rowId - prosjekttittel]],kommunedata_grunnlag_før_rapportering[row_id],0)),"") | Q19: =Rapportering!B15 -> 0 | R19: =Rapportering!C15 -> Sum (2.1) : | S19: =Rapportering!D15 -> #N/A | T19: =Rapportering!E15 -> 0 | U19: =Rapportering!F15 -> 0 | V19: =Rapportering!G15 -> 0 | W19: =Rapportering!H15 -> 0 | Z19: =VALUE(SUBSTITUTE(AD19,".","")) -> #VALUE! | AV19: =IFERROR(INDEX(prosjekttema_og_tittel[tema inngår i prosjektsøknad],MATCH(AD19,prosjekttema_og_tittel[rowId - prosjekttema],0)),"") | AW19: =IFERROR(INDEX(prosjekttema_og_tittel[prosjekttema inngår i prosjektsøknad som har fått innvilgede midler],MATCH(AD19,prosjekttema_og_tittel[rowId - prosjekttema],0)),"") | AX19: =IFERROR(INDEX($T$13:$T$76,MATCH('backend (Ikke rør)'!$AD19,$Q$13:$Q$76,0)),"") -> Måloppnåelse (antall ansatte) | AY19: =IFERROR(INDEX($U$13:$U$76,MATCH('backend (Ikke rør)'!$AD19,$Q$13:$Q$76,0)),"") -> 0 | AZ19: =IFERROR(INDEX($V$13:$V$76,MATCH('backend (Ikke rør)'!$AD19,$Q$13:$Q$76,0)),"") -> 0 | BA19: =IFERROR(INDEX($V$79:$V$107,MATCH('backend (Ikke rør)'!$AD19,$Q$79:$Q$107,0)),"") -> 0 | BB19: =IFERROR(INDEX($W$79:$W$107,MATCH('backend (Ikke rør)'!$AD19,$Q$79:$Q$107,0)),"") -> 0 | BC19: =IF(OR(AD19="1.1.",AD19="1.4.",AD19="1.5.",AD19="1.6."),FALSE,TRUE) -> TRUE | BE19: 32 | BF19: 0 | BG19: 0 | BH19: 0 | BI19: 0 | BJ19: 0 | BK19: 0 | BL19: 0 | BM19: 0 | BN19: 0 | BO19: 0 | BP19: 0 | BQ19: 0 | BR19: 0 | BS19: 0 | BT19: 0 | BU19: 0 | BV19: 0 | BW19: 0 | BX19: 0 | BY19: 0 | BZ19: 0 | CC19: Måloppnåelse (antall ansatte) | CD19: 0 | CE19: 0 | CF19: 0 | CG19: 0
C20: P3.7c | D20: P3.2c | E20: P_.2c | F20: =SUMIFS(kommunedata_grunnlag_før_rapportering[Totalt innvilget beløp (Autosummert)],kommunedata_grunnlag_før_rapportering[row_id],prosjekttema_og_tittel[[#This Row],[rowId - prosjektSøknadsbeløp]]) -> 0 | G20: =prosjekttema_og_tittel[[#This Row],[totalt innvilget]]>0 -> FALSE | H20: =IFERROR(IF(INDEX(kommunedata_grunnlag_før_rapportering[Svar / Merknad],MATCH(prosjekttema_og_tittel[[#This Row],[rowId - prosjekttema]],kommunedata_grunnlag_før_rapportering[row_id],0))="Ja",1,0),0) -> 0 | I20: =IF(AND(prosjekttema_og_tittel[[#This Row],[prosjeksøknad har fått innvilgede midler]],prosjekttema_og_tittel[[#This Row],[tema inngår i prosjektsøknad]]=1),1,0) -> 0 | J20: P3.1a | K20: =IFERROR(INDEX(kommunedata_grunnlag_før_rapportering[Svar / Merknad],MATCH(prosjekttema_og_tittel[[#This Row],[rowId - prosjekttittel]],kommunedata_grunnlag_før_rapportering[row_id],0)),"") | Q20: =Rapportering!B16 -> 2.2. | R20: =Rapportering!C16 -> Fagskoleutdanning | S20: =Rapportering!D16 -> 0 | T20: =Rapportering!E16 -> 0 | U20: =Rapportering!F16 -> 0 | V20: =Rapportering!G16 -> 0 | W20: =Rapportering!H16 -> 0 | Z20: =VALUE(SUBSTITUTE(AD20,".","")) -> #VALUE! | AV20: =IFERROR(INDEX(prosjekttema_og_tittel[tema inngår i prosjektsøknad],MATCH(AD20,prosjekttema_og_tittel[rowId - prosjekttema],0)),"") | AW20: =IFERROR(INDEX(prosjekttema_og_tittel[prosjekttema inngår i prosjektsøknad som har fått innvilgede midler],MATCH(AD20,prosjekttema_og_tittel[rowId - prosjekttema],0)),"") | AX20: =IFERROR(INDEX($T$13:$T$76,MATCH('backend (Ikke rør)'!$AD20,$Q$13:$Q$76,0)),"") -> Måloppnåelse (antall ansatte) | AY20: =IFERROR(INDEX($U$13:$U$76,MATCH('backend (Ikke rør)'!$AD20,$Q$13:$Q$76,0)),"") -> 0 | AZ20: =IFERROR(INDEX($V$13:$V$76,MATCH('backend (Ikke rør)'!$AD20,$Q$13:$Q$76,0)),"") -> 0 | BA20: =IFERROR(INDEX($V$79:$V$107,MATCH('backend (Ikke rør)'!$AD20,$Q$79:$Q$107,0)),"") -> 0 | BB20: =IFERROR(INDEX($W$79:$W$107,MATCH('backend (Ikke rør)'!$AD20,$Q$79:$Q$107,0)),"") -> 0 | BC20: =IF(OR(AD20="1.1.",AD20="1.4.",AD20="1.5.",AD20="1.6."),FALSE,TRUE) -> TRUE | BE20: 33 | BF20: 0 | BG20: 0 | BH20: 0 | BI20: 0 | BJ20: 0 | BK20: 0 | BL20: 0 | BM20: 0 | BN20: 0 | BO20: 0 | BP20: 0 | BQ20: 0 | BR20: 0 | BS20: 0 | BT20: 0 | BU20: 0 | BV20: 0 | BW20: 0 | BX20: 0 | BY20: 0 | BZ20: 0 | CC20: Måloppnåelse (antall ansatte) | CD20: 0 | CE20: 0 | CF20: 0 | CG20: 0
C21: P3.7c | D21: P3.2d | E21: P_.2d | F21: =SUMIFS(kommunedata_grunnlag_før_rapportering[Totalt innvilget beløp (Autosummert)],kommunedata_grunnlag_før_rapportering[row_id],prosjekttema_og_tittel[[#This Row],[rowId - prosjektSøknadsbeløp]]) -> 0 | G21: =prosjekttema_og_tittel[[#This Row],[totalt innvilget]]>0 -> FALSE | H21: =IFERROR(IF(INDEX(kommunedata_grunnlag_før_rapportering[Svar / Merknad],MATCH(prosjekttema_og_tittel[[#This Row],[rowId - prosjekttema]],kommunedata_grunnlag_før_rapportering[row_id],0))="Ja",1,0),0) -> 0 | I21: =IF(AND(prosjekttema_og_tittel[[#This Row],[prosjeksøknad har fått innvilgede midler]],prosjekttema_og_tittel[[#This Row],[tema inngår i prosjektsøknad]]=1),1,0) -> 0 | J21: P3.1a | K21: =IFERROR(INDEX(kommunedata_grunnlag_før_rapportering[Svar / Merknad],MATCH(prosjekttema_og_tittel[[#This Row],[rowId - prosjekttittel]],kommunedata_grunnlag_før_rapportering[row_id],0)),"") | Q21: =Rapportering!B17 -> 2.2a | R21: =Rapportering!C17 -> #N/A | S21: =Rapportering!D17 -> #N/A | T21: =Rapportering!E17 -> 0 | U21: =Rapportering!F17 -> 0 | V21: =Rapportering!G17 -> 0 | W21: =Rapportering!H17 -> 0 | Z21: 20 | AV21: =IFERROR(INDEX(prosjekttema_og_tittel[tema inngår i prosjektsøknad],MATCH(AD21,prosjekttema_og_tittel[rowId - prosjekttema],0)),"") | AW21: =IFERROR(INDEX(prosjekttema_og_tittel[prosjekttema inngår i prosjektsøknad som har fått innvilgede midler],MATCH(AD21,prosjekttema_og_tittel[rowId - prosjekttema],0)),"") | AX21: =IFERROR(INDEX($T$13:$T$76,MATCH('backend (Ikke rør)'!$AD21,$Q$13:$Q$76,0)),"") -> Måloppnåelse (antall ansatte) | AY21: =IFERROR(INDEX($U$13:$U$76,MATCH('backend (Ikke rør)'!$AD21,$Q$13:$Q$76,0)),"") -> 0 | AZ21: =IFERROR(INDEX($V$13:$V$76,MATCH('backend (Ikke rør)'!$AD21,$Q$13:$Q$76,0)),"") -> 0 | BA21: =IFERROR(INDEX($V$79:$V$107,MATCH('backend (Ikke rør)'!$AD21,$Q$79:$Q$107,0)),"") -> 0 | BB21: =IFERROR(INDEX($W$79:$W$107,MATCH('backend (Ikke rør)'!$AD21,$Q$79:$Q$107,0)),"") -> 0 | BC21: =IF(OR(AD21="1.1.",AD21="1.4.",AD21="1.5.",AD21="1.6."),FALSE,TRUE) -> TRUE | BE21: 34 | BF21: 0 | BG21: 0 | BH21: 0 | BI21: 0 | BJ21: 0 | BK21: 0 | BL21: 0 | BM21: 0 | BN21: 0 | BO21: 0 | BP21: 0 | BQ21: 0 | BR21: 0 | BS21: 0 | BT21: 0 | BU21: 0 | BV21: 0 | BW21: 0 | BX21: 0 | BY21: 0 | BZ21: 0 | CC21: Måloppnåelse (antall ansatte) | CD21: 0 | CE21: 0 | CF21: 0 | CG21: 0
C22: P3.7c | D22: P3.2e | E22: P_.2e | F22: =SUMIFS(kommunedata_grunnlag_før_rapportering[Totalt innvilget beløp (Autosummert)],kommunedata_grunnlag_før_rapportering[row_id],prosjekttema_og_tittel[[#This Row],[rowId - prosjektSøknadsbeløp]]) -> 0 | G22: =prosjekttema_og_tittel[[#This Row],[totalt innvilget]]>0 -> FALSE | H22: =IFERROR(IF(INDEX(kommunedata_grunnlag_før_rapportering[Svar / Merknad],MATCH(prosjekttema_og_tittel[[#This Row],[rowId - prosjekttema]],kommunedata_grunnlag_før_rapportering[row_id],0))="Ja",1,0),0) -> 0 | I22: =IF(AND(prosjekttema_og_tittel[[#This Row],[prosjeksøknad har fått innvilgede midler]],prosjekttema_og_tittel[[#This Row],[tema inngår i prosjektsøknad]]=1),1,0) -> 0 | J22: P3.1a | K22: =IFERROR(INDEX(kommunedata_grunnlag_før_rapportering[Svar / Merknad],MATCH(prosjekttema_og_tittel[[#This Row],[rowId - prosjekttittel]],kommunedata_grunnlag_før_rapportering[row_id],0)),"") | Q22: =Rapportering!B18 -> 2.2b | R22: =Rapportering!C18 -> #N/A | S22: =Rapportering!D18 -> #N/A | T22: =Rapportering!E18 -> 0 | U22: =Rapportering!F18 -> 0 | V22: =Rapportering!G18 -> 0 | W22: =Rapportering!H18 -> 0 | Z22: 21 | AV22: =IFERROR(INDEX(prosjekttema_og_tittel[tema inngår i prosjektsøknad],MATCH(AD22,prosjekttema_og_tittel[rowId - prosjekttema],0)),"") | AW22: =IFERROR(INDEX(prosjekttema_og_tittel[prosjekttema inngår i prosjektsøknad som har fått innvilgede midler],MATCH(AD22,prosjekttema_og_tittel[rowId - prosjekttema],0)),"") | AX22: =IFERROR(INDEX($T$13:$T$76,MATCH('backend (Ikke rør)'!$AD22,$Q$13:$Q$76,0)),"") -> Måloppnåelse (antall ansatte) | AY22: =IFERROR(INDEX($U$13:$U$76,MATCH('backend (Ikke rør)'!$AD22,$Q$13:$Q$76,0)),"") -> 0 | AZ22: =IFERROR(INDEX($V$13:$V$76,MATCH('backend (Ikke rør)'!$AD22,$Q$13:$Q$76,0)),"") -> 0 | BA22: =IFERROR(INDEX($V$79:$V$107,MATCH('backend (Ikke rør)'!$AD22,$Q$79:$Q$107,0)),"") -> 0 | BB22: =IFERROR(INDEX($W$79:$W$107,MATCH('backend (Ikke rør)'!$AD22,$Q$79:$Q$107,0)),"") -> 0 | BC22: =IF(OR(AD22="1.1.",AD22="1.4.",AD22="1.5.",AD22="1.6."),FALSE,TRUE) -> TRUE | BE22: 35 | BF22: 0 | BG22: 0 | BH22: 0 | BI22: 0 | BJ22: 0 | BK22: 0 | BL22: 0 | BM22: 0 | BN22: 0 | BO22: 0 | BP22: 0 | BQ22: 0 | BR22: 0 | BS22: 0 | BT22: 0 | BU22: 0 | BV22: 0 | BW22: 0 | BX22: 0 | BY22: 0 | BZ22: 0 | CC22: Måloppnåelse (antall ansatte) | CD22: 0 | CE22: 0 | CF22: 0 | CG22: 0
C23: P3.7c | D23: P3.2f | E23: P_.2f | F23: =SUMIFS(kommunedata_grunnlag_før_rapportering[Totalt innvilget beløp (Autosummert)],kommunedata_grunnlag_før_rapportering[row_id],prosjekttema_og_tittel[[#This Row],[rowId - prosjektSøknadsbeløp]]) -> 0 | G23: =prosjekttema_og_tittel[[#This Row],[totalt innvilget]]>0 -> FALSE | H23: =IFERROR(IF(INDEX(kommunedata_grunnlag_før_rapportering[Svar / Merknad],MATCH(prosjekttema_og_tittel[[#This Row],[rowId - prosjekttema]],kommunedata_grunnlag_før_rapportering[row_id],0))="Ja",1,0),0) -> 0 | I23: =IF(AND(prosjekttema_og_tittel[[#This Row],[prosjeksøknad har fått innvilgede midler]],prosjekttema_og_tittel[[#This Row],[tema inngår i prosjektsøknad]]=1),1,0) -> 0 | J23: P3.1a | K23: =IFERROR(INDEX(kommunedata_grunnlag_før_rapportering[Svar / Merknad],MATCH(prosjekttema_og_tittel[[#This Row],[rowId - prosjekttittel]],kommunedata_grunnlag_før_rapportering[row_id],0)),"") | Q23: =Rapportering!B19 -> 2.2c | R23: =Rapportering!C19 -> #N/A | S23: =Rapportering!D19 -> #N/A | T23: =Rapportering!E19 -> 0 | U23: =Rapportering!F19 -> 0 | V23: =Rapportering!G19 -> 0 | W23: =Rapportering!H19 -> 0 | Z23: 22 | AV23: =IFERROR(INDEX(prosjekttema_og_tittel[tema inngår i prosjektsøknad],MATCH(AD23,prosjekttema_og_tittel[rowId - prosjekttema],0)),"") | AW23: =IFERROR(INDEX(prosjekttema_og_tittel[prosjekttema inngår i prosjektsøknad som har fått innvilgede midler],MATCH(AD23,prosjekttema_og_tittel[rowId - prosjekttema],0)),"") | AX23: =IFERROR(INDEX($T$13:$T$76,MATCH('backend (Ikke rør)'!$AD23,$Q$13:$Q$76,0)),"") -> Måloppnåelse (antall ansatte) | AY23: =IFERROR(INDEX($U$13:$U$76,MATCH('backend (Ikke rør)'!$AD23,$Q$13:$Q$76,0)),"") -> 0 | AZ23: =IFERROR(INDEX($V$13:$V$76,MATCH('backend (Ikke rør)'!$AD23,$Q$13:$Q$76,0)),"") -> 0 | BA23: =IFERROR(INDEX($V$79:$V$107,MATCH('backend (Ikke rør)'!$AD23,$Q$79:$Q$107,0)),"") -> 0 | BB23: =IFERROR(INDEX($W$79:$W$107,MATCH('backend (Ikke rør)'!$AD23,$Q$79:$Q$107,0)),"") -> 0 | BC23: =IF(OR(AD23="1.1.",AD23="1.4.",AD23="1.5.",AD23="1.6."),FALSE,TRUE) -> TRUE | BE23: 36 | BF23: 0 | BG23: 0 | BH23: 0 | BI23: 0 | BJ23: 0 | BK23: 0 | BL23: 0 | BM23: 0 | BN23: 0 | BO23: 0 | BP23: 0 | BQ23: 0 | BR23: 0 | BS23: 0 | BT23: 0 | BU23: 0 | BV23: 0 | BW23: 0 | BX23: 0 | BY23: 0 | BZ23: 0 | CC23: Måloppnåelse (antall ansatte) | CD23: 0 | CE23: 0 | CF23: 0 | CG23: 0
C24: P3.7c | D24: P3.2g | E24: P_.2g | F24: =SUMIFS(kommunedata_grunnlag_før_rapportering[Totalt innvilget beløp (Autosummert)],kommunedata_grunnlag_før_rapportering[row_id],prosjekttema_og_tittel[[#This Row],[rowId - prosjektSøknadsbeløp]]) -> 0 | G24: =prosjekttema_og_tittel[[#This Row],[totalt innvilget]]>0 -> FALSE | H24: =IFERROR(IF(INDEX(kommunedata_grunnlag_før_rapportering[Svar / Merknad],MATCH(prosjekttema_og_tittel[[#This Row],[rowId - prosjekttema]],kommunedata_grunnlag_før_rapportering[row_id],0))="Ja",1,0),0) -> 0 | I24: =IF(AND(prosjekttema_og_tittel[[#This Row],[prosjeksøknad har fått innvilgede midler]],prosjekttema_og_tittel[[#This Row],[tema inngår i prosjektsøknad]]=1),1,0) -> 0 | J24: P3.1a | K24: =IFERROR(INDEX(kommunedata_grunnlag_før_rapportering[Svar / Merknad],MATCH(prosjekttema_og_tittel[[#This Row],[rowId - prosjekttittel]],kommunedata_grunnlag_før_rapportering[row_id],0)),"") | Q24: =Rapportering!B20 -> 2.2d | R24: =Rapportering!C20 -> #N/A | S24: =Rapportering!D20 -> #N/A | T24: =Rapportering!E20 -> 0 | U24: =Rapportering!F20 -> 0 | V24: =Rapportering!G20 -> 0 | W24: =Rapportering!H20 -> 0 | Z24: 23 | AV24: =IFERROR(INDEX(prosjekttema_og_tittel[tema inngår i prosjektsøknad],MATCH(AD24,prosjekttema_og_tittel[rowId - prosjekttema],0)),"") | AW24: =IFERROR(INDEX(prosjekttema_og_tittel[prosjekttema inngår i prosjektsøknad som har fått innvilgede midler],MATCH(AD24,prosjekttema_og_tittel[rowId - prosjekttema],0)),"") | AX24: =IFERROR(INDEX($T$13:$T$76,MATCH('backend (Ikke rør)'!$AD24,$Q$13:$Q$76,0)),"") -> Måloppnåelse (antall ansatte) | AY24: =IFERROR(INDEX($U$13:$U$76,MATCH('backend (Ikke rør)'!$AD24,$Q$13:$Q$76,0)),"") -> 0 | AZ24: =IFERROR(INDEX($V$13:$V$76,MATCH('backend (Ikke rør)'!$AD24,$Q$13:$Q$76,0)),"") -> 0 | BA24: =IFERROR(INDEX($V$79:$V$107,MATCH('backend (Ikke rør)'!$AD24,$Q$79:$Q$107,0)),"") -> 0 | BB24: =IFERROR(INDEX($W$79:$W$107,MATCH('backend (Ikke rør)'!$AD24,$Q$79:$Q$107,0)),"") -> 0 | BC24: =IF(OR(AD24="1.1.",AD24="1.4.",AD24="1.5.",AD24="1.6."),FALSE,TRUE) -> TRUE | BE24: 37 | BF24: 0 | BG24: 0 | BH24: 0 | BI24: 0 | BJ24: 0 | BK24: 0 | BL24: 0 | BM24: 0 | BN24: 0 | BO24: 0 | BP24: 0 | BQ24: 0 | BR24: 0 | BS24: 0 | BT24: 0 | BU24: 0 | BV24: 0 | BW24: 0 | BX24: 0 | BY24: 0 | BZ24: 0 | CC24: Måloppnåelse (antall ansatte) | CD24: 0 | CE24: 0 | CF24: 0 | CG24: 0
C25: P3.7c | D25: P3.2h | E25: P_.2h | F25: =SUMIFS(kommunedata_grunnlag_før_rapportering[Totalt innvilget beløp (Autosummert)],kommunedata_grunnlag_før_rapportering[row_id],prosjekttema_og_tittel[[#This Row],[rowId - prosjektSøknadsbeløp]]) -> 0 | G25: =prosjekttema_og_tittel[[#This Row],[totalt innvilget]]>0 -> FALSE | H25: =IFERROR(IF(INDEX(kommunedata_grunnlag_før_rapportering[Svar / Merknad],MATCH(prosjekttema_og_tittel[[#This Row],[rowId - prosjekttema]],kommunedata_grunnlag_før_rapportering[row_id],0))="Ja",1,0),0) -> 0 | I25: =IF(AND(prosjekttema_og_tittel[[#This Row],[prosjeksøknad har fått innvilgede midler]],prosjekttema_og_tittel[[#This Row],[tema inngår i prosjektsøknad]]=1),1,0) -> 0 | J25: P3.1a | K25: =IFERROR(INDEX(kommunedata_grunnlag_før_rapportering[Svar / Merknad],MATCH(prosjekttema_og_tittel[[#This Row],[rowId - prosjekttittel]],kommunedata_grunnlag_før_rapportering[row_id],0)),"") | Q25: =Rapportering!B21 -> 2.2e | R25: =Rapportering!C21 -> #N/A | S25: =Rapportering!D21 -> #N/A | T25: =Rapportering!E21 -> 0 | U25: =Rapportering!F21 -> 0 | V25: =Rapportering!G21 -> 0 | W25: =Rapportering!H21 -> 0 | Z25: 24 | AV25: =IFERROR(INDEX(prosjekttema_og_tittel[tema inngår i prosjektsøknad],MATCH(AD25,prosjekttema_og_tittel[rowId - prosjekttema],0)),"") | AW25: =IFERROR(INDEX(prosjekttema_og_tittel[prosjekttema inngår i prosjektsøknad som har fått innvilgede midler],MATCH(AD25,prosjekttema_og_tittel[rowId - prosjekttema],0)),"") | AX25: =IFERROR(INDEX($T$13:$T$76,MATCH('backend (Ikke rør)'!$AD25,$Q$13:$Q$76,0)),"") -> Måloppnåelse (antall ansatte) | AY25: =IFERROR(INDEX($U$13:$U$76,MATCH('backend (Ikke rør)'!$AD25,$Q$13:$Q$76,0)),"") -> 0 | AZ25: =IFERROR(INDEX($V$13:$V$76,MATCH('backend (Ikke rør)'!$AD25,$Q$13:$Q$76,0)),"") -> 0 | BA25: =IFERROR(INDEX($V$79:$V$107,MATCH('backend (Ikke rør)'!$AD25,$Q$79:$Q$107,0)),"") -> 0 | BB25: =IFERROR(INDEX($W$79:$W$107,MATCH('backend (Ikke rør)'!$AD25,$Q$79:$Q$107,0)),"") -> 0 | BC25: =IF(OR(AD25="1.1.",AD25="1.4.",AD25="1.5.",AD25="1.6."),FALSE,TRUE) -> TRUE | BE25: 38 | BF25: 0 | BG25: 0 | BH25: 0 | BI25: 0 | BJ25: 0 | BK25: 0 | BL25: 0 | BM25: 0 | BN25: 0 | BO25: 0 | BP25: 0 | BQ25: 0 | BR25: 0 | BS25: 0 | BT25: 0 | BU25: 0 | BV25: 0 | BW25: 0 | BX25: 0 | BY25: 0 | BZ25: 0 | CC25: Måloppnåelse (antall ansatte) | CD25: 0 | CE25: 0 | CF25: 0 | CG25: 0
C26: P4.7c | D26: P4.2a | E26: P_.2a | F26: =SUMIFS(kommunedata_grunnlag_før_rapportering[Totalt innvilget beløp (Autosummert)],kommunedata_grunnlag_før_rapportering[row_id],prosjekttema_og_tittel[[#This Row],[rowId - prosjektSøknadsbeløp]]) -> 0 | G26: =prosjekttema_og_tittel[[#This Row],[totalt innvilget]]>0 -> FALSE | H26: =IFERROR(IF(INDEX(kommunedata_grunnlag_før_rapportering[Svar / Merknad],MATCH(prosjekttema_og_tittel[[#This Row],[rowId - prosjekttema]],kommunedata_grunnlag_før_rapportering[row_id],0))="Ja",1,0),0) -> 0 | I26: =IF(AND(prosjekttema_og_tittel[[#This Row],[prosjeksøknad har fått innvilgede midler]],prosjekttema_og_tittel[[#This Row],[tema inngår i prosjektsøknad]]=1),1,0) -> 0 | J26: P4.1a | K26: =IFERROR(INDEX(kommunedata_grunnlag_før_rapportering[Svar / Merknad],MATCH(prosjekttema_og_tittel[[#This Row],[rowId - prosjekttittel]],kommunedata_grunnlag_før_rapportering[row_id],0)),"") | Q26: =Rapportering!B22 -> 2.2f | R26: =Rapportering!C22 -> #N/A | S26: =Rapportering!D22 -> #N/A | T26: =Rapportering!E22 -> 0 | U26: =Rapportering!F22 -> 0 | V26: =Rapportering!G22 -> 0 | W26: =Rapportering!H22 -> 0 | Z26: 25 | AV26: =IFERROR(INDEX(prosjekttema_og_tittel[tema inngår i prosjektsøknad],MATCH(AD26,prosjekttema_og_tittel[rowId - prosjekttema],0)),"") | AW26: =IFERROR(INDEX(prosjekttema_og_tittel[prosjekttema inngår i prosjektsøknad som har fått innvilgede midler],MATCH(AD26,prosjekttema_og_tittel[rowId - prosjekttema],0)),"") | AX26: =IFERROR(INDEX($T$13:$T$76,MATCH('backend (Ikke rør)'!$AD26,$Q$13:$Q$76,0)),"") -> Måloppnåelse (antall ansatte) | AY26: =IFERROR(INDEX($U$13:$U$76,MATCH('backend (Ikke rør)'!$AD26,$Q$13:$Q$76,0)),"") -> 0 | AZ26: =IFERROR(INDEX($V$13:$V$76,MATCH('backend (Ikke rør)'!$AD26,$Q$13:$Q$76,0)),"") -> 0 | BA26: =IFERROR(INDEX($V$79:$V$107,MATCH('backend (Ikke rør)'!$AD26,$Q$79:$Q$107,0)),"") -> 0 | BB26: =IFERROR(INDEX($W$79:$W$107,MATCH('backend (Ikke rør)'!$AD26,$Q$79:$Q$107,0)),"") -> 0 | BC26: =IF(OR(AD26="1.1.",AD26="1.4.",AD26="1.5.",AD26="1.6."),FALSE,TRUE) -> TRUE | BE26: 39 | BF26: 0 | BG26: 0 | BH26: 0 | BI26: 0 | BJ26: 0 | BK26: 0 | BL26: 0 | BM26: 0 | BN26: 0 | BO26: 0 | BP26: 0 | BQ26: 0 | BR26: 0 | BS26: 0 | BT26: 0 | BU26: 0 | BV26: 0 | BW26: 0 | BX26: 0 | BY26: 0 | BZ26: 0 | CC26: Måloppnåelse (antall ansatte) | CD26: 0 | CE26: 0 | CF26: 0 | CG26: 0
C27: P4.7c | D27: P4.2b | E27: P_.2b | F27: =SUMIFS(kommunedata_grunnlag_før_rapportering[Totalt innvilget beløp (Autosummert)],kommunedata_grunnlag_før_rapportering[row_id],prosjekttema_og_tittel[[#This Row],[rowId - prosjektSøknadsbeløp]]) -> 0 | G27: =prosjekttema_og_tittel[[#This Row],[totalt innvilget]]>0 -> FALSE | H27: =IFERROR(IF(INDEX(kommunedata_grunnlag_før_rapportering[Svar / Merknad],MATCH(prosjekttema_og_tittel[[#This Row],[rowId - prosjekttema]],kommunedata_grunnlag_før_rapportering[row_id],0))="Ja",1,0),0) -> 0 | I27: =IF(AND(prosjekttema_og_tittel[[#This Row],[prosjeksøknad har fått innvilgede midler]],prosjekttema_og_tittel[[#This Row],[tema inngår i prosjektsøknad]]=1),1,0) -> 0 | J27: P4.1a | K27: =IFERROR(INDEX(kommunedata_grunnlag_før_rapportering[Svar / Merknad],MATCH(prosjekttema_og_tittel[[#This Row],[rowId - prosjekttittel]],kommunedata_grunnlag_før_rapportering[row_id],0)),"") | Q27: =Rapportering!B23 -> 0 | R27: =Rapportering!C23 -> Sum (2.2) : | S27: =Rapportering!D23 -> #N/A | T27: =Rapportering!E23 -> 0 | U27: =Rapportering!F23 -> 0 | V27: =Rapportering!G23 -> 0 | W27: =Rapportering!H23 -> 0 | Z27: 26 | AV27: =IFERROR(INDEX(prosjekttema_og_tittel[tema inngår i prosjektsøknad],MATCH(AD27,prosjekttema_og_tittel[rowId - prosjekttema],0)),"") | AW27: =IFERROR(INDEX(prosjekttema_og_tittel[prosjekttema inngår i prosjektsøknad som har fått innvilgede midler],MATCH(AD27,prosjekttema_og_tittel[rowId - prosjekttema],0)),"") | AX27: =IFERROR(INDEX($T$13:$T$76,MATCH('backend (Ikke rør)'!$AD27,$Q$13:$Q$76,0)),"") -> Måloppnåelse (antall ansatte) | AY27: =IFERROR(INDEX($U$13:$U$76,MATCH('backend (Ikke rør)'!$AD27,$Q$13:$Q$76,0)),"") -> 0 | AZ27: =IFERROR(INDEX($V$13:$V$76,MATCH('backend (Ikke rør)'!$AD27,$Q$13:$Q$76,0)),"") -> 0 | BA27: =IFERROR(INDEX($V$79:$V$107,MATCH('backend (Ikke rør)'!$AD27,$Q$79:$Q$107,0)),"") -> 0 | BB27: =IFERROR(INDEX($W$79:$W$107,MATCH('backend (Ikke rør)'!$AD27,$Q$79:$Q$107,0)),"") -> 0 | BC27: =IF(OR(AD27="1.1.",AD27="1.4.",AD27="1.5.",AD27="1.6."),FALSE,TRUE) -> TRUE | BE27: 40 | BF27: 0 | BG27: 0 | BH27: 0 | BI27: 0 | BJ27: 0 | BK27: 0 | BL27: 0 | BM27: 0 | BN27: 0 | BO27: 0 | BP27: 0 | BQ27: 0 | BR27: 0 | BS27: 0 | BT27: 0 | BU27: 0 | BV27: 0 | BW27: 0 | BX27: 0 | BY27: 0 | BZ27: 0 | CC27: Måloppnåelse (antall ansatte) | CD27: 0 | CE27: 0 | CF27: 0 | CG27: 0
C28: P4.7c | D28: P4.2c | E28: P_.2c | F28: =SUMIFS(kommunedata_grunnlag_før_rapportering[Totalt innvilget beløp (Autosummert)],kommunedata_grunnlag_før_rapportering[row_id],prosjekttema_og_tittel[[#This Row],[rowId - prosjektSøknadsbeløp]]) -> 0 | G28: =prosjekttema_og_tittel[[#This Row],[totalt innvilget]]>0 -> FALSE | H28: =IFERROR(IF(INDEX(kommunedata_grunnlag_før_rapportering[Svar / Merknad],MATCH(prosjekttema_og_tittel[[#This Row],[rowId - prosjekttema]],kommunedata_grunnlag_før_rapportering[row_id],0))="Ja",1,0),0) -> 0 | I28: =IF(AND(prosjekttema_og_tittel[[#This Row],[prosjeksøknad har fått innvilgede midler]],prosjekttema_og_tittel[[#This Row],[tema inngår i prosjektsøknad]]=1),1,0) -> 0 | J28: P4.1a | K28: =IFERROR(INDEX(kommunedata_grunnlag_før_rapportering[Svar / Merknad],MATCH(prosjekttema_og_tittel[[#This Row],[rowId - prosjekttittel]],kommunedata_grunnlag_før_rapportering[row_id],0)),"") | Q28: =Rapportering!B24 -> 2.3. | R28: =Rapportering!C24 -> Bachelorutdanning helse- og sosialfag | S28: =Rapportering!D24 -> 0 | T28: =Rapportering!E24 -> 0 | U28: =Rapportering!F24 -> 0 | V28: =Rapportering!G24 -> 0 | W28: =Rapportering!H24 -> 0 | Z28: 27 | AV28: =IFERROR(INDEX(prosjekttema_og_tittel[tema inngår i prosjektsøknad],MATCH(AD28,prosjekttema_og_tittel[rowId - prosjekttema],0)),"") | AW28: =IFERROR(INDEX(prosjekttema_og_tittel[prosjekttema inngår i prosjektsøknad som har fått innvilgede midler],MATCH(AD28,prosjekttema_og_tittel[rowId - prosjekttema],0)),"") | AX28: =IFERROR(INDEX($T$13:$T$76,MATCH('backend (Ikke rør)'!$AD28,$Q$13:$Q$76,0)),"") -> Måloppnåelse (antall ansatte) | AY28: =IFERROR(INDEX($U$13:$U$76,MATCH('backend (Ikke rør)'!$AD28,$Q$13:$Q$76,0)),"") -> 0 | AZ28: =IFERROR(INDEX($V$13:$V$76,MATCH('backend (Ikke rør)'!$AD28,$Q$13:$Q$76,0)),"") -> 0 | BA28: =IFERROR(INDEX($V$79:$V$107,MATCH('backend (Ikke rør)'!$AD28,$Q$79:$Q$107,0)),"") -> 0 | BB28: =IFERROR(INDEX($W$79:$W$107,MATCH('backend (Ikke rør)'!$AD28,$Q$79:$Q$107,0)),"") -> 0 | BC28: =IF(OR(AD28="1.1.",AD28="1.4.",AD28="1.5.",AD28="1.6."),FALSE,TRUE) -> TRUE | BE28: 41 | BF28: 0 | BG28: 0 | BH28: 0 | BI28: 0 | BJ28: 0 | BK28: 0 | BL28: 0 | BM28: 0 | BN28: 0 | BO28: 0 | BP28: 0 | BQ28: 0 | BR28: 0 | BS28: 0 | BT28: 0 | BU28: 0 | BV28: 0 | BW28: 0 | BX28: 0 | BY28: 0 | BZ28: 0 | CC28: Måloppnåelse (antall ansatte) | CD28: 0 | CE28: 0 | CF28: 0 | CG28: 0
C29: P4.7c | D29: P4.2d | E29: P_.2d | F29: =SUMIFS(kommunedata_grunnlag_før_rapportering[Totalt innvilget beløp (Autosummert)],kommunedata_grunnlag_før_rapportering[row_id],prosjekttema_og_tittel[[#This Row],[rowId - prosjektSøknadsbeløp]]) -> 0 | G29: =prosjekttema_og_tittel[[#This Row],[totalt innvilget]]>0 -> FALSE | H29: =IFERROR(IF(INDEX(kommunedata_grunnlag_før_rapportering[Svar / Merknad],MATCH(prosjekttema_og_tittel[[#This Row],[rowId - prosjekttema]],kommunedata_grunnlag_før_rapportering[row_id],0))="Ja",1,0),0) -> 0 | I29: =IF(AND(prosjekttema_og_tittel[[#This Row],[prosjeksøknad har fått innvilgede midler]],prosjekttema_og_tittel[[#This Row],[tema inngår i prosjektsøknad]]=1),1,0) -> 0 | J29: P4.1a | K29: =IFERROR(INDEX(kommunedata_grunnlag_før_rapportering[Svar / Merknad],MATCH(prosjekttema_og_tittel[[#This Row],[rowId - prosjekttittel]],kommunedata_grunnlag_før_rapportering[row_id],0)),"") | Q29: =Rapportering!B25 -> 2.3a | R29: =Rapportering!C25 -> #N/A | S29: =Rapportering!D25 -> #N/A | T29: =Rapportering!E25 -> 0 | U29: =Rapportering!F25 -> 0 | V29: =Rapportering!G25 -> 0 | W29: =Rapportering!H25 -> 0 | Z29: 28 | AV29: =IFERROR(INDEX(prosjekttema_og_tittel[tema inngår i prosjektsøknad],MATCH(AD29,prosjekttema_og_tittel[rowId - prosjekttema],0)),"") | AW29: =IFERROR(INDEX(prosjekttema_og_tittel[prosjekttema inngår i prosjektsøknad som har fått innvilgede midler],MATCH(AD29,prosjekttema_og_tittel[rowId - prosjekttema],0)),"") | AX29: =IFERROR(INDEX($T$13:$T$76,MATCH('backend (Ikke rør)'!$AD29,$Q$13:$Q$76,0)),"") -> Måloppnåelse (antall ansatte) | AY29: =IFERROR(INDEX($U$13:$U$76,MATCH('backend (Ikke rør)'!$AD29,$Q$13:$Q$76,0)),"") -> 0 | AZ29: =IFERROR(INDEX($V$13:$V$76,MATCH('backend (Ikke rør)'!$AD29,$Q$13:$Q$76,0)),"") -> 0 | BA29: =IFERROR(INDEX($V$79:$V$107,MATCH('backend (Ikke rør)'!$AD29,$Q$79:$Q$107,0)),"") -> 0 | BB29: =IFERROR(INDEX($W$79:$W$107,MATCH('backend (Ikke rør)'!$AD29,$Q$79:$Q$107,0)),"") -> 0 | BC29: =IF(OR(AD29="1.1.",AD29="1.4.",AD29="1.5.",AD29="1.6."),FALSE,TRUE) -> TRUE | BE29: 42 | BF29: 0 | BG29: 0 | BH29: 0 | BI29: 0 | BJ29: 0 | BK29: 0 | BL29: 0 | BM29: 0 | BN29: 0 | BO29: 0 | BP29: 0 | BQ29: 0 | BR29: 0 | BS29: 0 | BT29: 0 | BU29: 0 | BV29: 0 | BW29: 0 | BX29: 0 | BY29: 0 | BZ29: 0 | CC29: Måloppnåelse (antall ansatte) | CD29: 0 | CE29: 0 | CF29: 0 | CG29: 0
C30: P4.7c | D30: P4.2e | E30: P_.2e | F30: =SUMIFS(kommunedata_grunnlag_før_rapportering[Totalt innvilget beløp (Autosummert)],kommunedata_grunnlag_før_rapportering[row_id],prosjekttema_og_tittel[[#This Row],[rowId - prosjektSøknadsbeløp]]) -> 0 | G30: =prosjekttema_og_tittel[[#This Row],[totalt innvilget]]>0 -> FALSE | H30: =IFERROR(IF(INDEX(kommunedata_grunnlag_før_rapportering[Svar / Merknad],MATCH(prosjekttema_og_tittel[[#This Row],[rowId - prosjekttema]],kommunedata_grunnlag_før_rapportering[row_id],0))="Ja",1,0),0) -> 0 | I30: =IF(AND(prosjekttema_og_tittel[[#This Row],[prosjeksøknad har fått innvilgede midler]],prosjekttema_og_tittel[[#This Row],[tema inngår i prosjektsøknad]]=1),1,0) -> 0 | J30: P4.1a | K30: =IFERROR(INDEX(kommunedata_grunnlag_før_rapportering[Svar / Merknad],MATCH(prosjekttema_og_tittel[[#This Row],[rowId - prosjekttittel]],kommunedata_grunnlag_før_rapportering[row_id],0)),"") | Q30: =Rapportering!B26 -> 2.3b | R30: =Rapportering!C26 -> #N/A | S30: =Rapportering!D26 -> #N/A | T30: =Rapportering!E26 -> 0 | U30: =Rapportering!F26 -> 0 | V30: =Rapportering!G26 -> 0 | W30: =Rapportering!H26 -> 0 | Z30: 29 | AV30: =IFERROR(INDEX(prosjekttema_og_tittel[tema inngår i prosjektsøknad],MATCH(AD30,prosjekttema_og_tittel[rowId - prosjekttema],0)),"") | AW30: =IFERROR(INDEX(prosjekttema_og_tittel[prosjekttema inngår i prosjektsøknad som har fått innvilgede midler],MATCH(AD30,prosjekttema_og_tittel[rowId - prosjekttema],0)),"") | AX30: =IFERROR(INDEX($T$13:$T$76,MATCH('backend (Ikke rør)'!$AD30,$Q$13:$Q$76,0)),"") -> Måloppnåelse (antall ansatte) | AY30: =IFERROR(INDEX($U$13:$U$76,MATCH('backend (Ikke rør)'!$AD30,$Q$13:$Q$76,0)),"") -> 0 | AZ30: =IFERROR(INDEX($V$13:$V$76,MATCH('backend (Ikke rør)'!$AD30,$Q$13:$Q$76,0)),"") -> 0 | BA30: =IFERROR(INDEX($V$79:$V$107,MATCH('backend (Ikke rør)'!$AD30,$Q$79:$Q$107,0)),"") -> 0 | BB30: =IFERROR(INDEX($W$79:$W$107,MATCH('backend (Ikke rør)'!$AD30,$Q$79:$Q$107,0)),"") -> 0 | BC30: TRUE | BE30: 43 | BF30: 0 | BG30: 0 | BH30: 0 | BI30: 0 | BJ30: 0 | BK30: 0 | BL30: 0 | BM30: 0 | BN30: 0 | BO30: 0 | BP30: 0 | BQ30: 0 | BR30: 0 | BS30: 0 | BT30: 0 | BU30: 0 | BV30: 0 | BW30: 0 | BX30: 0 | BY30: 0 | BZ30: 0 | CC30: Måloppnåelse (antall ansatte) | CD30: 0 | CE30: 0 | CF30: 0 | CG30: 0
C31: P4.7c | D31: P4.2f | E31: P_.2f | F31: =SUMIFS(kommunedata_grunnlag_før_rapportering[Totalt innvilget beløp (Autosummert)],kommunedata_grunnlag_før_rapportering[row_id],prosjekttema_og_tittel[[#This Row],[rowId - prosjektSøknadsbeløp]]) -> 0 | G31: =prosjekttema_og_tittel[[#This Row],[totalt innvilget]]>0 -> FALSE | H31: =IFERROR(IF(INDEX(kommunedata_grunnlag_før_rapportering[Svar / Merknad],MATCH(prosjekttema_og_tittel[[#This Row],[rowId - prosjekttema]],kommunedata_grunnlag_før_rapportering[row_id],0))="Ja",1,0),0) -> 0 | I31: =IF(AND(prosjekttema_og_tittel[[#This Row],[prosjeksøknad har fått innvilgede midler]],prosjekttema_og_tittel[[#This Row],[tema inngår i prosjektsøknad]]=1),1,0) -> 0 | J31: P4.1a | K31: =IFERROR(INDEX(kommunedata_grunnlag_før_rapportering[Svar / Merknad],MATCH(prosjekttema_og_tittel[[#This Row],[rowId - prosjekttittel]],kommunedata_grunnlag_før_rapportering[row_id],0)),"") | Q31: =Rapportering!B27 -> 2.3c | R31: =Rapportering!C27 -> #N/A | S31: =Rapportering!D27 -> #N/A | T31: =Rapportering!E27 -> 0 | U31: =Rapportering!F27 -> 0 | V31: =Rapportering!G27 -> 0 | W31: =Rapportering!H27 -> 0 | Z31: 30 | AV31: =IFERROR(INDEX(prosjekttema_og_tittel[tema inngår i prosjektsøknad],MATCH(AD31,prosjekttema_og_tittel[rowId - prosjekttema],0)),"") | AW31: =IFERROR(INDEX(prosjekttema_og_tittel[prosjekttema inngår i prosjektsøknad som har fått innvilgede midler],MATCH(AD31,prosjekttema_og_tittel[rowId - prosjekttema],0)),"") | AX31: =IFERROR(INDEX($T$13:$T$76,MATCH('backend (Ikke rør)'!$AD31,$Q$13:$Q$76,0)),"") -> Måloppnåelse (antall ansatte) | AY31: =IFERROR(INDEX($U$13:$U$76,MATCH('backend (Ikke rør)'!$AD31,$Q$13:$Q$76,0)),"") -> 0 | AZ31: =IFERROR(INDEX($V$13:$V$76,MATCH('backend (Ikke rør)'!$AD31,$Q$13:$Q$76,0)),"") -> 0 | BA31: =IFERROR(INDEX($V$79:$V$107,MATCH('backend (Ikke rør)'!$AD31,$Q$79:$Q$107,0)),"") -> 0 | BB31: =IFERROR(INDEX($W$79:$W$107,MATCH('backend (Ikke rør)'!$AD31,$Q$79:$Q$107,0)),"") -> 0 | BC31: TRUE | BE31: 44 | BF31: 0 | BG31: 0 | BH31: 0 | BI31: 0 | BJ31: 0 | BK31: 0 | BL31: 0 | BM31: 0 | BN31: 0 | BO31: 0 | BP31: 0 | BQ31: 0 | BR31: 0 | BS31: 0 | BT31: 0 | BU31: 0 | BV31: 0 | BW31: 0 | BX31: 0 | BY31: 0 | BZ31: 0 | CC31: Måloppnåelse (antall ansatte) | CD31: 0 | CE31: 0 | CF31: 0 | CG31: 0
C32: P4.7c | D32: P4.2g | E32: P_.2g | F32: =SUMIFS(kommunedata_grunnlag_før_rapportering[Totalt innvilget beløp (Autosummert)],kommunedata_grunnlag_før_rapportering[row_id],prosjekttema_og_tittel[[#This Row],[rowId - prosjektSøknadsbeløp]]) -> 0 | G32: =prosjekttema_og_tittel[[#This Row],[totalt innvilget]]>0 -> FALSE | H32: =IFERROR(IF(INDEX(kommunedata_grunnlag_før_rapportering[Svar / Merknad],MATCH(prosjekttema_og_tittel[[#This Row],[rowId - prosjekttema]],kommunedata_grunnlag_før_rapportering[row_id],0))="Ja",1,0),0) -> 0 | I32: =IF(AND(prosjekttema_og_tittel[[#This Row],[prosjeksøknad har fått innvilgede midler]],prosjekttema_og_tittel[[#This Row],[tema inngår i prosjektsøknad]]=1),1,0) -> 0 | J32: P4.1a | K32: =IFERROR(INDEX(kommunedata_grunnlag_før_rapportering[Svar / Merknad],MATCH(prosjekttema_og_tittel[[#This Row],[rowId - prosjekttittel]],kommunedata_grunnlag_før_rapportering[row_id],0)),"") | Q32: =Rapportering!B28 -> 2.3d | R32: =Rapportering!C28 -> #N/A | S32: =Rapportering!D28 -> #N/A | T32: =Rapportering!E28 -> 0 | U32: =Rapportering!F28 -> 0 | V32: =Rapportering!G28 -> 0 | W32: =Rapportering!H28 -> 0 | Z32: 31 | AV32: =IFERROR(INDEX(prosjekttema_og_tittel[tema inngår i prosjektsøknad],MATCH(AD32,prosjekttema_og_tittel[rowId - prosjekttema],0)),"") | AW32: =IFERROR(INDEX(prosjekttema_og_tittel[prosjekttema inngår i prosjektsøknad som har fått innvilgede midler],MATCH(AD32,prosjekttema_og_tittel[rowId - prosjekttema],0)),"") | AX32: =IFERROR(INDEX($T$13:$T$76,MATCH('backend (Ikke rør)'!$AD32,$Q$13:$Q$76,0)),"") -> Måloppnåelse (antall ansatte) | AY32: =IFERROR(INDEX($U$13:$U$76,MATCH('backend (Ikke rør)'!$AD32,$Q$13:$Q$76,0)),"") -> 0 | AZ32: =IFERROR(INDEX($V$13:$V$76,MATCH('backend (Ikke rør)'!$AD32,$Q$13:$Q$76,0)),"") -> 0 | BA32: =IFERROR(INDEX($V$79:$V$107,MATCH('backend (Ikke rør)'!$AD32,$Q$79:$Q$107,0)),"") -> 0 | BB32: =IFERROR(INDEX($W$79:$W$107,MATCH('backend (Ikke rør)'!$AD32,$Q$79:$Q$107,0)),"") -> 0 | BC32: TRUE | BE32: 45 | BF32: 0 | BG32: 0 | BH32: 0 | BI32: 0 | BJ32: 0 | BK32: 0 | BL32: 0 | BM32: 0 | BN32: 0 | BO32: 0 | BP32: 0 | BQ32: 0 | BR32: 0 | BS32: 0 | BT32: 0 | BU32: 0 | BV32: 0 | BW32: 0 | BX32: 0 | BY32: 0 | BZ32: 0 | CC32: Måloppnåelse (antall ansatte) | CD32: 0 | CE32: 0 | CF32: 0 | CG32: 0
C33: P4.7c | D33: P4.2h | E33: P_.2h | F33: =SUMIFS(kommunedata_grunnlag_før_rapportering[Totalt innvilget beløp (Autosummert)],kommunedata_grunnlag_før_rapportering[row_id],prosjekttema_og_tittel[[#This Row],[rowId - prosjektSøknadsbeløp]]) -> 0 | G33: =prosjekttema_og_tittel[[#This Row],[totalt innvilget]]>0 -> FALSE | H33: =IFERROR(IF(INDEX(kommunedata_grunnlag_før_rapportering[Svar / Merknad],MATCH(prosjekttema_og_tittel[[#This Row],[rowId - prosjekttema]],kommunedata_grunnlag_før_rapportering[row_id],0))="Ja",1,0),0) -> 0 | I33: =IF(AND(prosjekttema_og_tittel[[#This Row],[prosjeksøknad har fått innvilgede midler]],prosjekttema_og_tittel[[#This Row],[tema inngår i prosjektsøknad]]=1),1,0) -> 0 | J33: P4.1a | K33: =IFERROR(INDEX(kommunedata_grunnlag_før_rapportering[Svar / Merknad],MATCH(prosjekttema_og_tittel[[#This Row],[rowId - prosjekttittel]],kommunedata_grunnlag_før_rapportering[row_id],0)),"") | Q33: =Rapportering!B29 -> 2.3e | R33: =Rapportering!C29 -> #N/A | S33: =Rapportering!D29 -> #N/A | T33: =Rapportering!E29 -> 0 | U33: =Rapportering!F29 -> 0 | V33: =Rapportering!G29 -> 0 | W33: =Rapportering!H29 -> 0 | Z33: 32 | AV33: =IFERROR(INDEX(prosjekttema_og_tittel[tema inngår i prosjektsøknad],MATCH(AD33,prosjekttema_og_tittel[rowId - prosjekttema],0)),"") | AW33: =IFERROR(INDEX(prosjekttema_og_tittel[prosjekttema inngår i prosjektsøknad som har fått innvilgede midler],MATCH(AD33,prosjekttema_og_tittel[rowId - prosjekttema],0)),"") | AX33: =IFERROR(INDEX($T$13:$T$76,MATCH('backend (Ikke rør)'!$AD33,$Q$13:$Q$76,0)),"") -> Måloppnåelse (antall ansatte) | AY33: =IFERROR(INDEX($U$13:$U$76,MATCH('backend (Ikke rør)'!$AD33,$Q$13:$Q$76,0)),"") -> 0 | AZ33: =IFERROR(INDEX($V$13:$V$76,MATCH('backend (Ikke rør)'!$AD33,$Q$13:$Q$76,0)),"") -> 0 | BA33: =IFERROR(INDEX($V$79:$V$107,MATCH('backend (Ikke rør)'!$AD33,$Q$79:$Q$107,0)),"") -> 0 | BB33: =IFERROR(INDEX($W$79:$W$107,MATCH('backend (Ikke rør)'!$AD33,$Q$79:$Q$107,0)),"") -> 0 | BC33: TRUE | BE33: 46 | BF33: 0 | BG33: 0 | BH33: 0 | BI33: 0 | BJ33: 0 | BK33: 0 | BL33: 0 | BM33: 0 | BN33: 0 | BO33: 0 | BP33: 0 | BQ33: 0 | BR33: 0 | BS33: 0 | BT33: 0 | BU33: 0 | BV33: 0 | BW33: 0 | BX33: 0 | BY33: 0 | BZ33: 0 | CC33: Måloppnåelse (antall ansatte) | CD33: 0 | CE33: 0 | CF33: 0 | CG33: 0
C34: P5.7c | D34: P5.2a | E34: P_.2a | F34: =SUMIFS(kommunedata_grunnlag_før_rapportering[Totalt innvilget beløp (Autosummert)],kommunedata_grunnlag_før_rapportering[row_id],prosjekttema_og_tittel[[#This Row],[rowId - prosjektSøknadsbeløp]]) -> 0 | G34: =prosjekttema_og_tittel[[#This Row],[totalt innvilget]]>0 -> FALSE | H34: =IFERROR(IF(INDEX(kommunedata_grunnlag_før_rapportering[Svar / Merknad],MATCH(prosjekttema_og_tittel[[#This Row],[rowId - prosjekttema]],kommunedata_grunnlag_før_rapportering[row_id],0))="Ja",1,0),0) -> 0 | I34: =IF(AND(prosjekttema_og_tittel[[#This Row],[prosjeksøknad har fått innvilgede midler]],prosjekttema_og_tittel[[#This Row],[tema inngår i prosjektsøknad]]=1),1,0) -> 0 | J34: P5.1a | K34: =IFERROR(INDEX(kommunedata_grunnlag_før_rapportering[Svar / Merknad],MATCH(prosjekttema_og_tittel[[#This Row],[rowId - prosjekttittel]],kommunedata_grunnlag_før_rapportering[row_id],0)),"") | Q34: =Rapportering!B30 -> 2.3f | R34: =Rapportering!C30 -> #N/A | S34: =Rapportering!D30 -> #N/A | T34: =Rapportering!E30 -> 0 | U34: =Rapportering!F30 -> 0 | V34: =Rapportering!G30 -> 0 | W34: =Rapportering!H30 -> 0 | Z34: 33 | AV34: =IFERROR(INDEX(prosjekttema_og_tittel[tema inngår i prosjektsøknad],MATCH(AD34,prosjekttema_og_tittel[rowId - prosjekttema],0)),"") | AW34: =IFERROR(INDEX(prosjekttema_og_tittel[prosjekttema inngår i prosjektsøknad som har fått innvilgede midler],MATCH(AD34,prosjekttema_og_tittel[rowId - prosjekttema],0)),"") | AX34: =IFERROR(INDEX($T$13:$T$76,MATCH('backend (Ikke rør)'!$AD34,$Q$13:$Q$76,0)),"") -> Måloppnåelse (antall ansatte) | AY34: =IFERROR(INDEX($U$13:$U$76,MATCH('backend (Ikke rør)'!$AD34,$Q$13:$Q$76,0)),"") -> 0 | AZ34: =IFERROR(INDEX($V$13:$V$76,MATCH('backend (Ikke rør)'!$AD34,$Q$13:$Q$76,0)),"") -> 0 | BA34: =IFERROR(INDEX($V$79:$V$107,MATCH('backend (Ikke rør)'!$AD34,$Q$79:$Q$107,0)),"") -> 0 | BB34: =IFERROR(INDEX($W$79:$W$107,MATCH('backend (Ikke rør)'!$AD34,$Q$79:$Q$107,0)),"") -> 0 | BC34: TRUE | BE34: 47 | BF34: 0 | BG34: 0 | BH34: 0 | BI34: 0 | BJ34: 0 | BK34: 0 | BL34: 0 | BM34: 0 | BN34: 0 | BO34: 0 | BP34: 0 | BQ34: 0 | BR34: 0 | BS34: 0 | BT34: 0 | BU34: 0 | BV34: 0 | BW34: 0 | BX34: 0 | BY34: 0 | BZ34: 0 | CC34: Måloppnåelse (antall ansatte) | CD34: 0 | CE34: 0 | CF34: 0 | CG34: 0
C35: P5.7c | D35: P5.2b | E35: P_.2b | F35: =SUMIFS(kommunedata_grunnlag_før_rapportering[Totalt innvilget beløp (Autosummert)],kommunedata_grunnlag_før_rapportering[row_id],prosjekttema_og_tittel[[#This Row],[rowId - prosjektSøknadsbeløp]]) -> 0 | G35: =prosjekttema_og_tittel[[#This Row],[totalt innvilget]]>0 -> FALSE | H35: =IFERROR(IF(INDEX(kommunedata_grunnlag_før_rapportering[Svar / Merknad],MATCH(prosjekttema_og_tittel[[#This Row],[rowId - prosjekttema]],kommunedata_grunnlag_før_rapportering[row_id],0))="Ja",1,0),0) -> 0 | I35: =IF(AND(prosjekttema_og_tittel[[#This Row],[prosjeksøknad har fått innvilgede midler]],prosjekttema_og_tittel[[#This Row],[tema inngår i prosjektsøknad]]=1),1,0) -> 0 | J35: P5.1a | K35: =IFERROR(INDEX(kommunedata_grunnlag_før_rapportering[Svar / Merknad],MATCH(prosjekttema_og_tittel[[#This Row],[rowId - prosjekttittel]],kommunedata_grunnlag_før_rapportering[row_id],0)),"") | Q35: =Rapportering!B31 -> 2.3g | R35: =Rapportering!C31 -> #N/A | S35: =Rapportering!D31 -> #N/A | T35: =Rapportering!E31 -> 0 | U35: =Rapportering!F31 -> 0 | V35: =Rapportering!G31 -> 0 | W35: =Rapportering!H31 -> 0 | Z35: 34 | AV35: =IFERROR(INDEX(prosjekttema_og_tittel[tema inngår i prosjektsøknad],MATCH(AD35,prosjekttema_og_tittel[rowId - prosjekttema],0)),"") | AW35: =IFERROR(INDEX(prosjekttema_og_tittel[prosjekttema inngår i prosjektsøknad som har fått innvilgede midler],MATCH(AD35,prosjekttema_og_tittel[rowId - prosjekttema],0)),"") | AX35: =IFERROR(INDEX($T$13:$T$76,MATCH('backend (Ikke rør)'!$AD35,$Q$13:$Q$76,0)),"") -> Måloppnåelse (antall ansatte) | AY35: =IFERROR(INDEX($U$13:$U$76,MATCH('backend (Ikke rør)'!$AD35,$Q$13:$Q$76,0)),"") -> 0 | AZ35: =IFERROR(INDEX($V$13:$V$76,MATCH('backend (Ikke rør)'!$AD35,$Q$13:$Q$76,0)),"") -> 0 | BA35: =IFERROR(INDEX($V$79:$V$107,MATCH('backend (Ikke rør)'!$AD35,$Q$79:$Q$107,0)),"") -> 0 | BB35: =IFERROR(INDEX($W$79:$W$107,MATCH('backend (Ikke rør)'!$AD35,$Q$79:$Q$107,0)),"") -> 0 | BC35: TRUE | BE35: 48 | BF35: 0 | BG35: 0 | BH35: 0 | BI35: 0 | BJ35: 0 | BK35: 0 | BL35: 0 | BM35: 0 | BN35: 0 | BO35: 0 | BP35: 0 | BQ35: 0 | BR35: 0 | BS35: 0 | BT35: 0 | BU35: 0 | BV35: 0 | BW35: 0 | BX35: 0 | BY35: 0 | BZ35: 0 | CC35: Måloppnåelse (antall ansatte) | CD35: 0 | CE35: 0 | CF35: 0 | CG35: 0
C36: P5.7c | D36: P5.2c | E36: P_.2c | F36: =SUMIFS(kommunedata_grunnlag_før_rapportering[Totalt innvilget beløp (Autosummert)],kommunedata_grunnlag_før_rapportering[row_id],prosjekttema_og_tittel[[#This Row],[rowId - prosjektSøknadsbeløp]]) -> 0 | G36: =prosjekttema_og_tittel[[#This Row],[totalt innvilget]]>0 -> FALSE | H36: =IFERROR(IF(INDEX(kommunedata_grunnlag_før_rapportering[Svar / Merknad],MATCH(prosjekttema_og_tittel[[#This Row],[rowId - prosjekttema]],kommunedata_grunnlag_før_rapportering[row_id],0))="Ja",1,0),0) -> 0 | I36: =IF(AND(prosjekttema_og_tittel[[#This Row],[prosjeksøknad har fått innvilgede midler]],prosjekttema_og_tittel[[#This Row],[tema inngår i prosjektsøknad]]=1),1,0) -> 0 | J36: P5.1a | K36: =IFERROR(INDEX(kommunedata_grunnlag_før_rapportering[Svar / Merknad],MATCH(prosjekttema_og_tittel[[#This Row],[rowId - prosjekttittel]],kommunedata_grunnlag_før_rapportering[row_id],0)),"") | Q36: =Rapportering!B32 -> 2.3h | R36: =Rapportering!C32 -> #N/A | S36: =Rapportering!D32 -> #N/A | T36: =Rapportering!E32 -> 0 | U36: =Rapportering!F32 -> 0 | V36: =Rapportering!G32 -> 0 | W36: =Rapportering!H32 -> 0 | Z36: 35 | AV36: =IFERROR(INDEX(prosjekttema_og_tittel[tema inngår i prosjektsøknad],MATCH(AD36,prosjekttema_og_tittel[rowId - prosjekttema],0)),"") | AW36: =IFERROR(INDEX(prosjekttema_og_tittel[prosjekttema inngår i prosjektsøknad som har fått innvilgede midler],MATCH(AD36,prosjekttema_og_tittel[rowId - prosjekttema],0)),"") | AX36: =IFERROR(INDEX($T$13:$T$76,MATCH('backend (Ikke rør)'!$AD36,$Q$13:$Q$76,0)),"") -> Måloppnåelse (antall ansatte) | AY36: =IFERROR(INDEX($U$13:$U$76,MATCH('backend (Ikke rør)'!$AD36,$Q$13:$Q$76,0)),"") -> 0 | AZ36: =IFERROR(INDEX($V$13:$V$76,MATCH('backend (Ikke rør)'!$AD36,$Q$13:$Q$76,0)),"") -> 0 | BA36: =IFERROR(INDEX($V$79:$V$107,MATCH('backend (Ikke rør)'!$AD36,$Q$79:$Q$107,0)),"") -> 0 | BB36: =IFERROR(INDEX($W$79:$W$107,MATCH('backend (Ikke rør)'!$AD36,$Q$79:$Q$107,0)),"") -> 0 | BC36: TRUE | BE36: 49 | BF36: 0 | BG36: 0 | BH36: 0 | BI36: 0 | BJ36: 0 | BK36: 0 | BL36: 0 | BM36: 0 | BN36: 0 | BO36: 0 | BP36: 0 | BQ36: 0 | BR36: 0 | BS36: 0 | BT36: 0 | BU36: 0 | BV36: 0 | BW36: 0 | BX36: 0 | BY36: 0 | BZ36: 0 | CC36: Måloppnåelse (antall ansatte) | CD36: 0 | CE36: 0 | CF36: 0 | CG36: 0
C37: P5.7c | D37: P5.2d | E37: P_.2d | F37: =SUMIFS(kommunedata_grunnlag_før_rapportering[Totalt innvilget beløp (Autosummert)],kommunedata_grunnlag_før_rapportering[row_id],prosjekttema_og_tittel[[#This Row],[rowId - prosjektSøknadsbeløp]]) -> 0 | G37: =prosjekttema_og_tittel[[#This Row],[totalt innvilget]]>0 -> FALSE | H37: =IFERROR(IF(INDEX(kommunedata_grunnlag_før_rapportering[Svar / Merknad],MATCH(prosjekttema_og_tittel[[#This Row],[rowId - prosjekttema]],kommunedata_grunnlag_før_rapportering[row_id],0))="Ja",1,0),0) -> 0 | I37: =IF(AND(prosjekttema_og_tittel[[#This Row],[prosjeksøknad har fått innvilgede midler]],prosjekttema_og_tittel[[#This Row],[tema inngår i prosjektsøknad]]=1),1,0) -> 0 | J37: P5.1a | K37: =IFERROR(INDEX(kommunedata_grunnlag_før_rapportering[Svar / Merknad],MATCH(prosjekttema_og_tittel[[#This Row],[rowId - prosjekttittel]],kommunedata_grunnlag_før_rapportering[row_id],0)),"") | Q37: =Rapportering!B33 -> 2.3i | R37: =Rapportering!C33 -> #N/A | S37: =Rapportering!D33 -> #N/A | T37: =Rapportering!E33 -> 0 | U37: =Rapportering!F33 -> 0 | V37: =Rapportering!G33 -> 0 | W37: =Rapportering!H33 -> 0 | Z37: 36 | AV37: =IFERROR(INDEX(prosjekttema_og_tittel[tema inngår i prosjektsøknad],MATCH(AD37,prosjekttema_og_tittel[rowId - prosjekttema],0)),"") | AW37: =IFERROR(INDEX(prosjekttema_og_tittel[prosjekttema inngår i prosjektsøknad som har fått innvilgede midler],MATCH(AD37,prosjekttema_og_tittel[rowId - prosjekttema],0)),"") | AX37: =IFERROR(INDEX($T$13:$T$76,MATCH('backend (Ikke rør)'!$AD37,$Q$13:$Q$76,0)),"") -> Måloppnåelse (antall ansatte) | AY37: =IFERROR(INDEX($U$13:$U$76,MATCH('backend (Ikke rør)'!$AD37,$Q$13:$Q$76,0)),"") -> 0 | AZ37: =IFERROR(INDEX($V$13:$V$76,MATCH('backend (Ikke rør)'!$AD37,$Q$13:$Q$76,0)),"") -> 0 | BA37: =IFERROR(INDEX($V$79:$V$107,MATCH('backend (Ikke rør)'!$AD37,$Q$79:$Q$107,0)),"") -> 0 | BB37: =IFERROR(INDEX($W$79:$W$107,MATCH('backend (Ikke rør)'!$AD37,$Q$79:$Q$107,0)),"") -> 0 | BC37: TRUE | BE37: 50 | BF37: 0 | BG37: 0 | BH37: 0 | BI37: 0 | BJ37: 0 | BK37: 0 | BL37: 0 | BM37: 0 | BN37: 0 | BO37: 0 | BP37: 0 | BQ37: 0 | BR37: 0 | BS37: 0 | BT37: 0 | BU37: 0 | BV37: 0 | BW37: 0 | BX37: 0 | BY37: 0 | BZ37: 0 | CC37: Måloppnåelse (antall ansatte) | CD37: 0 | CE37: 0 | CF37: 0 | CG37: 0
C38: P5.7c | D38: P5.2e | E38: P_.2e | F38: =SUMIFS(kommunedata_grunnlag_før_rapportering[Totalt innvilget beløp (Autosummert)],kommunedata_grunnlag_før_rapportering[row_id],prosjekttema_og_tittel[[#This Row],[rowId - prosjektSøknadsbeløp]]) -> 0 | G38: =prosjekttema_og_tittel[[#This Row],[totalt innvilget]]>0 -> FALSE | H38: =IFERROR(IF(INDEX(kommunedata_grunnlag_før_rapportering[Svar / Merknad],MATCH(prosjekttema_og_tittel[[#This Row],[rowId - prosjekttema]],kommunedata_grunnlag_før_rapportering[row_id],0))="Ja",1,0),0) -> 0 | I38: =IF(AND(prosjekttema_og_tittel[[#This Row],[prosjeksøknad har fått innvilgede midler]],prosjekttema_og_tittel[[#This Row],[tema inngår i prosjektsøknad]]=1),1,0) -> 0 | J38: P5.1a | K38: =IFERROR(INDEX(kommunedata_grunnlag_før_rapportering[Svar / Merknad],MATCH(prosjekttema_og_tittel[[#This Row],[rowId - prosjekttittel]],kommunedata_grunnlag_før_rapportering[row_id],0)),"") | Q38: =Rapportering!B34 -> 0 | R38: =Rapportering!C34 -> Sum (2.3) : | S38: =Rapportering!D34 -> #N/A | T38: =Rapportering!E34 -> 0 | U38: =Rapportering!F34 -> 0 | V38: =Rapportering!G34 -> 0 | W38: =Rapportering!H34 -> 0 | Z38: 37 | AV38: =IFERROR(INDEX(prosjekttema_og_tittel[tema inngår i prosjektsøknad],MATCH(AD38,prosjekttema_og_tittel[rowId - prosjekttema],0)),"") | AW38: =IFERROR(INDEX(prosjekttema_og_tittel[prosjekttema inngår i prosjektsøknad som har fått innvilgede midler],MATCH(AD38,prosjekttema_og_tittel[rowId - prosjekttema],0)),"") | AX38: =IFERROR(INDEX($T$13:$T$76,MATCH('backend (Ikke rør)'!$AD38,$Q$13:$Q$76,0)),"") -> Måloppnåelse (antall ansatte) | AY38: =IFERROR(INDEX($U$13:$U$76,MATCH('backend (Ikke rør)'!$AD38,$Q$13:$Q$76,0)),"") -> 0 | AZ38: =IFERROR(INDEX($V$13:$V$76,MATCH('backend (Ikke rør)'!$AD38,$Q$13:$Q$76,0)),"") -> 0 | BA38: =IFERROR(INDEX($V$79:$V$107,MATCH('backend (Ikke rør)'!$AD38,$Q$79:$Q$107,0)),"") -> 0 | BB38: =IFERROR(INDEX($W$79:$W$107,MATCH('backend (Ikke rør)'!$AD38,$Q$79:$Q$107,0)),"") -> 0 | BC38: TRUE | BE38: 51 | BF38: 0 | BG38: 0 | BH38: 0 | BI38: 0 | BJ38: 0 | BK38: 0 | BL38: 0 | BM38: 0 | BN38: 0 | BO38: 0 | BP38: 0 | BQ38: 0 | BR38: 0 | BS38: 0 | BT38: 0 | BU38: 0 | BV38: 0 | BW38: 0 | BX38: 0 | BY38: 0 | BZ38: 0 | CC38: Måloppnåelse (antall ansatte) | CD38: 0 | CE38: 0 | CF38: 0 | CG38: 0
C39: P5.7c | D39: P5.2f | E39: P_.2f | F39: =SUMIFS(kommunedata_grunnlag_før_rapportering[Totalt innvilget beløp (Autosummert)],kommunedata_grunnlag_før_rapportering[row_id],prosjekttema_og_tittel[[#This Row],[rowId - prosjektSøknadsbeløp]]) -> 0 | G39: =prosjekttema_og_tittel[[#This Row],[totalt innvilget]]>0 -> FALSE | H39: =IFERROR(IF(INDEX(kommunedata_grunnlag_før_rapportering[Svar / Merknad],MATCH(prosjekttema_og_tittel[[#This Row],[rowId - prosjekttema]],kommunedata_grunnlag_før_rapportering[row_id],0))="Ja",1,0),0) -> 0 | I39: =IF(AND(prosjekttema_og_tittel[[#This Row],[prosjeksøknad har fått innvilgede midler]],prosjekttema_og_tittel[[#This Row],[tema inngår i prosjektsøknad]]=1),1,0) -> 0 | J39: P5.1a | K39: =IFERROR(INDEX(kommunedata_grunnlag_før_rapportering[Svar / Merknad],MATCH(prosjekttema_og_tittel[[#This Row],[rowId - prosjekttittel]],kommunedata_grunnlag_før_rapportering[row_id],0)),"") | Q39: =Rapportering!B35 -> 0 | R39: =Rapportering!C35 -> 0 | S39: =Rapportering!D35 -> 0 | T39: =Rapportering!E35 -> Måloppnåelse (antall ansatte) | U39: =Rapportering!F35 -> 0 | V39: =Rapportering!G35 -> 0 | W39: =Rapportering!H35 -> 0 | Z39: 38 | AV39: =IFERROR(INDEX(prosjekttema_og_tittel[tema inngår i prosjektsøknad],MATCH(AD39,prosjekttema_og_tittel[rowId - prosjekttema],0)),"") | AW39: =IFERROR(INDEX(prosjekttema_og_tittel[prosjekttema inngår i prosjektsøknad som har fått innvilgede midler],MATCH(AD39,prosjekttema_og_tittel[rowId - prosjekttema],0)),"") | AX39: =IFERROR(INDEX($T$13:$T$76,MATCH('backend (Ikke rør)'!$AD39,$Q$13:$Q$76,0)),"") -> Måloppnåelse (antall ansatte) | AY39: =IFERROR(INDEX($U$13:$U$76,MATCH('backend (Ikke rør)'!$AD39,$Q$13:$Q$76,0)),"") -> 0 | AZ39: =IFERROR(INDEX($V$13:$V$76,MATCH('backend (Ikke rør)'!$AD39,$Q$13:$Q$76,0)),"") -> 0 | BA39: =IFERROR(INDEX($V$79:$V$107,MATCH('backend (Ikke rør)'!$AD39,$Q$79:$Q$107,0)),"") -> 0 | BB39: =IFERROR(INDEX($W$79:$W$107,MATCH('backend (Ikke rør)'!$AD39,$Q$79:$Q$107,0)),"") -> 0 | BC39: TRUE | BE39: 52 | BF39: 0 | BG39: 0 | BH39: 0 | BI39: 0 | BJ39: 0 | BK39: 0 | BL39: 0 | BM39: 0 | BN39: 0 | BO39: 0 | BP39: 0 | BQ39: 0 | BR39: 0 | BS39: 0 | BT39: 0 | BU39: 0 | BV39: 0 | BW39: 0 | BX39: 0 | BY39: 0 | BZ39: 0 | CC39: Måloppnåelse (antall ansatte) | CD39: 0 | CE39: 0 | CF39: 0 | CG39: 0
C40: P5.7c | D40: P5.2g | E40: P_.2g | F40: =SUMIFS(kommunedata_grunnlag_før_rapportering[Totalt innvilget beløp (Autosummert)],kommunedata_grunnlag_før_rapportering[row_id],prosjekttema_og_tittel[[#This Row],[rowId - prosjektSøknadsbeløp]]) -> 0 | G40: =prosjekttema_og_tittel[[#This Row],[totalt innvilget]]>0 -> FALSE | H40: =IFERROR(IF(INDEX(kommunedata_grunnlag_før_rapportering[Svar / Merknad],MATCH(prosjekttema_og_tittel[[#This Row],[rowId - prosjekttema]],kommunedata_grunnlag_før_rapportering[row_id],0))="Ja",1,0),0) -> 0 | I40: =IF(AND(prosjekttema_og_tittel[[#This Row],[prosjeksøknad har fått innvilgede midler]],prosjekttema_og_tittel[[#This Row],[tema inngår i prosjektsøknad]]=1),1,0) -> 0 | J40: P5.1a | K40: =IFERROR(INDEX(kommunedata_grunnlag_før_rapportering[Svar / Merknad],MATCH(prosjekttema_og_tittel[[#This Row],[rowId - prosjekttittel]],kommunedata_grunnlag_før_rapportering[row_id],0)),"") | Q40: =Rapportering!B36 -> 0 | R40: =Rapportering!C36 -> 0 | S40: =Rapportering!D36 -> Antall personer innvilget | T40: =Rapportering!E36 -> Fullført utdanning | U40: =Rapportering!F36 -> Under utdanning, men ikke fullført | V40: =Rapportering!G36 -> Samlet antall fullførte og under utdanning | W40: =Rapportering!H36 -> 0 | Z40: 39 | AV40: =IFERROR(INDEX(prosjekttema_og_tittel[tema inngår i prosjektsøknad],MATCH(AD40,prosjekttema_og_tittel[rowId - prosjekttema],0)),"") | AW40: =IFERROR(INDEX(prosjekttema_og_tittel[prosjekttema inngår i prosjektsøknad som har fått innvilgede midler],MATCH(AD40,prosjekttema_og_tittel[rowId - prosjekttema],0)),"") | AX40: =IFERROR(INDEX($T$13:$T$76,MATCH('backend (Ikke rør)'!$AD40,$Q$13:$Q$76,0)),"") -> Måloppnåelse (antall ansatte) | AY40: =IFERROR(INDEX($U$13:$U$76,MATCH('backend (Ikke rør)'!$AD40,$Q$13:$Q$76,0)),"") -> 0 | AZ40: =IFERROR(INDEX($V$13:$V$76,MATCH('backend (Ikke rør)'!$AD40,$Q$13:$Q$76,0)),"") -> 0 | BA40: =IFERROR(INDEX($V$79:$V$107,MATCH('backend (Ikke rør)'!$AD40,$Q$79:$Q$107,0)),"") -> 0 | BB40: =IFERROR(INDEX($W$79:$W$107,MATCH('backend (Ikke rør)'!$AD40,$Q$79:$Q$107,0)),"") -> 0 | BC40: TRUE | BE40: 53 | BF40: 0 | BG40: 0 | BH40: 0 | BI40: 0 | BJ40: 0 | BK40: 0 | BL40: 0 | BM40: 0 | BN40: 0 | BO40: 0 | BP40: 0 | BQ40: 0 | BR40: 0 | BS40: 0 | BT40: 0 | BU40: 0 | BV40: 0 | BW40: 0 | BX40: 0 | BY40: 0 | BZ40: 0 | CC40: Måloppnåelse (antall ansatte) | CD40: 0 | CE40: 0 | CF40: 0 | CG40: 0
C41: P5.7c | D41: P5.2h | E41: P_.2h | F41: =SUMIFS(kommunedata_grunnlag_før_rapportering[Totalt innvilget beløp (Autosummert)],kommunedata_grunnlag_før_rapportering[row_id],prosjekttema_og_tittel[[#This Row],[rowId - prosjektSøknadsbeløp]]) -> 0 | G41: =prosjekttema_og_tittel[[#This Row],[totalt innvilget]]>0 -> FALSE | H41: =IFERROR(IF(INDEX(kommunedata_grunnlag_før_rapportering[Svar / Merknad],MATCH(prosjekttema_og_tittel[[#This Row],[rowId - prosjekttema]],kommunedata_grunnlag_før_rapportering[row_id],0))="Ja",1,0),0) -> 0 | I41: =IF(AND(prosjekttema_og_tittel[[#This Row],[prosjeksøknad har fått innvilgede midler]],prosjekttema_og_tittel[[#This Row],[tema inngår i prosjektsøknad]]=1),1,0) -> 0 | J41: P5.1a | K41: =IFERROR(INDEX(kommunedata_grunnlag_før_rapportering[Svar / Merknad],MATCH(prosjekttema_og_tittel[[#This Row],[rowId - prosjekttittel]],kommunedata_grunnlag_før_rapportering[row_id],0)),"") | Q41: =Rapportering!B37 -> 2.4. | R41: =Rapportering!C37 -> Videreutdanning og mastergradutdanning (påbygg bachelorutdanning) | S41: =Rapportering!D37 -> 0 | T41: =Rapportering!E37 -> 0 | U41: =Rapportering!F37 -> 0 | V41: =Rapportering!G37 -> 0 | W41: =Rapportering!H37 -> 0 | Z41: 40 | AV41: =IFERROR(INDEX(prosjekttema_og_tittel[tema inngår i prosjektsøknad],MATCH(AD41,prosjekttema_og_tittel[rowId - prosjekttema],0)),"") | AW41: =IFERROR(INDEX(prosjekttema_og_tittel[prosjekttema inngår i prosjektsøknad som har fått innvilgede midler],MATCH(AD41,prosjekttema_og_tittel[rowId - prosjekttema],0)),"") | AX41: =IFERROR(INDEX($T$13:$T$76,MATCH('backend (Ikke rør)'!$AD41,$Q$13:$Q$76,0)),"") -> Måloppnåelse (antall ansatte) | AY41: =IFERROR(INDEX($U$13:$U$76,MATCH('backend (Ikke rør)'!$AD41,$Q$13:$Q$76,0)),"") -> 0 | AZ41: =IFERROR(INDEX($V$13:$V$76,MATCH('backend (Ikke rør)'!$AD41,$Q$13:$Q$76,0)),"") -> 0 | BA41: =IFERROR(INDEX($V$79:$V$107,MATCH('backend (Ikke rør)'!$AD41,$Q$79:$Q$107,0)),"") -> 0 | BB41: =IFERROR(INDEX($W$79:$W$107,MATCH('backend (Ikke rør)'!$AD41,$Q$79:$Q$107,0)),"") -> 0 | BC41: TRUE | BE41: 54 | BF41: 0 | BG41: 0 | BH41: 0 | BI41: 0 | BJ41: 0 | BK41: 0 | BL41: 0 | BM41: 0 | BN41: 0 | BO41: 0 | BP41: 0 | BQ41: 0 | BR41: 0 | BS41: 0 | BT41: 0 | BU41: 0 | BV41: 0 | BW41: 0 | BX41: 0 | BY41: 0 | BZ41: 0 | CC41: Måloppnåelse (antall ansatte) | CD41: 0 | CE41: 0 | CF41: 0 | CG41: 0
... C62: P8.7c | D62: P8.2e | E62: P_.2e | F62: =SUMIFS(kommunedata_grunnlag_før_rapportering[Totalt innvilget beløp (Autosummert)],kommunedata_grunnlag_før_rapportering[row_id],prosjekttema_og_tittel[[#This Row],[rowId - prosjektSøknadsbeløp]]) -> 0 | G62: =prosjekttema_og_tittel[[#This Row],[totalt innvilget]]>0 -> FALSE | H62: =IFERROR(IF(INDEX(kommunedata_grunnlag_før_rapportering[Svar / Merknad],MATCH(prosjekttema_og_tittel[[#This Row],[rowId - prosjekttema]],kommunedata_grunnlag_før_rapportering[row_id],0))="Ja",1,0),0) -> 0 | I62: =IF(AND(prosjekttema_og_tittel[[#This Row],[prosjeksøknad har fått innvilgede midler]],prosjekttema_og_tittel[[#This Row],[tema inngår i prosjektsøknad]]=1),1,0) -> 0 | J62: P8.1a | K62: =IFERROR(INDEX(kommunedata_grunnlag_før_rapportering[Svar / Merknad],MATCH(prosjekttema_og_tittel[[#This Row],[rowId - prosjekttittel]],kommunedata_grunnlag_før_rapportering[row_id],0)),"") | Q62: =Rapportering!B58 -> 0 | R62: =Rapportering!C58 -> Sum (2.6) : | S62: =Rapportering!D58 -> #N/A | T62: =Rapportering!E58 -> 0 | U62: =Rapportering!F58 -> 0 | V62: =Rapportering!G58 -> 0 | W62: =Rapportering!H58 -> 0 | Z62: 61 | AV62: =IFERROR(INDEX(prosjekttema_og_tittel[tema inngår i prosjektsøknad],MATCH(AD62,prosjekttema_og_tittel[rowId - prosjekttema],0)),"") | AW62: =IFERROR(INDEX(prosjekttema_og_tittel[prosjekttema inngår i prosjektsøknad som har fått innvilgede midler],MATCH(AD62,prosjekttema_og_tittel[rowId - prosjekttema],0)),"") | AX62: =IFERROR(INDEX($T$13:$T$76,MATCH('backend (Ikke rør)'!$AD62,$Q$13:$Q$76,0)),"") -> Måloppnåelse (antall ansatte) | AY62: =IFERROR(INDEX($U$13:$U$76,MATCH('backend (Ikke rør)'!$AD62,$Q$13:$Q$76,0)),"") -> 0 | AZ62: =IFERROR(INDEX($V$13:$V$76,MATCH('backend (Ikke rør)'!$AD62,$Q$13:$Q$76,0)),"") -> 0 | BA62: =IFERROR(INDEX($V$79:$V$107,MATCH('backend (Ikke rør)'!$AD62,$Q$79:$Q$107,0)),"") -> 0 | BB62: =IFERROR(INDEX($W$79:$W$107,MATCH('backend (Ikke rør)'!$AD62,$Q$79:$Q$107,0)),"") -> 0 | BC62: TRUE | BE62: 75 | BF62: 0 | BG62: 0 | BH62: 0 | BI62: 0 | BJ62: 0 | BK62: 0 | BL62: 0 | BM62: 0 | BN62: 0 | BO62: 0 | BP62: 0 | BQ62: 0 | BR62: 0 | BS62: 0 | BT62: 0 | BU62: 0 | BV62: 0 | BW62: 0 | BX62: 0 | BY62: 0 | BZ62: 0 | CC62: Måloppnåelse (antall ansatte) | CD62: 0 | CE62: 0 | CF62: 0 | CG62: 0
C63: P8.7c | D63: P8.2f | E63: P_.2f | F63: =SUMIFS(kommunedata_grunnlag_før_rapportering[Totalt innvilget beløp (Autosummert)],kommunedata_grunnlag_før_rapportering[row_id],prosjekttema_og_tittel[[#This Row],[rowId - prosjektSøknadsbeløp]]) -> 0 | G63: =prosjekttema_og_tittel[[#This Row],[totalt innvilget]]>0 -> FALSE | H63: =IFERROR(IF(INDEX(kommunedata_grunnlag_før_rapportering[Svar / Merknad],MATCH(prosjekttema_og_tittel[[#This Row],[rowId - prosjekttema]],kommunedata_grunnlag_før_rapportering[row_id],0))="Ja",1,0),0) -> 0 | I63: =IF(AND(prosjekttema_og_tittel[[#This Row],[prosjeksøknad har fått innvilgede midler]],prosjekttema_og_tittel[[#This Row],[tema inngår i prosjektsøknad]]=1),1,0) -> 0 | J63: P8.1a | K63: =IFERROR(INDEX(kommunedata_grunnlag_før_rapportering[Svar / Merknad],MATCH(prosjekttema_og_tittel[[#This Row],[rowId - prosjekttittel]],kommunedata_grunnlag_før_rapportering[row_id],0)),"") | Z63: 62 | AV63: =IFERROR(INDEX(prosjekttema_og_tittel[tema inngår i prosjektsøknad],MATCH(AD63,prosjekttema_og_tittel[rowId - prosjekttema],0)),"") | AW63: =IFERROR(INDEX(prosjekttema_og_tittel[prosjekttema inngår i prosjektsøknad som har fått innvilgede midler],MATCH(AD63,prosjekttema_og_tittel[rowId - prosjekttema],0)),"") | AX63: =IFERROR(INDEX($T$13:$T$76,MATCH('backend (Ikke rør)'!$AD63,$Q$13:$Q$76,0)),"") -> Måloppnåelse (antall ansatte) | AY63: =IFERROR(INDEX($U$13:$U$76,MATCH('backend (Ikke rør)'!$AD63,$Q$13:$Q$76,0)),"") -> 0 | AZ63: =IFERROR(INDEX($V$13:$V$76,MATCH('backend (Ikke rør)'!$AD63,$Q$13:$Q$76,0)),"") -> 0 | BA63: =IFERROR(INDEX($V$79:$V$107,MATCH('backend (Ikke rør)'!$AD63,$Q$79:$Q$107,0)),"") -> 0 | BB63: =IFERROR(INDEX($W$79:$W$107,MATCH('backend (Ikke rør)'!$AD63,$Q$79:$Q$107,0)),"") -> 0 | BC63: TRUE | BE63: 76 | BF63: 0 | BG63: 0 | BH63: 0 | BI63: 0 | BJ63: 0 | BK63: 0 | BL63: 0 | BM63: 0 | BN63: 0 | BO63: 0 | BP63: 0 | BQ63: 0 | BR63: 0 | BS63: 0 | BT63: 0 | BU63: 0 | BV63: 0 | BW63: 0 | BX63: 0 | BY63: 0 | BZ63: 0 | CC63: Måloppnåelse (antall ansatte) | CD63: 0 | CE63: 0 | CF63: 0 | CG63: 0
C64: P8.7c | D64: P8.2g | E64: P_.2g | F64: =SUMIFS(kommunedata_grunnlag_før_rapportering[Totalt innvilget beløp (Autosummert)],kommunedata_grunnlag_før_rapportering[row_id],prosjekttema_og_tittel[[#This Row],[rowId - prosjektSøknadsbeløp]]) -> 0 | G64: =prosjekttema_og_tittel[[#This Row],[totalt innvilget]]>0 -> FALSE | H64: =IFERROR(IF(INDEX(kommunedata_grunnlag_før_rapportering[Svar / Merknad],MATCH(prosjekttema_og_tittel[[#This Row],[rowId - prosjekttema]],kommunedata_grunnlag_før_rapportering[row_id],0))="Ja",1,0),0) -> 0 | I64: =IF(AND(prosjekttema_og_tittel[[#This Row],[prosjeksøknad har fått innvilgede midler]],prosjekttema_og_tittel[[#This Row],[tema inngår i prosjektsøknad]]=1),1,0) -> 0 | J64: P8.1a | K64: =IFERROR(INDEX(kommunedata_grunnlag_før_rapportering[Svar / Merknad],MATCH(prosjekttema_og_tittel[[#This Row],[rowId - prosjekttittel]],kommunedata_grunnlag_før_rapportering[row_id],0)),"") | Z64: 63 | AV64: =IFERROR(INDEX(prosjekttema_og_tittel[tema inngår i prosjektsøknad],MATCH(AD64,prosjekttema_og_tittel[rowId - prosjekttema],0)),"") | AW64: =IFERROR(INDEX(prosjekttema_og_tittel[prosjekttema inngår i prosjektsøknad som har fått innvilgede midler],MATCH(AD64,prosjekttema_og_tittel[rowId - prosjekttema],0)),"") | AX64: =IFERROR(INDEX($T$13:$T$76,MATCH('backend (Ikke rør)'!$AD64,$Q$13:$Q$76,0)),"") -> Måloppnåelse (antall ansatte) | AY64: =IFERROR(INDEX($U$13:$U$76,MATCH('backend (Ikke rør)'!$AD64,$Q$13:$Q$76,0)),"") -> 0 | AZ64: =IFERROR(INDEX($V$13:$V$76,MATCH('backend (Ikke rør)'!$AD64,$Q$13:$Q$76,0)),"") -> 0 | BA64: =IFERROR(INDEX($V$79:$V$107,MATCH('backend (Ikke rør)'!$AD64,$Q$79:$Q$107,0)),"") -> 0 | BB64: =IFERROR(INDEX($W$79:$W$107,MATCH('backend (Ikke rør)'!$AD64,$Q$79:$Q$107,0)),"") -> 0 | BC64: TRUE | BE64: 77 | BF64: 0 | BG64: 0 | BH64: 0 | BI64: 0 | BJ64: 0 | BK64: 0 | BL64: 0 | BM64: 0 | BN64: 0 | BO64: 0 | BP64: 0 | BQ64: 0 | BR64: 0 | BS64: 0 | BT64: 0 | BU64: 0 | BV64: 0 | BW64: 0 | BX64: 0 | BY64: 0 | BZ64: 0 | CC64: Måloppnåelse (antall ansatte) | CD64: 0 | CE64: 0 | CF64: 0 | CG64: 0
C65: P8.7c | D65: P8.2h | E65: P_.2h | F65: =SUMIFS(kommunedata_grunnlag_før_rapportering[Totalt innvilget beløp (Autosummert)],kommunedata_grunnlag_før_rapportering[row_id],prosjekttema_og_tittel[[#This Row],[rowId - prosjektSøknadsbeløp]]) -> 0 | G65: =prosjekttema_og_tittel[[#This Row],[totalt innvilget]]>0 -> FALSE | H65: =IFERROR(IF(INDEX(kommunedata_grunnlag_før_rapportering[Svar / Merknad],MATCH(prosjekttema_og_tittel[[#This Row],[rowId - prosjekttema]],kommunedata_grunnlag_før_rapportering[row_id],0))="Ja",1,0),0) -> 0 | I65: =IF(AND(prosjekttema_og_tittel[[#This Row],[prosjeksøknad har fått innvilgede midler]],prosjekttema_og_tittel[[#This Row],[tema inngår i prosjektsøknad]]=1),1,0) -> 0 | J65: P8.1a | K65: =IFERROR(INDEX(kommunedata_grunnlag_før_rapportering[Svar / Merknad],MATCH(prosjekttema_og_tittel[[#This Row],[rowId - prosjekttittel]],kommunedata_grunnlag_før_rapportering[row_id],0)),"") | Z65: 64 | AV65: =IFERROR(INDEX(prosjekttema_og_tittel[tema inngår i prosjektsøknad],MATCH(AD65,prosjekttema_og_tittel[rowId - prosjekttema],0)),"") | AW65: =IFERROR(INDEX(prosjekttema_og_tittel[prosjekttema inngår i prosjektsøknad som har fått innvilgede midler],MATCH(AD65,prosjekttema_og_tittel[rowId - prosjekttema],0)),"") | AX65: =IFERROR(INDEX($T$13:$T$76,MATCH('backend (Ikke rør)'!$AD65,$Q$13:$Q$76,0)),"") -> Måloppnåelse (antall ansatte) | AY65: =IFERROR(INDEX($U$13:$U$76,MATCH('backend (Ikke rør)'!$AD65,$Q$13:$Q$76,0)),"") -> 0 | AZ65: =IFERROR(INDEX($V$13:$V$76,MATCH('backend (Ikke rør)'!$AD65,$Q$13:$Q$76,0)),"") -> 0 | BA65: =IFERROR(INDEX($V$79:$V$107,MATCH('backend (Ikke rør)'!$AD65,$Q$79:$Q$107,0)),"") -> 0 | BB65: =IFERROR(INDEX($W$79:$W$107,MATCH('backend (Ikke rør)'!$AD65,$Q$79:$Q$107,0)),"") -> 0 | BC65: TRUE | BE65: 78 | BF65: 0 | BG65: 0 | BH65: 0 | BI65: 0 | BJ65: 0 | BK65: 0 | BL65: 0 | BM65: 0 | BN65: 0 | BO65: 0 | BP65: 0 | BQ65: 0 | BR65: 0 | BS65: 0 | BT65: 0 | BU65: 0 | BV65: 0 | BW65: 0 | BX65: 0 | BY65: 0 | BZ65: 0 | CC65: Måloppnåelse (antall ansatte) | CD65: 0 | CE65: 0 | CF65: 0 | CG65: 0
C66: P9.7c | D66: P9.2a | E66: P_.2a | F66: =SUMIFS(kommunedata_grunnlag_før_rapportering[Totalt innvilget beløp (Autosummert)],kommunedata_grunnlag_før_rapportering[row_id],prosjekttema_og_tittel[[#This Row],[rowId - prosjektSøknadsbeløp]]) -> 0 | G66: =prosjekttema_og_tittel[[#This Row],[totalt innvilget]]>0 -> FALSE | H66: =IFERROR(IF(INDEX(kommunedata_grunnlag_før_rapportering[Svar / Merknad],MATCH(prosjekttema_og_tittel[[#This Row],[rowId - prosjekttema]],kommunedata_grunnlag_før_rapportering[row_id],0))="Ja",1,0),0) -> 0 | I66: =IF(AND(prosjekttema_og_tittel[[#This Row],[prosjeksøknad har fått innvilgede midler]],prosjekttema_og_tittel[[#This Row],[tema inngår i prosjektsøknad]]=1),1,0) -> 0 | J66: P9.1a | K66: =IFERROR(INDEX(kommunedata_grunnlag_før_rapportering[Svar / Merknad],MATCH(prosjekttema_og_tittel[[#This Row],[rowId - prosjekttittel]],kommunedata_grunnlag_før_rapportering[row_id],0)),"") | Z66: 65 | AV66: =IFERROR(INDEX(prosjekttema_og_tittel[tema inngår i prosjektsøknad],MATCH(AD66,prosjekttema_og_tittel[rowId - prosjekttema],0)),"") | AW66: =IFERROR(INDEX(prosjekttema_og_tittel[prosjekttema inngår i prosjektsøknad som har fått innvilgede midler],MATCH(AD66,prosjekttema_og_tittel[rowId - prosjekttema],0)),"") | AX66: =IFERROR(INDEX($T$13:$T$76,MATCH('backend (Ikke rør)'!$AD66,$Q$13:$Q$76,0)),"") -> Måloppnåelse (antall ansatte) | AY66: =IFERROR(INDEX($U$13:$U$76,MATCH('backend (Ikke rør)'!$AD66,$Q$13:$Q$76,0)),"") -> 0 | AZ66: =IFERROR(INDEX($V$13:$V$76,MATCH('backend (Ikke rør)'!$AD66,$Q$13:$Q$76,0)),"") -> 0 | BA66: =IFERROR(INDEX($V$79:$V$107,MATCH('backend (Ikke rør)'!$AD66,$Q$79:$Q$107,0)),"") -> 0 | BB66: =IFERROR(INDEX($W$79:$W$107,MATCH('backend (Ikke rør)'!$AD66,$Q$79:$Q$107,0)),"") -> 0 | BC66: TRUE | BE66: 79 | BF66: 0 | BG66: 0 | BH66: 0 | BI66: 0 | BJ66: 0 | BK66: 0 | BL66: 0 | BM66: 0 | BN66: 0 | BO66: 0 | BP66: 0 | BQ66: 0 | BR66: 0 | BS66: 0 | BT66: 0 | BU66: 0 | BV66: 0 | BW66: 0 | BX66: 0 | BY66: 0 | BZ66: 0 | CC66: Måloppnåelse (antall ansatte) | CD66: 0 | CE66: 0 | CF66: 0 | CG66: 0
C67: P9.7c | D67: P9.2b | E67: P_.2b | F67: =SUMIFS(kommunedata_grunnlag_før_rapportering[Totalt innvilget beløp (Autosummert)],kommunedata_grunnlag_før_rapportering[row_id],prosjekttema_og_tittel[[#This Row],[rowId - prosjektSøknadsbeløp]]) -> 0 | G67: =prosjekttema_og_tittel[[#This Row],[totalt innvilget]]>0 -> FALSE | H67: =IFERROR(IF(INDEX(kommunedata_grunnlag_før_rapportering[Svar / Merknad],MATCH(prosjekttema_og_tittel[[#This Row],[rowId - prosjekttema]],kommunedata_grunnlag_før_rapportering[row_id],0))="Ja",1,0),0) -> 0 | I67: =IF(AND(prosjekttema_og_tittel[[#This Row],[prosjeksøknad har fått innvilgede midler]],prosjekttema_og_tittel[[#This Row],[tema inngår i prosjektsøknad]]=1),1,0) -> 0 | J67: P9.1a | K67: =IFERROR(INDEX(kommunedata_grunnlag_før_rapportering[Svar / Merknad],MATCH(prosjekttema_og_tittel[[#This Row],[rowId - prosjekttittel]],kommunedata_grunnlag_før_rapportering[row_id],0)),"") | Z67: 66 | AV67: =IFERROR(INDEX(prosjekttema_og_tittel[tema inngår i prosjektsøknad],MATCH(AD67,prosjekttema_og_tittel[rowId - prosjekttema],0)),"") | AW67: =IFERROR(INDEX(prosjekttema_og_tittel[prosjekttema inngår i prosjektsøknad som har fått innvilgede midler],MATCH(AD67,prosjekttema_og_tittel[rowId - prosjekttema],0)),"") | AX67: =IFERROR(INDEX($T$13:$T$76,MATCH('backend (Ikke rør)'!$AD67,$Q$13:$Q$76,0)),"") -> Måloppnåelse (antall ansatte) | AY67: =IFERROR(INDEX($U$13:$U$76,MATCH('backend (Ikke rør)'!$AD67,$Q$13:$Q$76,0)),"") -> 0 | AZ67: =IFERROR(INDEX($V$13:$V$76,MATCH('backend (Ikke rør)'!$AD67,$Q$13:$Q$76,0)),"") -> 0 | BA67: =IFERROR(INDEX($V$79:$V$107,MATCH('backend (Ikke rør)'!$AD67,$Q$79:$Q$107,0)),"") -> 0 | BB67: =IFERROR(INDEX($W$79:$W$107,MATCH('backend (Ikke rør)'!$AD67,$Q$79:$Q$107,0)),"") -> 0 | BC67: TRUE | BE67: 80 | BF67: 0 | BG67: 0 | BH67: 0 | BI67: 0 | BJ67: 0 | BK67: 0 | BL67: 0 | BM67: 0 | BN67: 0 | BO67: 0 | BP67: 0 | BQ67: 0 | BR67: 0 | BS67: 0 | BT67: 0 | BU67: 0 | BV67: 0 | BW67: 0 | BX67: 0 | BY67: 0 | BZ67: 0 | CC67: Måloppnåelse (antall ansatte) | CD67: 0 | CE67: 0 | CF67: 0 | CG67: 0
C68: P9.7c | D68: P9.2c | E68: P_.2c | F68: =SUMIFS(kommunedata_grunnlag_før_rapportering[Totalt innvilget beløp (Autosummert)],kommunedata_grunnlag_før_rapportering[row_id],prosjekttema_og_tittel[[#This Row],[rowId - prosjektSøknadsbeløp]]) -> 0 | G68: =prosjekttema_og_tittel[[#This Row],[totalt innvilget]]>0 -> FALSE | H68: =IFERROR(IF(INDEX(kommunedata_grunnlag_før_rapportering[Svar / Merknad],MATCH(prosjekttema_og_tittel[[#This Row],[rowId - prosjekttema]],kommunedata_grunnlag_før_rapportering[row_id],0))="Ja",1,0),0) -> 0 | I68: =IF(AND(prosjekttema_og_tittel[[#This Row],[prosjeksøknad har fått innvilgede midler]],prosjekttema_og_tittel[[#This Row],[tema inngår i prosjektsøknad]]=1),1,0) -> 0 | J68: P9.1a | K68: =IFERROR(INDEX(kommunedata_grunnlag_før_rapportering[Svar / Merknad],MATCH(prosjekttema_og_tittel[[#This Row],[rowId - prosjekttittel]],kommunedata_grunnlag_før_rapportering[row_id],0)),"") | Z68: 67 | AV68: =IFERROR(INDEX(prosjekttema_og_tittel[tema inngår i prosjektsøknad],MATCH(AD68,prosjekttema_og_tittel[rowId - prosjekttema],0)),"") | AW68: =IFERROR(INDEX(prosjekttema_og_tittel[prosjekttema inngår i prosjektsøknad som har fått innvilgede midler],MATCH(AD68,prosjekttema_og_tittel[rowId - prosjekttema],0)),"") | AX68: =IFERROR(INDEX($T$13:$T$76,MATCH('backend (Ikke rør)'!$AD68,$Q$13:$Q$76,0)),"") -> Måloppnåelse (antall ansatte) | AY68: =IFERROR(INDEX($U$13:$U$76,MATCH('backend (Ikke rør)'!$AD68,$Q$13:$Q$76,0)),"") -> 0 | AZ68: =IFERROR(INDEX($V$13:$V$76,MATCH('backend (Ikke rør)'!$AD68,$Q$13:$Q$76,0)),"") -> 0 | BA68: =IFERROR(INDEX($V$79:$V$107,MATCH('backend (Ikke rør)'!$AD68,$Q$79:$Q$107,0)),"") -> 0 | BB68: =IFERROR(INDEX($W$79:$W$107,MATCH('backend (Ikke rør)'!$AD68,$Q$79:$Q$107,0)),"") -> 0 | BC68: TRUE | BE68: 81 | BF68: 0 | BG68: 0 | BH68: 0 | BI68: 0 | BJ68: 0 | BK68: 0 | BL68: 0 | BM68: 0 | BN68: 0 | BO68: 0 | BP68: 0 | BQ68: 0 | BR68: 0 | BS68: 0 | BT68: 0 | BU68: 0 | BV68: 0 | BW68: 0 | BX68: 0 | BY68: 0 | BZ68: 0 | CC68: Måloppnåelse (antall ansatte) | CD68: 0 | CE68: 0 | CF68: 0 | CG68: 0
C69: P9.7c | D69: P9.2d | E69: P_.2d | F69: =SUMIFS(kommunedata_grunnlag_før_rapportering[Totalt innvilget beløp (Autosummert)],kommunedata_grunnlag_før_rapportering[row_id],prosjekttema_og_tittel[[#This Row],[rowId - prosjektSøknadsbeløp]]) -> 0 | G69: =prosjekttema_og_tittel[[#This Row],[totalt innvilget]]>0 -> FALSE | H69: =IFERROR(IF(INDEX(kommunedata_grunnlag_før_rapportering[Svar / Merknad],MATCH(prosjekttema_og_tittel[[#This Row],[rowId - prosjekttema]],kommunedata_grunnlag_før_rapportering[row_id],0))="Ja",1,0),0) -> 0 | I69: =IF(AND(prosjekttema_og_tittel[[#This Row],[prosjeksøknad har fått innvilgede midler]],prosjekttema_og_tittel[[#This Row],[tema inngår i prosjektsøknad]]=1),1,0) -> 0 | J69: P9.1a | K69: =IFERROR(INDEX(kommunedata_grunnlag_før_rapportering[Svar / Merknad],MATCH(prosjekttema_og_tittel[[#This Row],[rowId - prosjekttittel]],kommunedata_grunnlag_før_rapportering[row_id],0)),"") | P69: Måloppnåelse BPA | Z69: 68 | AV69: =IFERROR(INDEX(prosjekttema_og_tittel[tema inngår i prosjektsøknad],MATCH(AD69,prosjekttema_og_tittel[rowId - prosjekttema],0)),"") | AW69: =IFERROR(INDEX(prosjekttema_og_tittel[prosjekttema inngår i prosjektsøknad som har fått innvilgede midler],MATCH(AD69,prosjekttema_og_tittel[rowId - prosjekttema],0)),"") | AX69: =IFERROR(INDEX($T$13:$T$76,MATCH('backend (Ikke rør)'!$AD69,$Q$13:$Q$76,0)),"") -> Måloppnåelse (antall ansatte) | AY69: =IFERROR(INDEX($U$13:$U$76,MATCH('backend (Ikke rør)'!$AD69,$Q$13:$Q$76,0)),"") -> 0 | AZ69: =IFERROR(INDEX($V$13:$V$76,MATCH('backend (Ikke rør)'!$AD69,$Q$13:$Q$76,0)),"") -> 0 | BA69: =IFERROR(INDEX($V$79:$V$107,MATCH('backend (Ikke rør)'!$AD69,$Q$79:$Q$107,0)),"") -> 0 | BB69: =IFERROR(INDEX($W$79:$W$107,MATCH('backend (Ikke rør)'!$AD69,$Q$79:$Q$107,0)),"") -> 0 | BC69: TRUE | BE69: 82 | BF69: 0 | BG69: 0 | BH69: 0 | BI69: 0 | BJ69: 0 | BK69: 0 | BL69: 0 | BM69: 0 | BN69: 0 | BO69: 0 | BP69: 0 | BQ69: 0 | BR69: 0 | BS69: 0 | BT69: 0 | BU69: 0 | BV69: 0 | BW69: 0 | BX69: 0 | BY69: 0 | BZ69: 0 | CC69: Måloppnåelse (antall ansatte) | CD69: 0 | CE69: 0 | CF69: 0 | CG69: 0
C70: P9.7c | D70: P9.2e | E70: P_.2e | F70: =SUMIFS(kommunedata_grunnlag_før_rapportering[Totalt innvilget beløp (Autosummert)],kommunedata_grunnlag_før_rapportering[row_id],prosjekttema_og_tittel[[#This Row],[rowId - prosjektSøknadsbeløp]]) -> 0 | G70: =prosjekttema_og_tittel[[#This Row],[totalt innvilget]]>0 -> FALSE | H70: =IFERROR(IF(INDEX(kommunedata_grunnlag_før_rapportering[Svar / Merknad],MATCH(prosjekttema_og_tittel[[#This Row],[rowId - prosjekttema]],kommunedata_grunnlag_før_rapportering[row_id],0))="Ja",1,0),0) -> 0 | I70: =IF(AND(prosjekttema_og_tittel[[#This Row],[prosjeksøknad har fått innvilgede midler]],prosjekttema_og_tittel[[#This Row],[tema inngår i prosjektsøknad]]=1),1,0) -> 0 | J70: P9.1a | K70: =IFERROR(INDEX(kommunedata_grunnlag_før_rapportering[Svar / Merknad],MATCH(prosjekttema_og_tittel[[#This Row],[rowId - prosjekttittel]],kommunedata_grunnlag_før_rapportering[row_id],0)),"") | Q70: =Rapportering!B79 -> 0 | R70: =Rapportering!C79 -> Opplæringstilskudd BPA (brukerstyrt personlig assistanse) | S70: =Rapportering!D79 -> 0 | T70: =Rapportering!E79 -> 0 | U70: =Rapportering!F79 -> 0 | V70: =Rapportering!G79 -> 0 | W70: =Rapportering!H79 -> 0 | Z70: 69 | AV70: =IFERROR(INDEX(prosjekttema_og_tittel[tema inngår i prosjektsøknad],MATCH(AD70,prosjekttema_og_tittel[rowId - prosjekttema],0)),"") | AW70: =IFERROR(INDEX(prosjekttema_og_tittel[prosjekttema inngår i prosjektsøknad som har fått innvilgede midler],MATCH(AD70,prosjekttema_og_tittel[rowId - prosjekttema],0)),"") | AX70: =IFERROR(INDEX($T$13:$T$76,MATCH('backend (Ikke rør)'!$AD70,$Q$13:$Q$76,0)),"") -> Måloppnåelse (antall ansatte) | AY70: =IFERROR(INDEX($U$13:$U$76,MATCH('backend (Ikke rør)'!$AD70,$Q$13:$Q$76,0)),"") -> 0 | AZ70: =IFERROR(INDEX($V$13:$V$76,MATCH('backend (Ikke rør)'!$AD70,$Q$13:$Q$76,0)),"") -> 0 | BA70: =IFERROR(INDEX($V$79:$V$107,MATCH('backend (Ikke rør)'!$AD70,$Q$79:$Q$107,0)),"") -> 0 | BB70: =IFERROR(INDEX($W$79:$W$107,MATCH('backend (Ikke rør)'!$AD70,$Q$79:$Q$107,0)),"") -> 0 | BC70: TRUE | BE70: 90 | BF70: #N/A | BG70: 2 | BH70: 2.7. | BI70: 2.7. | BJ70: 0 | BK70: Kompetansetiltak (grunn-, videre- og etterutdanning) | BL70: Andre kompetansehevende tiltak med midler direkte fra statsforvalteren | BM70: 0 | BN70: 0 | BO70: 0 | BP70: 0 | BQ70: 0 | BR70: 0 | BS70: 0 | BT70: 0 | BU70: 0 | BV70: 0 | BW70: 0 | BX70: 0 | BY70: 0 | BZ70: 0 | CC70: 0 | CD70: 0 | CE70: 0 | CF70: 0 | CG70: 0
C71: P9.7c | D71: P9.2f | E71: P_.2f | F71: =SUMIFS(kommunedata_grunnlag_før_rapportering[Totalt innvilget beløp (Autosummert)],kommunedata_grunnlag_før_rapportering[row_id],prosjekttema_og_tittel[[#This Row],[rowId - prosjektSøknadsbeløp]]) -> 0 | G71: =prosjekttema_og_tittel[[#This Row],[totalt innvilget]]>0 -> FALSE | H71: =IFERROR(IF(INDEX(kommunedata_grunnlag_før_rapportering[Svar / Merknad],MATCH(prosjekttema_og_tittel[[#This Row],[rowId - prosjekttema]],kommunedata_grunnlag_før_rapportering[row_id],0))="Ja",1,0),0) -> 0 | I71: =IF(AND(prosjekttema_og_tittel[[#This Row],[prosjeksøknad har fått innvilgede midler]],prosjekttema_og_tittel[[#This Row],[tema inngår i prosjektsøknad]]=1),1,0) -> 0 | J71: P9.1a | K71: =IFERROR(INDEX(kommunedata_grunnlag_før_rapportering[Svar / Merknad],MATCH(prosjekttema_og_tittel[[#This Row],[rowId - prosjekttittel]],kommunedata_grunnlag_før_rapportering[row_id],0)),"") | Q71: =Rapportering!B80 -> 0 | R71: =Rapportering!C80 -> 0 | S71: =Rapportering!D80 -> 0 | T71: =Rapportering!E80 -> Måloppnåelse (antall ansatte) | U71: =Rapportering!F80 -> 0 | V71: =Rapportering!G80 -> 0 | W71: =Rapportering!H80 -> 0 | Z71: 70 | AV71: =IFERROR(INDEX(prosjekttema_og_tittel[tema inngår i prosjektsøknad],MATCH(AD71,prosjekttema_og_tittel[rowId - prosjekttema],0)),"") | AW71: =IFERROR(INDEX(prosjekttema_og_tittel[prosjekttema inngår i prosjektsøknad som har fått innvilgede midler],MATCH(AD71,prosjekttema_og_tittel[rowId - prosjekttema],0)),"") | AX71: =IFERROR(INDEX($T$13:$T$76,MATCH('backend (Ikke rør)'!$AD71,$Q$13:$Q$76,0)),"") -> Måloppnåelse (antall ansatte) | AY71: =IFERROR(INDEX($U$13:$U$76,MATCH('backend (Ikke rør)'!$AD71,$Q$13:$Q$76,0)),"") -> 0 | AZ71: =IFERROR(INDEX($V$13:$V$76,MATCH('backend (Ikke rør)'!$AD71,$Q$13:$Q$76,0)),"") -> 0 | BA71: =IFERROR(INDEX($V$79:$V$107,MATCH('backend (Ikke rør)'!$AD71,$Q$79:$Q$107,0)),"") -> 0 | BB71: =IFERROR(INDEX($W$79:$W$107,MATCH('backend (Ikke rør)'!$AD71,$Q$79:$Q$107,0)),"") -> 0 | BC71: TRUE | BE71: 91 | BF71: #N/A | BG71: 3 | BH71: 2.7a | BI71: 2.7a | BJ71: 0 | BK71: Kompetansetiltak (grunn-, videre- og etterutdanning) | BL71: Andre kompetansehevende tiltak med midler direkte fra statsforvalteren | BM71: 2.7a | BN71: (Ikke for kommuner) | BO71: 0 | BP71: 0 | BQ71: 0 | BR71: 0 | BS71: 0 | BT71: 0 | BU71: 0 | BV71: 0 | BW71: 0 | BX71: 0 | BY71: 0 | BZ71: 0 | CC71: 0 | CD71: 0 | CE71: 0 | CG71: 0
C72: P9.7c | D72: P9.2g | E72: P_.2g | F72: =SUMIFS(kommunedata_grunnlag_før_rapportering[Totalt innvilget beløp (Autosummert)],kommunedata_grunnlag_før_rapportering[row_id],prosjekttema_og_tittel[[#This Row],[rowId - prosjektSøknadsbeløp]]) -> 0 | G72: =prosjekttema_og_tittel[[#This Row],[totalt innvilget]]>0 -> FALSE | H72: =IFERROR(IF(INDEX(kommunedata_grunnlag_før_rapportering[Svar / Merknad],MATCH(prosjekttema_og_tittel[[#This Row],[rowId - prosjekttema]],kommunedata_grunnlag_før_rapportering[row_id],0))="Ja",1,0),0) -> 0 | I72: =IF(AND(prosjekttema_og_tittel[[#This Row],[prosjeksøknad har fått innvilgede midler]],prosjekttema_og_tittel[[#This Row],[tema inngår i prosjektsøknad]]=1),1,0) -> 0 | J72: P9.1a | K72: =IFERROR(INDEX(kommunedata_grunnlag_før_rapportering[Svar / Merknad],MATCH(prosjekttema_og_tittel[[#This Row],[rowId - prosjekttittel]],kommunedata_grunnlag_før_rapportering[row_id],0)),"") | Q72: =Rapportering!B81 -> 0 | R72: =Rapportering!C81 -> 0 | S72: =Rapportering!D81 -> Antall personer innvilget | T72: =Rapportering!E81 -> Fullført opplæring | U72: =Rapportering!F81 -> Under opplæring, men ikke fullført | V72: =Rapportering!G81 -> Samlet antall fullførte og under opplæring | W72: =Rapportering!H81 -> 0 | Z72: 71 | AV72: =IFERROR(INDEX(prosjekttema_og_tittel[tema inngår i prosjektsøknad],MATCH(AD72,prosjekttema_og_tittel[rowId - prosjekttema],0)),"") | AW72: =IFERROR(INDEX(prosjekttema_og_tittel[prosjekttema inngår i prosjektsøknad som har fått innvilgede midler],MATCH(AD72,prosjekttema_og_tittel[rowId - prosjekttema],0)),"") | AX72: =IFERROR(INDEX($T$13:$T$76,MATCH('backend (Ikke rør)'!$AD72,$Q$13:$Q$76,0)),"") -> Måloppnåelse (antall ansatte) | AY72: =IFERROR(INDEX($U$13:$U$76,MATCH('backend (Ikke rør)'!$AD72,$Q$13:$Q$76,0)),"") -> 0 | AZ72: =IFERROR(INDEX($V$13:$V$76,MATCH('backend (Ikke rør)'!$AD72,$Q$13:$Q$76,0)),"") -> 0 | BA72: =IFERROR(INDEX($V$79:$V$107,MATCH('backend (Ikke rør)'!$AD72,$Q$79:$Q$107,0)),"") -> 0 | BB72: =IFERROR(INDEX($W$79:$W$107,MATCH('backend (Ikke rør)'!$AD72,$Q$79:$Q$107,0)),"") -> 0 | BC72: TRUE | BE72: 92 | BF72: #N/A | BG72: 3 | BH72: 2.7b | BI72: 2.7b | BJ72: 0 | BK72: Kompetansetiltak (grunn-, videre- og etterutdanning) | BL72: Andre kompetansehevende tiltak med midler direkte fra statsforvalteren | BM72: 2.7b | BN72: (Ikke for kommuner) | BO72: 0 | BP72: 0 | BQ72: 0 | BR72: 0 | BS72: 0 | BT72: 0 | BU72: 0 | BV72: 0 | BW72: 0 | BX72: 0 | BY72: 0 | BZ72: 0 | CC72: 0 | CD72: 0 | CE72: 0 | CG72: 0
C73: P9.7c | D73: P9.2h | E73: P_.2h | F73: =SUMIFS(kommunedata_grunnlag_før_rapportering[Totalt innvilget beløp (Autosummert)],kommunedata_grunnlag_før_rapportering[row_id],prosjekttema_og_tittel[[#This Row],[rowId - prosjektSøknadsbeløp]]) -> 0 | G73: =prosjekttema_og_tittel[[#This Row],[totalt innvilget]]>0 -> FALSE | H73: =IFERROR(IF(INDEX(kommunedata_grunnlag_før_rapportering[Svar / Merknad],MATCH(prosjekttema_og_tittel[[#This Row],[rowId - prosjekttema]],kommunedata_grunnlag_før_rapportering[row_id],0))="Ja",1,0),0) -> 0 | I73: =IF(AND(prosjekttema_og_tittel[[#This Row],[prosjeksøknad har fått innvilgede midler]],prosjekttema_og_tittel[[#This Row],[tema inngår i prosjektsøknad]]=1),1,0) -> 0 | J73: P9.1a | K73: =IFERROR(INDEX(kommunedata_grunnlag_før_rapportering[Svar / Merknad],MATCH(prosjekttema_og_tittel[[#This Row],[rowId - prosjekttittel]],kommunedata_grunnlag_før_rapportering[row_id],0)),"") | Q73: =Rapportering!B82 -> 3.1. | R73: =Rapportering!C82 -> #N/A | S73: =Rapportering!D82 -> #N/A | T73: =Rapportering!E82 -> 0 | U73: =Rapportering!F82 -> 0 | V73: =Rapportering!G82 -> 0 | W73: =Rapportering!H82 -> 0 | Z73: 72 | AV73: =IFERROR(INDEX(prosjekttema_og_tittel[tema inngår i prosjektsøknad],MATCH(AD73,prosjekttema_og_tittel[rowId - prosjekttema],0)),"") | AW73: =IFERROR(INDEX(prosjekttema_og_tittel[prosjekttema inngår i prosjektsøknad som har fått innvilgede midler],MATCH(AD73,prosjekttema_og_tittel[rowId - prosjekttema],0)),"") | AX73: =IFERROR(INDEX($T$13:$T$76,MATCH('backend (Ikke rør)'!$AD73,$Q$13:$Q$76,0)),"") -> Måloppnåelse (antall ansatte) | AY73: =IFERROR(INDEX($U$13:$U$76,MATCH('backend (Ikke rør)'!$AD73,$Q$13:$Q$76,0)),"") -> 0 | AZ73: =IFERROR(INDEX($V$13:$V$76,MATCH('backend (Ikke rør)'!$AD73,$Q$13:$Q$76,0)),"") -> 0 | BA73: =IFERROR(INDEX($V$79:$V$107,MATCH('backend (Ikke rør)'!$AD73,$Q$79:$Q$107,0)),"") -> 0 | BB73: =IFERROR(INDEX($W$79:$W$107,MATCH('backend (Ikke rør)'!$AD73,$Q$79:$Q$107,0)),"") -> 0 | BC73: TRUE | BE73: 93 | BF73: #N/A | BG73: 3 | BH73: 2.7c | BI73: 2.7c | BJ73: 0 | BK73: Kompetansetiltak (grunn-, videre- og etterutdanning) | BL73: Andre kompetansehevende tiltak med midler direkte fra statsforvalteren | BM73: 2.7c | BN73: (Ikke for kommuner) | BO73: 0 | BP73: 0 | BQ73: 0 | BR73: 0 | BS73: 0 | BT73: 0 | BU73: 0 | BV73: 0 | BW73: 0 | BX73: 0 | BY73: 0 | BZ73: 0 | CC73: 0 | CD73: 0 | CE73: 0 | CG73: 0
Q74: =Rapportering!B83 -> 3.2. | R74: =Rapportering!C83 -> #N/A | S74: =Rapportering!D83 -> #N/A | T74: =Rapportering!E83 -> 0 | U74: =Rapportering!F83 -> 0 | V74: =Rapportering!G83 -> 0 | W74: =Rapportering!H83 -> 0 | Z74: 73 | AV74: =IFERROR(INDEX(prosjekttema_og_tittel[tema inngår i prosjektsøknad],MATCH(AD74,prosjekttema_og_tittel[rowId - prosjekttema],0)),"") | AW74: =IFERROR(INDEX(prosjekttema_og_tittel[prosjekttema inngår i prosjektsøknad som har fått innvilgede midler],MATCH(AD74,prosjekttema_og_tittel[rowId - prosjekttema],0)),"") | AX74: =IFERROR(INDEX($T$13:$T$76,MATCH('backend (Ikke rør)'!$AD74,$Q$13:$Q$76,0)),"") -> Måloppnåelse (antall ansatte) | AY74: =IFERROR(INDEX($U$13:$U$76,MATCH('backend (Ikke rør)'!$AD74,$Q$13:$Q$76,0)),"") -> 0 | AZ74: =IFERROR(INDEX($V$13:$V$76,MATCH('backend (Ikke rør)'!$AD74,$Q$13:$Q$76,0)),"") -> 0 | BA74: =IFERROR(INDEX($V$79:$V$107,MATCH('backend (Ikke rør)'!$AD74,$Q$79:$Q$107,0)),"") -> 0 | BB74: =IFERROR(INDEX($W$79:$W$107,MATCH('backend (Ikke rør)'!$AD74,$Q$79:$Q$107,0)),"") -> 0 | BC74: TRUE | BE74: 101 | BF74: 0 | BG74: 0 | BH74: 0 | BI74: 0 | BJ74: 0 | BK74: 0 | BL74: 0 | BM74: 0 | BN74: 0 | BO74: 0 | BP74: 0 | BQ74: 0 | BR74: 0 | BS74: 0 | BT74: 0 | BU74: 0 | BV74: 0 | BW74: 0 | BX74: 0 | BY74: 0 | BZ74: 0 | CC74: Måloppnåelse (antall ansatte) | CD74: 0 | CE74: 0 | CF74: 0 | CG74: 0
Q75: =Rapportering!B84 -> 3.3. | R75: =Rapportering!C84 -> #N/A | S75: =Rapportering!D84 -> #N/A | T75: =Rapportering!E84 -> 0 | U75: =Rapportering!F84 -> 0 | V75: =Rapportering!G84 -> 0 | W75: =Rapportering!H84 -> 0 | Z75: 74 | AV75: =IFERROR(INDEX(prosjekttema_og_tittel[tema inngår i prosjektsøknad],MATCH(AD75,prosjekttema_og_tittel[rowId - prosjekttema],0)),"") | AW75: =IFERROR(INDEX(prosjekttema_og_tittel[prosjekttema inngår i prosjektsøknad som har fått innvilgede midler],MATCH(AD75,prosjekttema_og_tittel[rowId - prosjekttema],0)),"") | AX75: =IFERROR(INDEX($T$13:$T$76,MATCH('backend (Ikke rør)'!$AD75,$Q$13:$Q$76,0)),"") -> Måloppnåelse (antall ansatte) | AY75: =IFERROR(INDEX($U$13:$U$76,MATCH('backend (Ikke rør)'!$AD75,$Q$13:$Q$76,0)),"") -> 0 | AZ75: =IFERROR(INDEX($V$13:$V$76,MATCH('backend (Ikke rør)'!$AD75,$Q$13:$Q$76,0)),"") -> 0 | BA75: =IFERROR(INDEX($V$79:$V$107,MATCH('backend (Ikke rør)'!$AD75,$Q$79:$Q$107,0)),"") -> 0 | BB75: =IFERROR(INDEX($W$79:$W$107,MATCH('backend (Ikke rør)'!$AD75,$Q$79:$Q$107,0)),"") -> 0 | BC75: TRUE | BE75: #VALUE! | BF75: 0 | BG75: 0 | BH75: 0 | BI75: 0 | BJ75: 0 | BK75: 0 | BL75: 0 | BM75: 0 | BN75: 0 | BO75: 0 | BP75: 0 | BQ75: 0 | BR75: 0 | BS75: 0 | BT75: 0 | BU75: 0 | BV75: 0 | BW75: 0 | BX75: 0 | BY75: 0 | BZ75: 0 | CC75: Måloppnåelse (antall ansatte) | CD75: 0 | CE75: 0 | CF75: 0 | CG75: 0
Q76: =Rapportering!B85 -> 0 | R76: =Rapportering!C85 -> 0 | S76: =Rapportering!D85 -> #N/A | T76: =Rapportering!E85 -> 0 | U76: =Rapportering!F85 -> 0 | V76: =Rapportering!G85 -> 0 | W76: =Rapportering!H85 -> 0 | Z76: 75 | AV76: =IFERROR(INDEX(prosjekttema_og_tittel[tema inngår i prosjektsøknad],MATCH(AD76,prosjekttema_og_tittel[rowId - prosjekttema],0)),"") | AW76: =IFERROR(INDEX(prosjekttema_og_tittel[prosjekttema inngår i prosjektsøknad som har fått innvilgede midler],MATCH(AD76,prosjekttema_og_tittel[rowId - prosjekttema],0)),"") | AX76: =IFERROR(INDEX($T$13:$T$76,MATCH('backend (Ikke rør)'!$AD76,$Q$13:$Q$76,0)),"") -> Måloppnåelse (antall ansatte) | AY76: =IFERROR(INDEX($U$13:$U$76,MATCH('backend (Ikke rør)'!$AD76,$Q$13:$Q$76,0)),"") -> 0 | AZ76: =IFERROR(INDEX($V$13:$V$76,MATCH('backend (Ikke rør)'!$AD76,$Q$13:$Q$76,0)),"") -> 0 | BA76: =IFERROR(INDEX($V$79:$V$107,MATCH('backend (Ikke rør)'!$AD76,$Q$79:$Q$107,0)),"") -> 0 | BB76: =IFERROR(INDEX($W$79:$W$107,MATCH('backend (Ikke rør)'!$AD76,$Q$79:$Q$107,0)),"") -> 0 | BC76: TRUE | BE76: #VALUE! | BF76: 0 | BG76: 0 | BH76: 0 | BI76: 0 | BJ76: 0 | BK76: 0 | BL76: 0 | BM76: 0 | BN76: 0 | BO76: 0 | BP76: 0 | BQ76: 0 | BR76: 0 | BS76: 0 | BT76: 0 | BU76: 0 | BV76: 0 | BW76: 0 | BX76: 0 | BY76: 0 | BZ76: 0 | CC76: Måloppnåelse (antall ansatte) | CD76: 0 | CE76: 0 | CF76: 0 | CG76: 0
Z77: 76 | AV77: =IFERROR(INDEX(prosjekttema_og_tittel[tema inngår i prosjektsøknad],MATCH(AD77,prosjekttema_og_tittel[rowId - prosjekttema],0)),"") | AW77: =IFERROR(INDEX(prosjekttema_og_tittel[prosjekttema inngår i prosjektsøknad som har fått innvilgede midler],MATCH(AD77,prosjekttema_og_tittel[rowId - prosjekttema],0)),"") | AX77: =IFERROR(INDEX($T$13:$T$76,MATCH('backend (Ikke rør)'!$AD77,$Q$13:$Q$76,0)),"") -> Måloppnåelse (antall ansatte) | AY77: =IFERROR(INDEX($U$13:$U$76,MATCH('backend (Ikke rør)'!$AD77,$Q$13:$Q$76,0)),"") -> 0 | AZ77: =IFERROR(INDEX($V$13:$V$76,MATCH('backend (Ikke rør)'!$AD77,$Q$13:$Q$76,0)),"") -> 0 | BA77: =IFERROR(INDEX($V$79:$V$107,MATCH('backend (Ikke rør)'!$AD77,$Q$79:$Q$107,0)),"") -> 0 | BB77: =IFERROR(INDEX($W$79:$W$107,MATCH('backend (Ikke rør)'!$AD77,$Q$79:$Q$107,0)),"") -> 0 | BC77: TRUE | BE77: #VALUE! | BF77: 0 | BG77: 0 | BH77: 0 | BI77: 0 | BJ77: 0 | BK77: 0 | BL77: 0 | BM77: 0 | BN77: 0 | BO77: 0 | BP77: 0 | BQ77: 0 | BR77: 0 | BS77: 0 | BT77: 0 | BU77: 0 | BV77: 0 | BW77: 0 | BX77: 0 | BY77: 0 | BZ77: 0 | CC77: Måloppnåelse (antall ansatte) | CD77: 0 | CE77: 0 | CF77: 0 | CG77: 0
P78: Økonomi kompetansetiltak | Z78: 77 | AV78: =IFERROR(INDEX(prosjekttema_og_tittel[tema inngår i prosjektsøknad],MATCH(AD78,prosjekttema_og_tittel[rowId - prosjekttema],0)),"") | AW78: =IFERROR(INDEX(prosjekttema_og_tittel[prosjekttema inngår i prosjektsøknad som har fått innvilgede midler],MATCH(AD78,prosjekttema_og_tittel[rowId - prosjekttema],0)),"") | AX78: =IFERROR(INDEX($T$13:$T$76,MATCH('backend (Ikke rør)'!$AD78,$Q$13:$Q$76,0)),"") -> Måloppnåelse (antall ansatte) | AY78: =IFERROR(INDEX($U$13:$U$76,MATCH('backend (Ikke rør)'!$AD78,$Q$13:$Q$76,0)),"") -> 0 | AZ78: =IFERROR(INDEX($V$13:$V$76,MATCH('backend (Ikke rør)'!$AD78,$Q$13:$Q$76,0)),"") -> 0 | BA78: =IFERROR(INDEX($V$79:$V$107,MATCH('backend (Ikke rør)'!$AD78,$Q$79:$Q$107,0)),"") -> 0 | BB78: =IFERROR(INDEX($W$79:$W$107,MATCH('backend (Ikke rør)'!$AD78,$Q$79:$Q$107,0)),"") -> 0 | BC78: TRUE | BE78: #VALUE! | BF78: 0 | BG78: 0 | BH78: 0 | BI78: 0 | BJ78: 0 | BK78: 0 | BL78: 0 | BM78: 0 | BN78: 0 | BO78: 0 | BP78: 0 | BQ78: 0 | BR78: 0 | BS78: 0 | BT78: 0 | BU78: 0 | BV78: 0 | BW78: 0 | BX78: 0 | BY78: 0 | BZ78: 0 | CC78: Måloppnåelse (antall ansatte) | CD78: 0 | CE78: 0 | CF78: 0 | CG78: 0
Q79: =Rapportering!B65 -> 0 | R79: =Rapportering!C65 -> Tilskudd til Kompetansetiltak | S79: =Rapportering!D65 -> 0 | T79: =Rapportering!E65 -> 0 | U79: =Rapportering!F65 -> 0 | V79: =Rapportering!G65 -> 0 | W79: =Rapportering!H65 -> 0 | Z79: 78 | AV79: =IFERROR(INDEX(prosjekttema_og_tittel[tema inngår i prosjektsøknad],MATCH(AD79,prosjekttema_og_tittel[rowId - prosjekttema],0)),"") | AW79: =IFERROR(INDEX(prosjekttema_og_tittel[prosjekttema inngår i prosjektsøknad som har fått innvilgede midler],MATCH(AD79,prosjekttema_og_tittel[rowId - prosjekttema],0)),"") | AX79: =IFERROR(INDEX($T$13:$T$76,MATCH('backend (Ikke rør)'!$AD79,$Q$13:$Q$76,0)),"") -> Måloppnåelse (antall ansatte) | AY79: =IFERROR(INDEX($U$13:$U$76,MATCH('backend (Ikke rør)'!$AD79,$Q$13:$Q$76,0)),"") -> 0 | AZ79: =IFERROR(INDEX($V$13:$V$76,MATCH('backend (Ikke rør)'!$AD79,$Q$13:$Q$76,0)),"") -> 0 | BA79: =IFERROR(INDEX($V$79:$V$107,MATCH('backend (Ikke rør)'!$AD79,$Q$79:$Q$107,0)),"") -> 0 | BB79: =IFERROR(INDEX($W$79:$W$107,MATCH('backend (Ikke rør)'!$AD79,$Q$79:$Q$107,0)),"") -> 0 | BC79: TRUE | BE79: #VALUE! | BF79: 0 | BG79: 0 | BH79: 0 | BI79: 0 | BJ79: 0 | BK79: 0 | BL79: 0 | BM79: 0 | BN79: 0 | BO79: 0 | BP79: 0 | BQ79: 0 | BR79: 0 | BS79: 0 | BT79: 0 | BU79: 0 | BV79: 0 | BW79: 0 | BX79: 0 | BY79: 0 | BZ79: 0 | CC79: Måloppnåelse (antall ansatte) | CD79: 0 | CE79: 0 | CF79: 0 | CG79: 0
Q80: =Rapportering!B66 -> 0 | R80: =Rapportering!C66 -> 0 | S80: =Rapportering!D66 -> Økonomirapportering | T80: =Rapportering!E66 -> 0 | U80: =Rapportering!F66 -> 0 | V80: =Rapportering!G66 -> 0 | W80: =Rapportering!H66 -> 0 | Z80: 79 | AV80: =IFERROR(INDEX(prosjekttema_og_tittel[tema inngår i prosjektsøknad],MATCH(AD80,prosjekttema_og_tittel[rowId - prosjekttema],0)),"") | AW80: =IFERROR(INDEX(prosjekttema_og_tittel[prosjekttema inngår i prosjektsøknad som har fått innvilgede midler],MATCH(AD80,prosjekttema_og_tittel[rowId - prosjekttema],0)),"") | AX80: =IFERROR(INDEX($T$13:$T$76,MATCH('backend (Ikke rør)'!$AD80,$Q$13:$Q$76,0)),"") -> Måloppnåelse (antall ansatte) | AY80: =IFERROR(INDEX($U$13:$U$76,MATCH('backend (Ikke rør)'!$AD80,$Q$13:$Q$76,0)),"") -> 0 | AZ80: =IFERROR(INDEX($V$13:$V$76,MATCH('backend (Ikke rør)'!$AD80,$Q$13:$Q$76,0)),"") -> 0 | BA80: =IFERROR(INDEX($V$79:$V$107,MATCH('backend (Ikke rør)'!$AD80,$Q$79:$Q$107,0)),"") -> 0 | BB80: =IFERROR(INDEX($W$79:$W$107,MATCH('backend (Ikke rør)'!$AD80,$Q$79:$Q$107,0)),"") -> 0 | BC80: TRUE | BE80: #VALUE! | BF80: 0 | BG80: 0 | BH80: 0 | BI80: 0 | BJ80: 0 | BK80: 0 | BL80: 0 | BM80: 0 | BN80: 0 | BO80: 0 | BP80: 0 | BQ80: 0 | BR80: 0 | BS80: 0 | BT80: 0 | BU80: 0 | BV80: 0 | BW80: 0 | BX80: 0 | BY80: 0 | BZ80: 0 | CC80: Måloppnåelse (antall ansatte) | CD80: 0 | CE80: 0 | CF80: 0 | CG80: 0
Q81: =Rapportering!B67 -> 0 | R81: =Rapportering!C67 -> 0 | S81: =Rapportering!D67 -> Totalt søkt tilskudd | T81: =Rapportering!E67 -> Utbetalt tilskudd 2023 | U81: =Rapportering!F67 -> Totalt innvilget tilskudd | V81: =Rapportering!G67 -> Ubenyttet beløp | W81: =Rapportering!H67 -> 0 | Z81: 80 | AV81: =IFERROR(INDEX(prosjekttema_og_tittel[tema inngår i prosjektsøknad],MATCH(AD81,prosjekttema_og_tittel[rowId - prosjekttema],0)),"") | AW81: =IFERROR(INDEX(prosjekttema_og_tittel[prosjekttema inngår i prosjektsøknad som har fått innvilgede midler],MATCH(AD81,prosjekttema_og_tittel[rowId - prosjekttema],0)),"") | AX81: =IFERROR(INDEX($T$13:$T$76,MATCH('backend (Ikke rør)'!$AD81,$Q$13:$Q$76,0)),"") -> Måloppnåelse (antall ansatte) | AY81: =IFERROR(INDEX($U$13:$U$76,MATCH('backend (Ikke rør)'!$AD81,$Q$13:$Q$76,0)),"") -> 0 | AZ81: =IFERROR(INDEX($V$13:$V$76,MATCH('backend (Ikke rør)'!$AD81,$Q$13:$Q$76,0)),"") -> 0 | BA81: =IFERROR(INDEX($V$79:$V$107,MATCH('backend (Ikke rør)'!$AD81,$Q$79:$Q$107,0)),"") -> 0 | BB81: =IFERROR(INDEX($W$79:$W$107,MATCH('backend (Ikke rør)'!$AD81,$Q$79:$Q$107,0)),"") -> 0 | BC81: TRUE | BE81: #VALUE! | BF81: 0 | BG81: 0 | BH81: 0 | BI81: 0 | BJ81: 0 | BK81: 0 | BL81: 0 | BM81: 0 | BN81: 0 | BO81: 0 | BP81: 0 | BQ81: 0 | BR81: 0 | BS81: 0 | BT81: 0 | BU81: 0 | BV81: 0 | BW81: 0 | BX81: 0 | BY81: 0 | BZ81: 0 | CC81: Måloppnåelse (antall ansatte) | CD81: 0 | CE81: 0 | CF81: 0 | CG81: 0
Q82: =Rapportering!B68 -> 2.1. | R82: =Rapportering!C68 -> Videregående skole, fag- og yrkesopplæring innen helse (fagbrev) | S82: =Rapportering!D68 -> 0 | T82: =Rapportering!E68 -> 0 | U82: =Rapportering!F68 -> 0 | V82: =Rapportering!G68 -> 0 | W82: =Rapportering!H68 -> 0 | Z82: 81 | AV82: =IFERROR(INDEX(prosjekttema_og_tittel[tema inngår i prosjektsøknad],MATCH(AD82,prosjekttema_og_tittel[rowId - prosjekttema],0)),"") | AW82: =IFERROR(INDEX(prosjekttema_og_tittel[prosjekttema inngår i prosjektsøknad som har fått innvilgede midler],MATCH(AD82,prosjekttema_og_tittel[rowId - prosjekttema],0)),"") | AX82: =IFERROR(INDEX($T$13:$T$76,MATCH('backend (Ikke rør)'!$AD82,$Q$13:$Q$76,0)),"") -> Måloppnåelse (antall ansatte) | AY82: =IFERROR(INDEX($U$13:$U$76,MATCH('backend (Ikke rør)'!$AD82,$Q$13:$Q$76,0)),"") -> 0 | AZ82: =IFERROR(INDEX($V$13:$V$76,MATCH('backend (Ikke rør)'!$AD82,$Q$13:$Q$76,0)),"") -> 0 | BA82: =IFERROR(INDEX($V$79:$V$107,MATCH('backend (Ikke rør)'!$AD82,$Q$79:$Q$107,0)),"") -> 0 | BB82: =IFERROR(INDEX($W$79:$W$107,MATCH('backend (Ikke rør)'!$AD82,$Q$79:$Q$107,0)),"") -> 0 | BC82: TRUE | BE82: #VALUE! | BF82: 0 | BG82: 0 | BH82: 0 | BI82: 0 | BJ82: 0 | BK82: 0 | BL82: 0 | BM82: 0 | BN82: 0 | BO82: 0 | BP82: 0 | BQ82: 0 | BR82: 0 | BS82: 0 | BT82: 0 | BU82: 0 | BV82: 0 | BW82: 0 | BX82: 0 | BY82: 0 | BZ82: 0 | CC82: Måloppnåelse (antall ansatte) | CD82: 0 | CE82: 0 | CF82: 0 | CG82: 0
Q83: =Rapportering!B69 -> 2.2. | R83: =Rapportering!C69 -> Fagskoleutdanning | S83: =Rapportering!D69 -> 0 | T83: =Rapportering!E69 -> 0 | U83: =Rapportering!F69 -> 0 | V83: =Rapportering!G69 -> 0 | W83: =Rapportering!H69 -> 0 | Z83: 82 | AV83: =IFERROR(INDEX(prosjekttema_og_tittel[tema inngår i prosjektsøknad],MATCH(AD83,prosjekttema_og_tittel[rowId - prosjekttema],0)),"") | AW83: =IFERROR(INDEX(prosjekttema_og_tittel[prosjekttema inngår i prosjektsøknad som har fått innvilgede midler],MATCH(AD83,prosjekttema_og_tittel[rowId - prosjekttema],0)),"") | AX83: =IFERROR(INDEX($T$13:$T$76,MATCH('backend (Ikke rør)'!$AD83,$Q$13:$Q$76,0)),"") -> Måloppnåelse (antall ansatte) | AY83: =IFERROR(INDEX($U$13:$U$76,MATCH('backend (Ikke rør)'!$AD83,$Q$13:$Q$76,0)),"") -> 0 | AZ83: =IFERROR(INDEX($V$13:$V$76,MATCH('backend (Ikke rør)'!$AD83,$Q$13:$Q$76,0)),"") -> 0 | BA83: =IFERROR(INDEX($V$79:$V$107,MATCH('backend (Ikke rør)'!$AD83,$Q$79:$Q$107,0)),"") -> 0 | BB83: =IFERROR(INDEX($W$79:$W$107,MATCH('backend (Ikke rør)'!$AD83,$Q$79:$Q$107,0)),"") -> 0 | BC83: TRUE | BE83: #VALUE! | BF83: 0 | BG83: 0 | BH83: 0 | BI83: 0 | BJ83: 0 | BK83: 0 | BL83: 0 | BM83: 0 | BN83: 0 | BO83: 0 | BP83: 0 | BQ83: 0 | BR83: 0 | BS83: 0 | BT83: 0 | BU83: 0 | BV83: 0 | BW83: 0 | BX83: 0 | BY83: 0 | BZ83: 0 | CC83: Måloppnåelse (antall ansatte) | CD83: 0 | CE83: 0 | CF83: 0 | CG83: 0
Q84: =Rapportering!B70 -> 2.3. | R84: =Rapportering!C70 -> Bachelorutdanning helse- og sosialfag | S84: =Rapportering!D70 -> 0 | T84: =Rapportering!E70 -> 0 | U84: =Rapportering!F70 -> 0 | V84: =Rapportering!G70 -> 0 | W84: =Rapportering!H70 -> 0 | Z84: 101 | AV84: =IFERROR(INDEX(prosjekttema_og_tittel[tema inngår i prosjektsøknad],MATCH(AD84,prosjekttema_og_tittel[rowId - prosjekttema],0)),"") | AW84: =IFERROR(INDEX(prosjekttema_og_tittel[prosjekttema inngår i prosjektsøknad som har fått innvilgede midler],MATCH(AD84,prosjekttema_og_tittel[rowId - prosjekttema],0)),"") | AX84: =IFERROR(INDEX($T$13:$T$76,MATCH('backend (Ikke rør)'!$AD84,$Q$13:$Q$76,0)),"") -> Måloppnåelse (antall ansatte) | AY84: =IFERROR(INDEX($U$13:$U$76,MATCH('backend (Ikke rør)'!$AD84,$Q$13:$Q$76,0)),"") -> 0 | AZ84: =IFERROR(INDEX($V$13:$V$76,MATCH('backend (Ikke rør)'!$AD84,$Q$13:$Q$76,0)),"") -> 0 | BA84: =IFERROR(INDEX($V$79:$V$107,MATCH('backend (Ikke rør)'!$AD84,$Q$79:$Q$107,0)),"") -> 0 | BB84: =IFERROR(INDEX($W$79:$W$107,MATCH('backend (Ikke rør)'!$AD84,$Q$79:$Q$107,0)),"") -> 0 | BC84: TRUE
Q85: =Rapportering!B71 -> 2.4. | R85: =Rapportering!C71 -> Videreutdanning og mastergradutdanning (påbygg bachelorutdanning) | S85: =Rapportering!D71 -> 0 | T85: =Rapportering!E71 -> 0 | U85: =Rapportering!F71 -> 0 | V85: =Rapportering!G71 -> 0 | W85: =Rapportering!H71 -> 0 | Z85: 102 | AV85: =IFERROR(INDEX(prosjekttema_og_tittel[tema inngår i prosjektsøknad],MATCH(AD85,prosjekttema_og_tittel[rowId - prosjekttema],0)),"") | AW85: =IFERROR(INDEX(prosjekttema_og_tittel[prosjekttema inngår i prosjektsøknad som har fått innvilgede midler],MATCH(AD85,prosjekttema_og_tittel[rowId - prosjekttema],0)),"") | AX85: =IFERROR(INDEX($T$13:$T$76,MATCH('backend (Ikke rør)'!$AD85,$Q$13:$Q$76,0)),"") -> Måloppnåelse (antall ansatte) | AY85: =IFERROR(INDEX($U$13:$U$76,MATCH('backend (Ikke rør)'!$AD85,$Q$13:$Q$76,0)),"") -> 0 | AZ85: =IFERROR(INDEX($V$13:$V$76,MATCH('backend (Ikke rør)'!$AD85,$Q$13:$Q$76,0)),"") -> 0 | BA85: =IFERROR(INDEX($V$79:$V$107,MATCH('backend (Ikke rør)'!$AD85,$Q$79:$Q$107,0)),"") -> 0 | BB85: =IFERROR(INDEX($W$79:$W$107,MATCH('backend (Ikke rør)'!$AD85,$Q$79:$Q$107,0)),"") -> 0 | BC85: =NOT(ISBLANK(AA85)) -> FALSE
Q86: =Rapportering!B72 -> 2.5. | R86: =Rapportering!C72 -> ABC-opplæring | S86: =Rapportering!D72 -> 0 | T86: =Rapportering!E72 -> 0 | U86: =Rapportering!F72 -> 0 | V86: =Rapportering!G72 -> 0 | W86: =Rapportering!H72 -> 0 | Z86: 103 | AV86: =IFERROR(INDEX(prosjekttema_og_tittel[tema inngår i prosjektsøknad],MATCH(AD86,prosjekttema_og_tittel[rowId - prosjekttema],0)),"") | AW86: =IFERROR(INDEX(prosjekttema_og_tittel[prosjekttema inngår i prosjektsøknad som har fått innvilgede midler],MATCH(AD86,prosjekttema_og_tittel[rowId - prosjekttema],0)),"") | AX86: =IFERROR(INDEX($T$13:$T$76,MATCH('backend (Ikke rør)'!$AD86,$Q$13:$Q$76,0)),"") -> Måloppnåelse (antall ansatte) | AY86: =IFERROR(INDEX($U$13:$U$76,MATCH('backend (Ikke rør)'!$AD86,$Q$13:$Q$76,0)),"") -> 0 | AZ86: =IFERROR(INDEX($V$13:$V$76,MATCH('backend (Ikke rør)'!$AD86,$Q$13:$Q$76,0)),"") -> 0 | BA86: =IFERROR(INDEX($V$79:$V$107,MATCH('backend (Ikke rør)'!$AD86,$Q$79:$Q$107,0)),"") -> 0 | BB86: =IFERROR(INDEX($W$79:$W$107,MATCH('backend (Ikke rør)'!$AD86,$Q$79:$Q$107,0)),"") -> 0 | BC86: =NOT(ISBLANK(AA86)) -> FALSE
Q87: =Rapportering!B73 -> 2.6. | R87: =Rapportering!C73 -> Annen internopplæring / korte etterutdanninger /kurs mv. | S87: =Rapportering!D73 -> 0 | T87: =Rapportering!E73 -> 0 | U87: =Rapportering!F73 -> 0 | V87: =Rapportering!G73 -> 0 | W87: =Rapportering!H73 -> 0 | Z87: 104 | AV87: =IFERROR(INDEX(prosjekttema_og_tittel[tema inngår i prosjektsøknad],MATCH(AD87,prosjekttema_og_tittel[rowId - prosjekttema],0)),"") | AW87: =IFERROR(INDEX(prosjekttema_og_tittel[prosjekttema inngår i prosjektsøknad som har fått innvilgede midler],MATCH(AD87,prosjekttema_og_tittel[rowId - prosjekttema],0)),"") | AX87: =IFERROR(INDEX($T$13:$T$76,MATCH('backend (Ikke rør)'!$AD87,$Q$13:$Q$76,0)),"") -> Måloppnåelse (antall ansatte) | AY87: =IFERROR(INDEX($U$13:$U$76,MATCH('backend (Ikke rør)'!$AD87,$Q$13:$Q$76,0)),"") -> 0 | AZ87: =IFERROR(INDEX($V$13:$V$76,MATCH('backend (Ikke rør)'!$AD87,$Q$13:$Q$76,0)),"") -> 0 | BA87: =IFERROR(INDEX($V$79:$V$107,MATCH('backend (Ikke rør)'!$AD87,$Q$79:$Q$107,0)),"") -> 0 | BB87: =IFERROR(INDEX($W$79:$W$107,MATCH('backend (Ikke rør)'!$AD87,$Q$79:$Q$107,0)),"") -> 0 | BC87: =NOT(ISBLANK(AA87)) -> FALSE
Z88: 105 | AV88: =IFERROR(INDEX(prosjekttema_og_tittel[tema inngår i prosjektsøknad],MATCH(AD88,prosjekttema_og_tittel[rowId - prosjekttema],0)),"") | AW88: =IFERROR(INDEX(prosjekttema_og_tittel[prosjekttema inngår i prosjektsøknad som har fått innvilgede midler],MATCH(AD88,prosjekttema_og_tittel[rowId - prosjekttema],0)),"") | AX88: =IFERROR(INDEX($T$13:$T$76,MATCH('backend (Ikke rør)'!$AD88,$Q$13:$Q$76,0)),"") -> Måloppnåelse (antall ansatte) | AY88: =IFERROR(INDEX($U$13:$U$76,MATCH('backend (Ikke rør)'!$AD88,$Q$13:$Q$76,0)),"") -> 0 | AZ88: =IFERROR(INDEX($V$13:$V$76,MATCH('backend (Ikke rør)'!$AD88,$Q$13:$Q$76,0)),"") -> 0 | BA88: =IFERROR(INDEX($V$79:$V$107,MATCH('backend (Ikke rør)'!$AD88,$Q$79:$Q$107,0)),"") -> 0 | BB88: =IFERROR(INDEX($W$79:$W$107,MATCH('backend (Ikke rør)'!$AD88,$Q$79:$Q$107,0)),"") -> 0 | BC88: =NOT(ISBLANK(AA88)) -> FALSE
Z89: 106 | AV89: =IFERROR(INDEX(prosjekttema_og_tittel[tema inngår i prosjektsøknad],MATCH(AD89,prosjekttema_og_tittel[rowId - prosjekttema],0)),"") | AW89: =IFERROR(INDEX(prosjekttema_og_tittel[prosjekttema inngår i prosjektsøknad som har fått innvilgede midler],MATCH(AD89,prosjekttema_og_tittel[rowId - prosjekttema],0)),"") | AX89: =IFERROR(INDEX($T$13:$T$76,MATCH('backend (Ikke rør)'!$AD89,$Q$13:$Q$76,0)),"") -> Måloppnåelse (antall ansatte) | AY89: =IFERROR(INDEX($U$13:$U$76,MATCH('backend (Ikke rør)'!$AD89,$Q$13:$Q$76,0)),"") -> 0 | AZ89: =IFERROR(INDEX($V$13:$V$76,MATCH('backend (Ikke rør)'!$AD89,$Q$13:$Q$76,0)),"") -> 0 | BA89: =IFERROR(INDEX($V$79:$V$107,MATCH('backend (Ikke rør)'!$AD89,$Q$79:$Q$107,0)),"") -> 0 | BB89: =IFERROR(INDEX($W$79:$W$107,MATCH('backend (Ikke rør)'!$AD89,$Q$79:$Q$107,0)),"") -> 0 | BC89: =NOT(ISBLANK(AA89)) -> FALSE
P90: Økonomi BPA | Z90: 107 | AV90: =IFERROR(INDEX(prosjekttema_og_tittel[tema inngår i prosjektsøknad],MATCH(AD90,prosjekttema_og_tittel[rowId - prosjekttema],0)),"") | AW90: =IFERROR(INDEX(prosjekttema_og_tittel[prosjekttema inngår i prosjektsøknad som har fått innvilgede midler],MATCH(AD90,prosjekttema_og_tittel[rowId - prosjekttema],0)),"") | AX90: =IFERROR(INDEX($T$13:$T$76,MATCH('backend (Ikke rør)'!$AD90,$Q$13:$Q$76,0)),"") -> Måloppnåelse (antall ansatte) | AY90: =IFERROR(INDEX($U$13:$U$76,MATCH('backend (Ikke rør)'!$AD90,$Q$13:$Q$76,0)),"") -> 0 | AZ90: =IFERROR(INDEX($V$13:$V$76,MATCH('backend (Ikke rør)'!$AD90,$Q$13:$Q$76,0)),"") -> 0 | BA90: =IFERROR(INDEX($V$79:$V$107,MATCH('backend (Ikke rør)'!$AD90,$Q$79:$Q$107,0)),"") -> 0 | BB90: =IFERROR(INDEX($W$79:$W$107,MATCH('backend (Ikke rør)'!$AD90,$Q$79:$Q$107,0)),"") -> 0 | BC90: =NOT(ISBLANK(AA90)) -> FALSE
Q91: =Rapportering!B88 -> 0 | R91: =Rapportering!C88 -> 0 | S91: =Rapportering!D88 -> Totalt søkt tilskudd | T91: =Rapportering!E88 -> Utbetalt tilskudd 2023 | U91: =Rapportering!F88 -> Totalt innvilget tilskudd | V91: =Rapportering!G88 -> Ubenyttet beløp | W91: =Rapportering!H88 -> 0 | Z91: 108 | AV91: =IFERROR(INDEX(prosjekttema_og_tittel[tema inngår i prosjektsøknad],MATCH(AD91,prosjekttema_og_tittel[rowId - prosjekttema],0)),"") | AW91: =IFERROR(INDEX(prosjekttema_og_tittel[prosjekttema inngår i prosjektsøknad som har fått innvilgede midler],MATCH(AD91,prosjekttema_og_tittel[rowId - prosjekttema],0)),"") | AX91: =IFERROR(INDEX($T$13:$T$76,MATCH('backend (Ikke rør)'!$AD91,$Q$13:$Q$76,0)),"") -> Måloppnåelse (antall ansatte) | AY91: =IFERROR(INDEX($U$13:$U$76,MATCH('backend (Ikke rør)'!$AD91,$Q$13:$Q$76,0)),"") -> 0 | AZ91: =IFERROR(INDEX($V$13:$V$76,MATCH('backend (Ikke rør)'!$AD91,$Q$13:$Q$76,0)),"") -> 0 | BA91: =IFERROR(INDEX($V$79:$V$107,MATCH('backend (Ikke rør)'!$AD91,$Q$79:$Q$107,0)),"") -> 0 | BB91: =IFERROR(INDEX($W$79:$W$107,MATCH('backend (Ikke rør)'!$AD91,$Q$79:$Q$107,0)),"") -> 0 | BC91: =NOT(ISBLANK(AA91)) -> FALSE
Q92: =Rapportering!B89 -> 3. | R92: =Rapportering!C89 -> 0 | S92: =Rapportering!D89 -> 0 | T92: =Rapportering!E89 -> 0 | U92: =Rapportering!F89 -> 0 | V92: =Rapportering!G89 -> 0 | W92: =Rapportering!H89 -> 0 | Z92: 109 | AV92: =IFERROR(INDEX(prosjekttema_og_tittel[tema inngår i prosjektsøknad],MATCH(AD92,prosjekttema_og_tittel[rowId - prosjekttema],0)),"") | AW92: =IFERROR(INDEX(prosjekttema_og_tittel[prosjekttema inngår i prosjektsøknad som har fått innvilgede midler],MATCH(AD92,prosjekttema_og_tittel[rowId - prosjekttema],0)),"") | AX92: =IFERROR(INDEX($T$13:$T$76,MATCH('backend (Ikke rør)'!$AD92,$Q$13:$Q$76,0)),"") -> Måloppnåelse (antall ansatte) | AY92: =IFERROR(INDEX($U$13:$U$76,MATCH('backend (Ikke rør)'!$AD92,$Q$13:$Q$76,0)),"") -> 0 | AZ92: =IFERROR(INDEX($V$13:$V$76,MATCH('backend (Ikke rør)'!$AD92,$Q$13:$Q$76,0)),"") -> 0 | BA92: =IFERROR(INDEX($V$79:$V$107,MATCH('backend (Ikke rør)'!$AD92,$Q$79:$Q$107,0)),"") -> 0 | BB92: =IFERROR(INDEX($W$79:$W$107,MATCH('backend (Ikke rør)'!$AD92,$Q$79:$Q$107,0)),"") -> 0 | BC92: =NOT(ISBLANK(AA92)) -> FALSE
Q93: =Rapportering!B90 -> 0 | R93: =Rapportering!C90 -> 0 | S93: =Rapportering!D90 -> 0 | T93: =Rapportering!E90 -> 0 | U93: =Rapportering!F90 -> 0 | V93: =Rapportering!G90 -> 0 | W93: =Rapportering!H90 -> 0 | Z93: 110 | AV93: =IFERROR(INDEX(prosjekttema_og_tittel[tema inngår i prosjektsøknad],MATCH(AD93,prosjekttema_og_tittel[rowId - prosjekttema],0)),"") | AW93: =IFERROR(INDEX(prosjekttema_og_tittel[prosjekttema inngår i prosjektsøknad som har fått innvilgede midler],MATCH(AD93,prosjekttema_og_tittel[rowId - prosjekttema],0)),"") | AX93: =IFERROR(INDEX($T$13:$T$76,MATCH('backend (Ikke rør)'!$AD93,$Q$13:$Q$76,0)),"") -> Måloppnåelse (antall ansatte) | AY93: =IFERROR(INDEX($U$13:$U$76,MATCH('backend (Ikke rør)'!$AD93,$Q$13:$Q$76,0)),"") -> 0 | AZ93: =IFERROR(INDEX($V$13:$V$76,MATCH('backend (Ikke rør)'!$AD93,$Q$13:$Q$76,0)),"") -> 0 | BA93: =IFERROR(INDEX($V$79:$V$107,MATCH('backend (Ikke rør)'!$AD93,$Q$79:$Q$107,0)),"") -> 0 | BB93: =IFERROR(INDEX($W$79:$W$107,MATCH('backend (Ikke rør)'!$AD93,$Q$79:$Q$107,0)),"") -> 0 | BC93: =NOT(ISBLANK(AA93)) -> FALSE
P94: Økonomi prosjekt | Z94: 111 | AV94: =IFERROR(INDEX(prosjekttema_og_tittel[tema inngår i prosjektsøknad],MATCH(AD94,prosjekttema_og_tittel[rowId - prosjekttema],0)),"") | AW94: =IFERROR(INDEX(prosjekttema_og_tittel[prosjekttema inngår i prosjektsøknad som har fått innvilgede midler],MATCH(AD94,prosjekttema_og_tittel[rowId - prosjekttema],0)),"") | AX94: =IFERROR(INDEX($T$13:$T$76,MATCH('backend (Ikke rør)'!$AD94,$Q$13:$Q$76,0)),"") -> Måloppnåelse (antall ansatte) | AY94: =IFERROR(INDEX($U$13:$U$76,MATCH('backend (Ikke rør)'!$AD94,$Q$13:$Q$76,0)),"") -> 0 | AZ94: =IFERROR(INDEX($V$13:$V$76,MATCH('backend (Ikke rør)'!$AD94,$Q$13:$Q$76,0)),"") -> 0 | BA94: =IFERROR(INDEX($V$79:$V$107,MATCH('backend (Ikke rør)'!$AD94,$Q$79:$Q$107,0)),"") -> 0 | BB94: =IFERROR(INDEX($W$79:$W$107,MATCH('backend (Ikke rør)'!$AD94,$Q$79:$Q$107,0)),"") -> 0 | BC94: =NOT(ISBLANK(AA94)) -> FALSE
Q95: =Rapportering!B105 -> 0 | R95: =Rapportering!C105 -> 0 | S95: =Rapportering!D105 -> Økonomirapportering | T95: =Rapportering!E105 -> 0 | U95: =Rapportering!F105 -> 0 | V95: =Rapportering!G105 -> 0 | W95: =Rapportering!H105 -> 0 | Z95: 112 | AV95: =IFERROR(INDEX(prosjekttema_og_tittel[tema inngår i prosjektsøknad],MATCH(AD95,prosjekttema_og_tittel[rowId - prosjekttema],0)),"") | AW95: =IFERROR(INDEX(prosjekttema_og_tittel[prosjekttema inngår i prosjektsøknad som har fått innvilgede midler],MATCH(AD95,prosjekttema_og_tittel[rowId - prosjekttema],0)),"") | AX95: =IFERROR(INDEX($T$13:$T$76,MATCH('backend (Ikke rør)'!$AD95,$Q$13:$Q$76,0)),"") -> Måloppnåelse (antall ansatte) | AY95: =IFERROR(INDEX($U$13:$U$76,MATCH('backend (Ikke rør)'!$AD95,$Q$13:$Q$76,0)),"") -> 0 | AZ95: =IFERROR(INDEX($V$13:$V$76,MATCH('backend (Ikke rør)'!$AD95,$Q$13:$Q$76,0)),"") -> 0 | BA95: =IFERROR(INDEX($V$79:$V$107,MATCH('backend (Ikke rør)'!$AD95,$Q$79:$Q$107,0)),"") -> 0 | BB95: =IFERROR(INDEX($W$79:$W$107,MATCH('backend (Ikke rør)'!$AD95,$Q$79:$Q$107,0)),"") -> 0 | BC95: =NOT(ISBLANK(AA95)) -> FALSE
Q96: =Rapportering!B106 -> 0 | R96: =Rapportering!C106 -> 0 | S96: =Rapportering!D106 -> Totalt søkt tilskudd | T96: =Rapportering!E106 -> Utbetalt tilskudd 2023 | U96: =Rapportering!F106 -> Totalt beløp innvilget | V96: =Rapportering!G106 -> Ubenyttet beløp | W96: =Rapportering!H106 -> Kort oppsummeringer av hvordan prosjektet har gått (2-3 setninger) | Z96: 113 | AV96: =IFERROR(INDEX(prosjekttema_og_tittel[tema inngår i prosjektsøknad],MATCH(AD96,prosjekttema_og_tittel[rowId - prosjekttema],0)),"") | AW96: =IFERROR(INDEX(prosjekttema_og_tittel[prosjekttema inngår i prosjektsøknad som har fått innvilgede midler],MATCH(AD96,prosjekttema_og_tittel[rowId - prosjekttema],0)),"") | AX96: =IFERROR(INDEX($T$13:$T$76,MATCH('backend (Ikke rør)'!$AD96,$Q$13:$Q$76,0)),"") -> Måloppnåelse (antall ansatte) | AY96: =IFERROR(INDEX($U$13:$U$76,MATCH('backend (Ikke rør)'!$AD96,$Q$13:$Q$76,0)),"") -> 0 | AZ96: =IFERROR(INDEX($V$13:$V$76,MATCH('backend (Ikke rør)'!$AD96,$Q$13:$Q$76,0)),"") -> 0 | BA96: =IFERROR(INDEX($V$79:$V$107,MATCH('backend (Ikke rør)'!$AD96,$Q$79:$Q$107,0)),"") -> 0 | BB96: =IFERROR(INDEX($W$79:$W$107,MATCH('backend (Ikke rør)'!$AD96,$Q$79:$Q$107,0)),"") -> 0 | BC96: =NOT(ISBLANK(AA96)) -> FALSE
Q97: =Rapportering!B107 -> P1.7c | R97: =Rapportering!C107 | S97: =Rapportering!D107 -> 0 | T97: =Rapportering!E107 -> 0 | U97: =Rapportering!F107 -> 0 | V97: =Rapportering!G107 -> 0 | W97: =Rapportering!H107 -> 0 | Z97: 114 | AV97: =IFERROR(INDEX(prosjekttema_og_tittel[tema inngår i prosjektsøknad],MATCH(AD97,prosjekttema_og_tittel[rowId - prosjekttema],0)),"") | AW97: =IFERROR(INDEX(prosjekttema_og_tittel[prosjekttema inngår i prosjektsøknad som har fått innvilgede midler],MATCH(AD97,prosjekttema_og_tittel[rowId - prosjekttema],0)),"") | AX97: =IFERROR(INDEX($T$13:$T$76,MATCH('backend (Ikke rør)'!$AD97,$Q$13:$Q$76,0)),"") -> Måloppnåelse (antall ansatte) | AY97: =IFERROR(INDEX($U$13:$U$76,MATCH('backend (Ikke rør)'!$AD97,$Q$13:$Q$76,0)),"") -> 0 | AZ97: =IFERROR(INDEX($V$13:$V$76,MATCH('backend (Ikke rør)'!$AD97,$Q$13:$Q$76,0)),"") -> 0 | BA97: =IFERROR(INDEX($V$79:$V$107,MATCH('backend (Ikke rør)'!$AD97,$Q$79:$Q$107,0)),"") -> 0 | BB97: =IFERROR(INDEX($W$79:$W$107,MATCH('backend (Ikke rør)'!$AD97,$Q$79:$Q$107,0)),"") -> 0 | BC97: =NOT(ISBLANK(AA97)) -> FALSE
Q98: =Rapportering!B108 -> P2.7c | R98: =Rapportering!C108 | S98: =Rapportering!D108 -> 0 | T98: =Rapportering!E108 -> 0 | U98: =Rapportering!F108 -> 0 | V98: =Rapportering!G108 -> 0 | W98: =Rapportering!H108 -> 0 | Z98: 115 | AV98: =IFERROR(INDEX(prosjekttema_og_tittel[tema inngår i prosjektsøknad],MATCH(AD98,prosjekttema_og_tittel[rowId - prosjekttema],0)),"") | AW98: =IFERROR(INDEX(prosjekttema_og_tittel[prosjekttema inngår i prosjektsøknad som har fått innvilgede midler],MATCH(AD98,prosjekttema_og_tittel[rowId - prosjekttema],0)),"") | AX98: =IFERROR(INDEX($T$13:$T$76,MATCH('backend (Ikke rør)'!$AD98,$Q$13:$Q$76,0)),"") -> Måloppnåelse (antall ansatte) | AY98: =IFERROR(INDEX($U$13:$U$76,MATCH('backend (Ikke rør)'!$AD98,$Q$13:$Q$76,0)),"") -> 0 | AZ98: =IFERROR(INDEX($V$13:$V$76,MATCH('backend (Ikke rør)'!$AD98,$Q$13:$Q$76,0)),"") -> 0 | BA98: =IFERROR(INDEX($V$79:$V$107,MATCH('backend (Ikke rør)'!$AD98,$Q$79:$Q$107,0)),"") -> 0 | BB98: =IFERROR(INDEX($W$79:$W$107,MATCH('backend (Ikke rør)'!$AD98,$Q$79:$Q$107,0)),"") -> 0 | BC98: =NOT(ISBLANK(AA98)) -> FALSE
Q99: =Rapportering!B109 -> P3.7c | R99: =Rapportering!C109 | S99: =Rapportering!D109 -> 0 | T99: =Rapportering!E109 -> 0 | U99: =Rapportering!F109 -> 0 | V99: =Rapportering!G109 -> 0 | W99: =Rapportering!H109 -> 0 | Z99: 116 | AV99: =IFERROR(INDEX(prosjekttema_og_tittel[tema inngår i prosjektsøknad],MATCH(AD99,prosjekttema_og_tittel[rowId - prosjekttema],0)),"") | AW99: =IFERROR(INDEX(prosjekttema_og_tittel[prosjekttema inngår i prosjektsøknad som har fått innvilgede midler],MATCH(AD99,prosjekttema_og_tittel[rowId - prosjekttema],0)),"") | AX99: =IFERROR(INDEX($T$13:$T$76,MATCH('backend (Ikke rør)'!$AD99,$Q$13:$Q$76,0)),"") -> Måloppnåelse (antall ansatte) | AY99: =IFERROR(INDEX($U$13:$U$76,MATCH('backend (Ikke rør)'!$AD99,$Q$13:$Q$76,0)),"") -> 0 | AZ99: =IFERROR(INDEX($V$13:$V$76,MATCH('backend (Ikke rør)'!$AD99,$Q$13:$Q$76,0)),"") -> 0 | BA99: =IFERROR(INDEX($V$79:$V$107,MATCH('backend (Ikke rør)'!$AD99,$Q$79:$Q$107,0)),"") -> 0 | BB99: =IFERROR(INDEX($W$79:$W$107,MATCH('backend (Ikke rør)'!$AD99,$Q$79:$Q$107,0)),"") -> 0 | BC99: =NOT(ISBLANK(AA99)) -> FALSE
Q100: =Rapportering!B110 -> P4.7c | R100: =Rapportering!C110 | S100: =Rapportering!D110 -> 0 | T100: =Rapportering!E110 -> 0 | U100: =Rapportering!F110 -> 0 | V100: =Rapportering!G110 -> 0 | W100: =Rapportering!H110 -> 0 | Z100: 117 | AV100: =IFERROR(INDEX(prosjekttema_og_tittel[tema inngår i prosjektsøknad],MATCH(AD100,prosjekttema_og_tittel[rowId - prosjekttema],0)),"") | AW100: =IFERROR(INDEX(prosjekttema_og_tittel[prosjekttema inngår i prosjektsøknad som har fått innvilgede midler],MATCH(AD100,prosjekttema_og_tittel[rowId - prosjekttema],0)),"") | AX100: =IFERROR(INDEX($T$13:$T$76,MATCH('backend (Ikke rør)'!$AD100,$Q$13:$Q$76,0)),"") -> Måloppnåelse (antall ansatte) | AY100: =IFERROR(INDEX($U$13:$U$76,MATCH('backend (Ikke rør)'!$AD100,$Q$13:$Q$76,0)),"") -> 0 | AZ100: =IFERROR(INDEX($V$13:$V$76,MATCH('backend (Ikke rør)'!$AD100,$Q$13:$Q$76,0)),"") -> 0 | BA100: =IFERROR(INDEX($V$79:$V$107,MATCH('backend (Ikke rør)'!$AD100,$Q$79:$Q$107,0)),"") -> 0 | BB100: =IFERROR(INDEX($W$79:$W$107,MATCH('backend (Ikke rør)'!$AD100,$Q$79:$Q$107,0)),"") -> 0 | BC100: =NOT(ISBLANK(AA100)) -> FALSE
Q101: =Rapportering!B111 -> P5.7c | R101: =Rapportering!C111 | S101: =Rapportering!D111 -> 0 | T101: =Rapportering!E111 -> 0 | U101: =Rapportering!F111 -> 0 | V101: =Rapportering!G111 -> 0 | W101: =Rapportering!H111 -> 0 | Z101: 118 | AV101: =IFERROR(INDEX(prosjekttema_og_tittel[tema inngår i prosjektsøknad],MATCH(AD101,prosjekttema_og_tittel[rowId - prosjekttema],0)),"") | AW101: =IFERROR(INDEX(prosjekttema_og_tittel[prosjekttema inngår i prosjektsøknad som har fått innvilgede midler],MATCH(AD101,prosjekttema_og_tittel[rowId - prosjekttema],0)),"") | AX101: =IFERROR(INDEX($T$13:$T$76,MATCH('backend (Ikke rør)'!$AD101,$Q$13:$Q$76,0)),"") -> Måloppnåelse (antall ansatte) | AY101: =IFERROR(INDEX($U$13:$U$76,MATCH('backend (Ikke rør)'!$AD101,$Q$13:$Q$76,0)),"") -> 0 | AZ101: =IFERROR(INDEX($V$13:$V$76,MATCH('backend (Ikke rør)'!$AD101,$Q$13:$Q$76,0)),"") -> 0 | BA101: =IFERROR(INDEX($V$79:$V$107,MATCH('backend (Ikke rør)'!$AD101,$Q$79:$Q$107,0)),"") -> 0 | BB101: =IFERROR(INDEX($W$79:$W$107,MATCH('backend (Ikke rør)'!$AD101,$Q$79:$Q$107,0)),"") -> 0 | BC101: =NOT(ISBLANK(AA101)) -> FALSE
Q102: =Rapportering!B112 -> P6.7c | R102: =Rapportering!C112 | S102: =Rapportering!D112 -> 0 | T102: =Rapportering!E112 -> 0 | U102: =Rapportering!F112 -> 0 | V102: =Rapportering!G112 -> 0 | W102: =Rapportering!H112 -> 0 | Z102: 119 | AV102: =IFERROR(INDEX(prosjekttema_og_tittel[tema inngår i prosjektsøknad],MATCH(AD102,prosjekttema_og_tittel[rowId - prosjekttema],0)),"") | AW102: =IFERROR(INDEX(prosjekttema_og_tittel[prosjekttema inngår i prosjektsøknad som har fått innvilgede midler],MATCH(AD102,prosjekttema_og_tittel[rowId - prosjekttema],0)),"") | AX102: =IFERROR(INDEX($T$13:$T$76,MATCH('backend (Ikke rør)'!$AD102,$Q$13:$Q$76,0)),"") -> Måloppnåelse (antall ansatte) | AY102: =IFERROR(INDEX($U$13:$U$76,MATCH('backend (Ikke rør)'!$AD102,$Q$13:$Q$76,0)),"") -> 0 | AZ102: =IFERROR(INDEX($V$13:$V$76,MATCH('backend (Ikke rør)'!$AD102,$Q$13:$Q$76,0)),"") -> 0 | BA102: =IFERROR(INDEX($V$79:$V$107,MATCH('backend (Ikke rør)'!$AD102,$Q$79:$Q$107,0)),"") -> 0 | BB102: =IFERROR(INDEX($W$79:$W$107,MATCH('backend (Ikke rør)'!$AD102,$Q$79:$Q$107,0)),"") -> 0 | BC102: =NOT(ISBLANK(AA102)) -> FALSE
Q103: =Rapportering!B113 -> P7.7c | R103: =Rapportering!C113 | S103: =Rapportering!D113 -> 0 | T103: =Rapportering!E113 -> 0 | U103: =Rapportering!F113 -> 0 | V103: =Rapportering!G113 -> 0 | W103: =Rapportering!H113 -> 0 | Z103: 120 | AV103: =IFERROR(INDEX(prosjekttema_og_tittel[tema inngår i prosjektsøknad],MATCH(AD103,prosjekttema_og_tittel[rowId - prosjekttema],0)),"") | AW103: =IFERROR(INDEX(prosjekttema_og_tittel[prosjekttema inngår i prosjektsøknad som har fått innvilgede midler],MATCH(AD103,prosjekttema_og_tittel[rowId - prosjekttema],0)),"") | AX103: =IFERROR(INDEX($T$13:$T$76,MATCH('backend (Ikke rør)'!$AD103,$Q$13:$Q$76,0)),"") -> Måloppnåelse (antall ansatte) | AY103: =IFERROR(INDEX($U$13:$U$76,MATCH('backend (Ikke rør)'!$AD103,$Q$13:$Q$76,0)),"") -> 0 | AZ103: =IFERROR(INDEX($V$13:$V$76,MATCH('backend (Ikke rør)'!$AD103,$Q$13:$Q$76,0)),"") -> 0 | BA103: =IFERROR(INDEX($V$79:$V$107,MATCH('backend (Ikke rør)'!$AD103,$Q$79:$Q$107,0)),"") -> 0 | BB103: =IFERROR(INDEX($W$79:$W$107,MATCH('backend (Ikke rør)'!$AD103,$Q$79:$Q$107,0)),"") -> 0 | BC103: =NOT(ISBLANK(AA103)) -> FALSE
Q104: =Rapportering!B114 -> P8.7c | R104: =Rapportering!C114 | S104: =Rapportering!D114 -> 0 | T104: =Rapportering!E114 -> 0 | U104: =Rapportering!F114 -> 0 | V104: =Rapportering!G114 -> 0 | W104: =Rapportering!H114 -> 0 | Z104: 121 | AV104: =IFERROR(INDEX(prosjekttema_og_tittel[tema inngår i prosjektsøknad],MATCH(AD104,prosjekttema_og_tittel[rowId - prosjekttema],0)),"") | AW104: =IFERROR(INDEX(prosjekttema_og_tittel[prosjekttema inngår i prosjektsøknad som har fått innvilgede midler],MATCH(AD104,prosjekttema_og_tittel[rowId - prosjekttema],0)),"") | AX104: =IFERROR(INDEX($T$13:$T$76,MATCH('backend (Ikke rør)'!$AD104,$Q$13:$Q$76,0)),"") -> Måloppnåelse (antall ansatte) | AY104: =IFERROR(INDEX($U$13:$U$76,MATCH('backend (Ikke rør)'!$AD104,$Q$13:$Q$76,0)),"") -> 0 | AZ104: =IFERROR(INDEX($V$13:$V$76,MATCH('backend (Ikke rør)'!$AD104,$Q$13:$Q$76,0)),"") -> 0 | BA104: =IFERROR(INDEX($V$79:$V$107,MATCH('backend (Ikke rør)'!$AD104,$Q$79:$Q$107,0)),"") -> 0 | BB104: =IFERROR(INDEX($W$79:$W$107,MATCH('backend (Ikke rør)'!$AD104,$Q$79:$Q$107,0)),"") -> 0 | BC104: =NOT(ISBLANK(AA104)) -> FALSE
Q105: =Rapportering!B115 -> P9.7c | R105: =Rapportering!C115 | S105: =Rapportering!D115 -> 0 | T105: =Rapportering!E115 -> 0 | U105: =Rapportering!F115 -> 0 | V105: =Rapportering!G115 -> 0 | W105: =Rapportering!H115 -> 0 | Z105: 122 | AV105: =IFERROR(INDEX(prosjekttema_og_tittel[tema inngår i prosjektsøknad],MATCH(AD105,prosjekttema_og_tittel[rowId - prosjekttema],0)),"") | AW105: =IFERROR(INDEX(prosjekttema_og_tittel[prosjekttema inngår i prosjektsøknad som har fått innvilgede midler],MATCH(AD105,prosjekttema_og_tittel[rowId - prosjekttema],0)),"") | AX105: =IFERROR(INDEX($T$13:$T$76,MATCH('backend (Ikke rør)'!$AD105,$Q$13:$Q$76,0)),"") -> Måloppnåelse (antall ansatte) | AY105: =IFERROR(INDEX($U$13:$U$76,MATCH('backend (Ikke rør)'!$AD105,$Q$13:$Q$76,0)),"") -> 0 | AZ105: =IFERROR(INDEX($V$13:$V$76,MATCH('backend (Ikke rør)'!$AD105,$Q$13:$Q$76,0)),"") -> 0 | BA105: =IFERROR(INDEX($V$79:$V$107,MATCH('backend (Ikke rør)'!$AD105,$Q$79:$Q$107,0)),"") -> 0 | BB105: =IFERROR(INDEX($W$79:$W$107,MATCH('backend (Ikke rør)'!$AD105,$Q$79:$Q$107,0)),"") -> 0 | BC105: =NOT(ISBLANK(AA105)) -> FALSE
Q106: =Rapportering!B116 -> 0 | R106: =Rapportering!C116 -> Sum alle innvilgede prosjekter | S106: =Rapportering!D116 -> 0 | T106: =Rapportering!E116 -> 0 | U106: =Rapportering!F116 -> 0 | V106: =Rapportering!G116 -> 0 | W106: =Rapportering!H116 -> 0 | Z106: 123 | AV106: =IFERROR(INDEX(prosjekttema_og_tittel[tema inngår i prosjektsøknad],MATCH(AD106,prosjekttema_og_tittel[rowId - prosjekttema],0)),"") | AW106: =IFERROR(INDEX(prosjekttema_og_tittel[prosjekttema inngår i prosjektsøknad som har fått innvilgede midler],MATCH(AD106,prosjekttema_og_tittel[rowId - prosjekttema],0)),"") | AX106: =IFERROR(INDEX($T$13:$T$76,MATCH('backend (Ikke rør)'!$AD106,$Q$13:$Q$76,0)),"") -> Måloppnåelse (antall ansatte) | AY106: =IFERROR(INDEX($U$13:$U$76,MATCH('backend (Ikke rør)'!$AD106,$Q$13:$Q$76,0)),"") -> 0 | AZ106: =IFERROR(INDEX($V$13:$V$76,MATCH('backend (Ikke rør)'!$AD106,$Q$13:$Q$76,0)),"") -> 0 | BA106: =IFERROR(INDEX($V$79:$V$107,MATCH('backend (Ikke rør)'!$AD106,$Q$79:$Q$107,0)),"") -> 0 | BB106: =IFERROR(INDEX($W$79:$W$107,MATCH('backend (Ikke rør)'!$AD106,$Q$79:$Q$107,0)),"") -> 0 | BC106: =NOT(ISBLANK(AA106)) -> FALSE
Q107: =Rapportering!B117 -> 0 | R107: =Rapportering!C117 -> 0 | S107: =Rapportering!D117 -> 0 | T107: =Rapportering!E117 -> 0 | U107: =Rapportering!F117 -> 0 | V107: =Rapportering!G117 -> 0 | W107: =Rapportering!H117 -> 0 | Z107: 124 | AV107: =IFERROR(INDEX(prosjekttema_og_tittel[tema inngår i prosjektsøknad],MATCH(AD107,prosjekttema_og_tittel[rowId - prosjekttema],0)),"") | AW107: =IFERROR(INDEX(prosjekttema_og_tittel[prosjekttema inngår i prosjektsøknad som har fått innvilgede midler],MATCH(AD107,prosjekttema_og_tittel[rowId - prosjekttema],0)),"") | AX107: =IFERROR(INDEX($T$13:$T$76,MATCH('backend (Ikke rør)'!$AD107,$Q$13:$Q$76,0)),"") -> Måloppnåelse (antall ansatte) | AY107: =IFERROR(INDEX($U$13:$U$76,MATCH('backend (Ikke rør)'!$AD107,$Q$13:$Q$76,0)),"") -> 0 | AZ107: =IFERROR(INDEX($V$13:$V$76,MATCH('backend (Ikke rør)'!$AD107,$Q$13:$Q$76,0)),"") -> 0 | BA107: =IFERROR(INDEX($V$79:$V$107,MATCH('backend (Ikke rør)'!$AD107,$Q$79:$Q$107,0)),"") -> 0 | BB107: =IFERROR(INDEX($W$79:$W$107,MATCH('backend (Ikke rør)'!$AD107,$Q$79:$Q$107,0)),"") -> 0 | BC107: =NOT(ISBLANK(AA107)) -> FALSE
Z108: 125 | AV108: =IFERROR(INDEX(prosjekttema_og_tittel[tema inngår i prosjektsøknad],MATCH(AD108,prosjekttema_og_tittel[rowId - prosjekttema],0)),"") | AW108: =IFERROR(INDEX(prosjekttema_og_tittel[prosjekttema inngår i prosjektsøknad som har fått innvilgede midler],MATCH(AD108,prosjekttema_og_tittel[rowId - prosjekttema],0)),"") | AX108: =IFERROR(INDEX($T$13:$T$76,MATCH('backend (Ikke rør)'!$AD108,$Q$13:$Q$76,0)),"") -> Måloppnåelse (antall ansatte) | AY108: =IFERROR(INDEX($U$13:$U$76,MATCH('backend (Ikke rør)'!$AD108,$Q$13:$Q$76,0)),"") -> 0 | AZ108: =IFERROR(INDEX($V$13:$V$76,MATCH('backend (Ikke rør)'!$AD108,$Q$13:$Q$76,0)),"") -> 0 | BA108: =IFERROR(INDEX($V$79:$V$107,MATCH('backend (Ikke rør)'!$AD108,$Q$79:$Q$107,0)),"") -> 0 | BB108: =IFERROR(INDEX($W$79:$W$107,MATCH('backend (Ikke rør)'!$AD108,$Q$79:$Q$107,0)),"") -> 0 | BC108: =NOT(ISBLANK(AA108)) -> FALSE
Z109: 126 | AV109: =IFERROR(INDEX(prosjekttema_og_tittel[tema inngår i prosjektsøknad],MATCH(AD109,prosjekttema_og_tittel[rowId - prosjekttema],0)),"") | AW109: =IFERROR(INDEX(prosjekttema_og_tittel[prosjekttema inngår i prosjektsøknad som har fått innvilgede midler],MATCH(AD109,prosjekttema_og_tittel[rowId - prosjekttema],0)),"") | AX109: =IFERROR(INDEX($T$13:$T$76,MATCH('backend (Ikke rør)'!$AD109,$Q$13:$Q$76,0)),"") -> Måloppnåelse (antall ansatte) | AY109: =IFERROR(INDEX($U$13:$U$76,MATCH('backend (Ikke rør)'!$AD109,$Q$13:$Q$76,0)),"") -> 0 | AZ109: =IFERROR(INDEX($V$13:$V$76,MATCH('backend (Ikke rør)'!$AD109,$Q$13:$Q$76,0)),"") -> 0 | BA109: =IFERROR(INDEX($V$79:$V$107,MATCH('backend (Ikke rør)'!$AD109,$Q$79:$Q$107,0)),"") -> 0 | BB109: =IFERROR(INDEX($W$79:$W$107,MATCH('backend (Ikke rør)'!$AD109,$Q$79:$Q$107,0)),"") -> 0 | BC109: =NOT(ISBLANK(AA109)) -> FALSE
Z110: 127 | AV110: =IFERROR(INDEX(prosjekttema_og_tittel[tema inngår i prosjektsøknad],MATCH(AD110,prosjekttema_og_tittel[rowId - prosjekttema],0)),"") | AW110: =IFERROR(INDEX(prosjekttema_og_tittel[prosjekttema inngår i prosjektsøknad som har fått innvilgede midler],MATCH(AD110,prosjekttema_og_tittel[rowId - prosjekttema],0)),"") | AX110: =IFERROR(INDEX($T$13:$T$76,MATCH('backend (Ikke rør)'!$AD110,$Q$13:$Q$76,0)),"") -> Måloppnåelse (antall ansatte) | AY110: =IFERROR(INDEX($U$13:$U$76,MATCH('backend (Ikke rør)'!$AD110,$Q$13:$Q$76,0)),"") -> 0 | AZ110: =IFERROR(INDEX($V$13:$V$76,MATCH('backend (Ikke rør)'!$AD110,$Q$13:$Q$76,0)),"") -> 0 | BA110: =IFERROR(INDEX($V$79:$V$107,MATCH('backend (Ikke rør)'!$AD110,$Q$79:$Q$107,0)),"") -> 0 | BB110: =IFERROR(INDEX($W$79:$W$107,MATCH('backend (Ikke rør)'!$AD110,$Q$79:$Q$107,0)),"") -> 0 | BC110: =NOT(ISBLANK(AA110)) -> FALSE
Z111: 128 | AV111: =IFERROR(INDEX(prosjekttema_og_tittel[tema inngår i prosjektsøknad],MATCH(AD111,prosjekttema_og_tittel[rowId - prosjekttema],0)),"") | AW111: =IFERROR(INDEX(prosjekttema_og_tittel[prosjekttema inngår i prosjektsøknad som har fått innvilgede midler],MATCH(AD111,prosjekttema_og_tittel[rowId - prosjekttema],0)),"") | AX111: =IFERROR(INDEX($T$13:$T$76,MATCH('backend (Ikke rør)'!$AD111,$Q$13:$Q$76,0)),"") -> Måloppnåelse (antall ansatte) | AY111: =IFERROR(INDEX($U$13:$U$76,MATCH('backend (Ikke rør)'!$AD111,$Q$13:$Q$76,0)),"") -> 0 | AZ111: =IFERROR(INDEX($V$13:$V$76,MATCH('backend (Ikke rør)'!$AD111,$Q$13:$Q$76,0)),"") -> 0 | BA111: =IFERROR(INDEX($V$79:$V$107,MATCH('backend (Ikke rør)'!$AD111,$Q$79:$Q$107,0)),"") -> 0 | BB111: =IFERROR(INDEX($W$79:$W$107,MATCH('backend (Ikke rør)'!$AD111,$Q$79:$Q$107,0)),"") -> 0 | BC111: =NOT(ISBLANK(AA111)) -> FALSE
Z112: 129 | AV112: =IFERROR(INDEX(prosjekttema_og_tittel[tema inngår i prosjektsøknad],MATCH(AD112,prosjekttema_og_tittel[rowId - prosjekttema],0)),"") | AW112: =IFERROR(INDEX(prosjekttema_og_tittel[prosjekttema inngår i prosjektsøknad som har fått innvilgede midler],MATCH(AD112,prosjekttema_og_tittel[rowId - prosjekttema],0)),"") | AX112: =IFERROR(INDEX($T$13:$T$76,MATCH('backend (Ikke rør)'!$AD112,$Q$13:$Q$76,0)),"") -> Måloppnåelse (antall ansatte) | AY112: =IFERROR(INDEX($U$13:$U$76,MATCH('backend (Ikke rør)'!$AD112,$Q$13:$Q$76,0)),"") -> 0 | AZ112: =IFERROR(INDEX($V$13:$V$76,MATCH('backend (Ikke rør)'!$AD112,$Q$13:$Q$76,0)),"") -> 0 | BA112: =IFERROR(INDEX($V$79:$V$107,MATCH('backend (Ikke rør)'!$AD112,$Q$79:$Q$107,0)),"") -> 0 | BB112: =IFERROR(INDEX($W$79:$W$107,MATCH('backend (Ikke rør)'!$AD112,$Q$79:$Q$107,0)),"") -> 0 | BC112: =NOT(ISBLANK(AA112)) -> FALSE
Z113: 130 | AV113: =IFERROR(INDEX(prosjekttema_og_tittel[tema inngår i prosjektsøknad],MATCH(AD113,prosjekttema_og_tittel[rowId - prosjekttema],0)),"") | AW113: =IFERROR(INDEX(prosjekttema_og_tittel[prosjekttema inngår i prosjektsøknad som har fått innvilgede midler],MATCH(AD113,prosjekttema_og_tittel[rowId - prosjekttema],0)),"") | AX113: =IFERROR(INDEX($T$13:$T$76,MATCH('backend (Ikke rør)'!$AD113,$Q$13:$Q$76,0)),"") -> Måloppnåelse (antall ansatte) | AY113: =IFERROR(INDEX($U$13:$U$76,MATCH('backend (Ikke rør)'!$AD113,$Q$13:$Q$76,0)),"") -> 0 | AZ113: =IFERROR(INDEX($V$13:$V$76,MATCH('backend (Ikke rør)'!$AD113,$Q$13:$Q$76,0)),"") -> 0 | BA113: =IFERROR(INDEX($V$79:$V$107,MATCH('backend (Ikke rør)'!$AD113,$Q$79:$Q$107,0)),"") -> 0 | BB113: =IFERROR(INDEX($W$79:$W$107,MATCH('backend (Ikke rør)'!$AD113,$Q$79:$Q$107,0)),"") -> 0 | BC113: =NOT(ISBLANK(AA113)) -> FALSE
Z114: 131 | AV114: =IFERROR(INDEX(prosjekttema_og_tittel[tema inngår i prosjektsøknad],MATCH(AD114,prosjekttema_og_tittel[rowId - prosjekttema],0)),"") | AW114: =IFERROR(INDEX(prosjekttema_og_tittel[prosjekttema inngår i prosjektsøknad som har fått innvilgede midler],MATCH(AD114,prosjekttema_og_tittel[rowId - prosjekttema],0)),"") | AX114: =IFERROR(INDEX($T$13:$T$76,MATCH('backend (Ikke rør)'!$AD114,$Q$13:$Q$76,0)),"") -> Måloppnåelse (antall ansatte) | AY114: =IFERROR(INDEX($U$13:$U$76,MATCH('backend (Ikke rør)'!$AD114,$Q$13:$Q$76,0)),"") -> 0 | AZ114: =IFERROR(INDEX($V$13:$V$76,MATCH('backend (Ikke rør)'!$AD114,$Q$13:$Q$76,0)),"") -> 0 | BA114: =IFERROR(INDEX($V$79:$V$107,MATCH('backend (Ikke rør)'!$AD114,$Q$79:$Q$107,0)),"") -> 0 | BB114: =IFERROR(INDEX($W$79:$W$107,MATCH('backend (Ikke rør)'!$AD114,$Q$79:$Q$107,0)),"") -> 0 | BC114: =NOT(ISBLANK(AA114)) -> FALSE
Z115: 132 | AV115: =IFERROR(INDEX(prosjekttema_og_tittel[tema inngår i prosjektsøknad],MATCH(AD115,prosjekttema_og_tittel[rowId - prosjekttema],0)),"") | AW115: =IFERROR(INDEX(prosjekttema_og_tittel[prosjekttema inngår i prosjektsøknad som har fått innvilgede midler],MATCH(AD115,prosjekttema_og_tittel[rowId - prosjekttema],0)),"") | AX115: =IFERROR(INDEX($T$13:$T$76,MATCH('backend (Ikke rør)'!$AD115,$Q$13:$Q$76,0)),"") -> Måloppnåelse (antall ansatte) | AY115: =IFERROR(INDEX($U$13:$U$76,MATCH('backend (Ikke rør)'!$AD115,$Q$13:$Q$76,0)),"") -> 0 | AZ115: =IFERROR(INDEX($V$13:$V$76,MATCH('backend (Ikke rør)'!$AD115,$Q$13:$Q$76,0)),"") -> 0 | BA115: =IFERROR(INDEX($V$79:$V$107,MATCH('backend (Ikke rør)'!$AD115,$Q$79:$Q$107,0)),"") -> 0 | BB115: =IFERROR(INDEX($W$79:$W$107,MATCH('backend (Ikke rør)'!$AD115,$Q$79:$Q$107,0)),"") -> 0 | BC115: =NOT(ISBLANK(AA115)) -> FALSE
Z116: 133 | AV116: =IFERROR(INDEX(prosjekttema_og_tittel[tema inngår i prosjektsøknad],MATCH(AD116,prosjekttema_og_tittel[rowId - prosjekttema],0)),"") | AW116: =IFERROR(INDEX(prosjekttema_og_tittel[prosjekttema inngår i prosjektsøknad som har fått innvilgede midler],MATCH(AD116,prosjekttema_og_tittel[rowId - prosjekttema],0)),"") | AX116: =IFERROR(INDEX($T$13:$T$76,MATCH('backend (Ikke rør)'!$AD116,$Q$13:$Q$76,0)),"") -> Måloppnåelse (antall ansatte) | AY116: =IFERROR(INDEX($U$13:$U$76,MATCH('backend (Ikke rør)'!$AD116,$Q$13:$Q$76,0)),"") -> 0 | AZ116: =IFERROR(INDEX($V$13:$V$76,MATCH('backend (Ikke rør)'!$AD116,$Q$13:$Q$76,0)),"") -> 0 | BA116: =IFERROR(INDEX($V$79:$V$107,MATCH('backend (Ikke rør)'!$AD116,$Q$79:$Q$107,0)),"") -> 0 | BB116: =IFERROR(INDEX($W$79:$W$107,MATCH('backend (Ikke rør)'!$AD116,$Q$79:$Q$107,0)),"") -> 0 | BC116: =NOT(ISBLANK(AA116)) -> FALSE
Z117: 134 | AV117: =IFERROR(INDEX(prosjekttema_og_tittel[tema inngår i prosjektsøknad],MATCH(AD117,prosjekttema_og_tittel[rowId - prosjekttema],0)),"") | AW117: =IFERROR(INDEX(prosjekttema_og_tittel[prosjekttema inngår i prosjektsøknad som har fått innvilgede midler],MATCH(AD117,prosjekttema_og_tittel[rowId - prosjekttema],0)),"") | AX117: =IFERROR(INDEX($T$13:$T$76,MATCH('backend (Ikke rør)'!$AD117,$Q$13:$Q$76,0)),"") -> Måloppnåelse (antall ansatte) | AY117: =IFERROR(INDEX($U$13:$U$76,MATCH('backend (Ikke rør)'!$AD117,$Q$13:$Q$76,0)),"") -> 0 | AZ117: =IFERROR(INDEX($V$13:$V$76,MATCH('backend (Ikke rør)'!$AD117,$Q$13:$Q$76,0)),"") -> 0 | BA117: =IFERROR(INDEX($V$79:$V$107,MATCH('backend (Ikke rør)'!$AD117,$Q$79:$Q$107,0)),"") -> 0 | BB117: =IFERROR(INDEX($W$79:$W$107,MATCH('backend (Ikke rør)'!$AD117,$Q$79:$Q$107,0)),"") -> 0 | BC117: =NOT(ISBLANK(AA117)) -> FALSE
Z118: 135 | AV118: =IFERROR(INDEX(prosjekttema_og_tittel[tema inngår i prosjektsøknad],MATCH(AD118,prosjekttema_og_tittel[rowId - prosjekttema],0)),"") | AW118: =IFERROR(INDEX(prosjekttema_og_tittel[prosjekttema inngår i prosjektsøknad som har fått innvilgede midler],MATCH(AD118,prosjekttema_og_tittel[rowId - prosjekttema],0)),"") | AX118: =IFERROR(INDEX($T$13:$T$76,MATCH('backend (Ikke rør)'!$AD118,$Q$13:$Q$76,0)),"") -> Måloppnåelse (antall ansatte) | AY118: =IFERROR(INDEX($U$13:$U$76,MATCH('backend (Ikke rør)'!$AD118,$Q$13:$Q$76,0)),"") -> 0 | AZ118: =IFERROR(INDEX($V$13:$V$76,MATCH('backend (Ikke rør)'!$AD118,$Q$13:$Q$76,0)),"") -> 0 | BA118: =IFERROR(INDEX($V$79:$V$107,MATCH('backend (Ikke rør)'!$AD118,$Q$79:$Q$107,0)),"") -> 0 | BB118: =IFERROR(INDEX($W$79:$W$107,MATCH('backend (Ikke rør)'!$AD118,$Q$79:$Q$107,0)),"") -> 0 | BC118: =NOT(ISBLANK(AA118)) -> FALSE
Z119: 136 | AV119: =IFERROR(INDEX(prosjekttema_og_tittel[tema inngår i prosjektsøknad],MATCH(AD119,prosjekttema_og_tittel[rowId - prosjekttema],0)),"") | AW119: =IFERROR(INDEX(prosjekttema_og_tittel[prosjekttema inngår i prosjektsøknad som har fått innvilgede midler],MATCH(AD119,prosjekttema_og_tittel[rowId - prosjekttema],0)),"") | AX119: =IFERROR(INDEX($T$13:$T$76,MATCH('backend (Ikke rør)'!$AD119,$Q$13:$Q$76,0)),"") -> Måloppnåelse (antall ansatte) | AY119: =IFERROR(INDEX($U$13:$U$76,MATCH('backend (Ikke rør)'!$AD119,$Q$13:$Q$76,0)),"") -> 0 | AZ119: =IFERROR(INDEX($V$13:$V$76,MATCH('backend (Ikke rør)'!$AD119,$Q$13:$Q$76,0)),"") -> 0 | BA119: =IFERROR(INDEX($V$79:$V$107,MATCH('backend (Ikke rør)'!$AD119,$Q$79:$Q$107,0)),"") -> 0 | BB119: =IFERROR(INDEX($W$79:$W$107,MATCH('backend (Ikke rør)'!$AD119,$Q$79:$Q$107,0)),"") -> 0 | BC119: =NOT(ISBLANK(AA119)) -> FALSE
... Z602: 619 | AV602: =IFERROR(INDEX(prosjekttema_og_tittel[tema inngår i prosjektsøknad],MATCH(AD602,prosjekttema_og_tittel[rowId - prosjekttema],0)),"") | AW602: =IFERROR(INDEX(prosjekttema_og_tittel[prosjekttema inngår i prosjektsøknad som har fått innvilgede midler],MATCH(AD602,prosjekttema_og_tittel[rowId - prosjekttema],0)),"") | AX602: =IFERROR(INDEX($T$13:$T$76,MATCH('backend (Ikke rør)'!$AD602,$Q$13:$Q$76,0)),"") -> Måloppnåelse (antall ansatte) | AY602: =IFERROR(INDEX($U$13:$U$76,MATCH('backend (Ikke rør)'!$AD602,$Q$13:$Q$76,0)),"") -> 0 | AZ602: =IFERROR(INDEX($V$13:$V$76,MATCH('backend (Ikke rør)'!$AD602,$Q$13:$Q$76,0)),"") -> 0 | BA602: =IFERROR(INDEX($V$79:$V$107,MATCH('backend (Ikke rør)'!$AD602,$Q$79:$Q$107,0)),"") -> 0 | BB602: =IFERROR(INDEX($W$79:$W$107,MATCH('backend (Ikke rør)'!$AD602,$Q$79:$Q$107,0)),"") -> 0 | BC602: =NOT(ISBLANK(AA602)) -> FALSE
...

Sheet (UTDATA) for statsforvalteren
A1: {='backend (Ikke rør)'!BE1:CG1} -> sort order | B1: Kommune | C1: header_lvl | D1: row_type_id | E1: row_id | F1: kommune_id | G1: category | H1: section | I1: row_id_visible | J1: Utdannelse / Kurs | K1: Videreføring: Antall personer | L1: Antall nye personer | M1: Totalt antall personer det søkes for | N1: Ubrukte midler som ønskes overført | O1: Søknads- beløp | P1: Totalt beløp det søkes om til tiltaket | Q1: Ubrukte midler som tilbakebetales | R1: Svar / Merknad i søknaden | S1: Antall personer innvilget | T1: Innvilget overføring av ubrukte | U1: Innvilget tilskudd til utbetaling | V1: Totalt innvilget beløp (Autosummert) | W1: prosjekttema inngår i prosjektsøknaden | X1: prosjekttema inngår i prosjektsøknad som har fått innvilgede midler | Y1: Antall personer fullført utdanning | Z1: Antall personer under utdanning, men ikke fullført | AA1: Samlet antall personer fullførte og under utdanning | AB1: Ubenyttet beløp | AC1: Svar / Merknad i rapporteringsskjemaet
A2: {=_xlfn.ANCHORARRAY('backend (Ikke rør)'!BE2)} -> 1 | B2: 0 | C2: 0 | D2: 0 | E2: 0 | F2: 0 | G2: 0 | H2: 0 | I2: 0 | J2: 0 | K2: 0 | L2: 0 | M2: 0 | N2: 0 | O2: 0 | P2: 0 | Q2: 0 | R2: 0 | S2: 0 | T2: 0 | U2: 0 | V2: 0 | Y2: Måloppnåelse (antall ansatte) | Z2: 0 | AA2: 0 | AB2: 0 | AC2: 0
A3: 11 | B3: #N/A | C3: 4 | D3: 1.1. | E3: 1.1. | F3: 0 | G3: Informasjon om kommunen | H3: 0 | I3: 1.1. | J3: Navn på kommunen | K3: 0 | L3: 0 | M3: 0 | N3: 0 | O3: 0 | P3: 0 | Q3: 0 | R3: #N/A | S3: 0 | T3: 0 | U3: 0 | V3: 0 | W3: 0 | X3: 0 | Y3: 0 | Z3: 0 | AA3: 0 | AB3: 0 | AC3: 0
A4: 14 | B4: #N/A | C4: 4 | D4: 1.4. | E4: 1.4. | F4: 0 | G4: Informasjon om kommunen | H4: 0 | I4: 1.4. | J4: Kontaktperson | K4: 0 | L4: 0 | M4: 0 | N4: 0 | O4: 0 | P4: 0 | Q4: 0 | R4: #N/A | S4: 0 | T4: 0 | U4: 0 | V4: 0 | W4: 0 | X4: 0 | Y4: 0 | Z4: 0 | AA4: 0 | AB4: 0 | AC4: 0
A5: 15 | B5: #N/A | C5: 4 | D5: 1.5. | E5: 1.5. | F5: 0 | G5: Informasjon om kommunen | H5: 0 | I5: 1.5. | J5: E-post | K5: 0 | L5: 0 | M5: 0 | N5: 0 | O5: 0 | P5: 0 | Q5: 0 | R5: #N/A | S5: 0 | T5: 0 | U5: 0 | V5: 0 | W5: 0 | X5: 0 | Y5: 0 | Z5: 0 | AA5: 0 | AB5: 0 | AC5: 0
A6: 16 | B6: #N/A | C6: 4 | D6: 1.6. | E6: 1.6. | F6: 0 | G6: Informasjon om kommunen | H6: 0 | I6: 1.6. | J6: Telefon | K6: 0 | L6: 0 | M6: 0 | N6: 0 | O6: 0 | P6: 0 | Q6: 0 | R6: #N/A | S6: 0 | T6: 0 | U6: 0 | V6: 0 | W6: 0 | X6: 0 | Y6: 0 | Z6: 0 | AA6: 0 | AB6: 0 | AC6: 0
A7: 20 | B7: 0 | C7: 0 | D7: 0 | E7: 0 | F7: 0 | G7: 0 | H7: 0 | I7: 0 | J7: 0 | K7: 0 | L7: 0 | M7: 0 | N7: 0 | O7: 0 | P7: 0 | Q7: 0 | R7: 0 | S7: 0 | T7: 0 | U7: 0 | V7: 0 | Y7: Måloppnåelse (antall ansatte) | Z7: 0 | AA7: 0 | AB7: 0 | AC7: 0
A8: 21 | B8: 0 | C8: 0 | D8: 0 | E8: 0 | F8: 0 | G8: 0 | H8: 0 | I8: 0 | J8: 0 | K8: 0 | L8: 0 | M8: 0 | N8: 0 | O8: 0 | P8: 0 | Q8: 0 | R8: 0 | S8: 0 | T8: 0 | U8: 0 | V8: 0 | Y8: Måloppnåelse (antall ansatte) | Z8: 0 | AA8: 0 | AB8: 0 | AC8: 0
A9: 22 | B9: 0 | C9: 0 | D9: 0 | E9: 0 | F9: 0 | G9: 0 | H9: 0 | I9: 0 | J9: 0 | K9: 0 | L9: 0 | M9: 0 | N9: 0 | O9: 0 | P9: 0 | Q9: 0 | R9: 0 | S9: 0 | T9: 0 | U9: 0 | V9: 0 | Y9: Måloppnåelse (antall ansatte) | Z9: 0 | AA9: 0 | AB9: 0 | AC9: 0
A10: 23 | B10: 0 | C10: 0 | D10: 0 | E10: 0 | F10: 0 | G10: 0 | H10: 0 | I10: 0 | J10: 0 | K10: 0 | L10: 0 | M10: 0 | N10: 0 | O10: 0 | P10: 0 | Q10: 0 | R10: 0 | S10: 0 | T10: 0 | U10: 0 | V10: 0 | Y10: Måloppnåelse (antall ansatte) | Z10: 0 | AA10: 0 | AB10: 0 | AC10: 0
A11: 24 | B11: 0 | C11: 0 | D11: 0 | E11: 0 | F11: 0 | G11: 0 | H11: 0 | I11: 0 | J11: 0 | K11: 0 | L11: 0 | M11: 0 | N11: 0 | O11: 0 | P11: 0 | Q11: 0 | R11: 0 | S11: 0 | T11: 0 | U11: 0 | V11: 0 | Y11: Måloppnåelse (antall ansatte) | Z11: 0 | AA11: 0 | AB11: 0 | AC11: 0
A12: 25 | B12: 0 | C12: 0 | D12: 0 | E12: 0 | F12: 0 | G12: 0 | H12: 0 | I12: 0 | J12: 0 | K12: 0 | L12: 0 | M12: 0 | N12: 0 | O12: 0 | P12: 0 | Q12: 0 | R12: 0 | S12: 0 | T12: 0 | U12: 0 | V12: 0 | Y12: Måloppnåelse (antall ansatte) | Z12: 0 | AA12: 0 | AB12: 0 | AC12: 0
A13: 26 | B13: 0 | C13: 0 | D13: 0 | E13: 0 | F13: 0 | G13: 0 | H13: 0 | I13: 0 | J13: 0 | K13: 0 | L13: 0 | M13: 0 | N13: 0 | O13: 0 | P13: 0 | Q13: 0 | R13: 0 | S13: 0 | T13: 0 | U13: 0 | V13: 0 | Y13: Måloppnåelse (antall ansatte) | Z13: 0 | AA13: 0 | AB13: 0 | AC13: 0
A14: 27 | B14: 0 | C14: 0 | D14: 0 | E14: 0 | F14: 0 | G14: 0 | H14: 0 | I14: 0 | J14: 0 | K14: 0 | L14: 0 | M14: 0 | N14: 0 | O14: 0 | P14: 0 | Q14: 0 | R14: 0 | S14: 0 | T14: 0 | U14: 0 | V14: 0 | Y14: Måloppnåelse (antall ansatte) | Z14: 0 | AA14: 0 | AB14: 0 | AC14: 0
A15: 28 | B15: 0 | C15: 0 | D15: 0 | E15: 0 | F15: 0 | G15: 0 | H15: 0 | I15: 0 | J15: 0 | K15: 0 | L15: 0 | M15: 0 | N15: 0 | O15: 0 | P15: 0 | Q15: 0 | R15: 0 | S15: 0 | T15: 0 | U15: 0 | V15: 0 | Y15: Måloppnåelse (antall ansatte) | Z15: 0 | AA15: 0 | AB15: 0 | AC15: 0
A16: 29 | B16: 0 | C16: 0 | D16: 0 | E16: 0 | F16: 0 | G16: 0 | H16: 0 | I16: 0 | J16: 0 | K16: 0 | L16: 0 | M16: 0 | N16: 0 | O16: 0 | P16: 0 | Q16: 0 | R16: 0 | S16: 0 | T16: 0 | U16: 0 | V16: 0 | Y16: Måloppnåelse (antall ansatte) | Z16: 0 | AA16: 0 | AB16: 0 | AC16: 0
A17: 30 | B17: 0 | C17: 0 | D17: 0 | E17: 0 | F17: 0 | G17: 0 | H17: 0 | I17: 0 | J17: 0 | K17: 0 | L17: 0 | M17: 0 | N17: 0 | O17: 0 | P17: 0 | Q17: 0 | R17: 0 | S17: 0 | T17: 0 | U17: 0 | V17: 0 | Y17: Måloppnåelse (antall ansatte) | Z17: 0 | AA17: 0 | AB17: 0 | AC17: 0
A18: 31 | B18: 0 | C18: 0 | D18: 0 | E18: 0 | F18: 0 | G18: 0 | H18: 0 | I18: 0 | J18: 0 | K18: 0 | L18: 0 | M18: 0 | N18: 0 | O18: 0 | P18: 0 | Q18: 0 | R18: 0 | S18: 0 | T18: 0 | U18: 0 | V18: 0 | Y18: Måloppnåelse (antall ansatte) | Z18: 0 | AA18: 0 | AB18: 0 | AC18: 0
... A69: 82 | B69: 0 | C69: 0 | D69: 0 | E69: 0 | F69: 0 | G69: 0 | H69: 0 | I69: 0 | J69: 0 | K69: 0 | L69: 0 | M69: 0 | N69: 0 | O69: 0 | P69: 0 | Q69: 0 | R69: 0 | S69: 0 | T69: 0 | U69: 0 | V69: 0 | Y69: Måloppnåelse (antall ansatte) | Z69: 0 | AA69: 0 | AB69: 0 | AC69: 0
A70: 90 | B70: #N/A | C70: 2 | D70: 2.7. | E70: 2.7. | F70: 0 | G70: Kompetansetiltak (grunn-, videre- og etterutdanning) | H70: Andre kompetansehevende tiltak med midler direkte fra statsforvalteren | I70: 0 | J70: 0 | K70: 0 | L70: 0 | M70: 0 | N70: 0 | O70: 0 | P70: 0 | Q70: 0 | R70: 0 | S70: 0 | T70: 0 | U70: 0 | V70: 0 | Y70: 0 | Z70: 0 | AA70: 0 | AB70: 0 | AC70: 0
A71: 91 | B71: #N/A | C71: 3 | D71: 2.7a | E71: 2.7a | F71: 0 | G71: Kompetansetiltak (grunn-, videre- og etterutdanning) | H71: Andre kompetansehevende tiltak med midler direkte fra statsforvalteren | I71: 2.7a | J71: (Ikke for kommuner) | K71: 0 | L71: 0 | M71: 0 | N71: 0 | O71: 0 | P71: 0 | Q71: 0 | R71: 0 | S71: 0 | T71: 0 | U71: 0 | V71: 0 | Y71: 0 | Z71: 0 | AA71: 0 | AC71: 0
A72: 92 | B72: #N/A | C72: 3 | D72: 2.7b | E72: 2.7b | F72: 0 | G72: Kompetansetiltak (grunn-, videre- og etterutdanning) | H72: Andre kompetansehevende tiltak med midler direkte fra statsforvalteren | I72: 2.7b | J72: (Ikke for kommuner) | K72: 0 | L72: 0 | M72: 0 | N72: 0 | O72: 0 | P72: 0 | Q72: 0 | R72: 0 | S72: 0 | T72: 0 | U72: 0 | V72: 0 | Y72: 0 | Z72: 0 | AA72: 0 | AC72: 0
A73: 93 | B73: #N/A | C73: 3 | D73: 2.7c | E73: 2.7c | F73: 0 | G73: Kompetansetiltak (grunn-, videre- og etterutdanning) | H73: Andre kompetansehevende tiltak med midler direkte fra statsforvalteren | I73: 2.7c | J73: (Ikke for kommuner) | K73: 0 | L73: 0 | M73: 0 | N73: 0 | O73: 0 | P73: 0 | Q73: 0 | R73: 0 | S73: 0 | T73: 0 | U73: 0 | V73: 0 | Y73: 0 | Z73: 0 | AA73: 0 | AC73: 0
A74: 101 | B74: 0 | C74: 0 | D74: 0 | E74: 0 | F74: 0 | G74: 0 | H74: 0 | I74: 0 | J74: 0 | K74: 0 | L74: 0 | M74: 0 | N74: 0 | O74: 0 | P74: 0 | Q74: 0 | R74: 0 | S74: 0 | T74: 0 | U74: 0 | V74: 0 | Y74: Måloppnåelse (antall ansatte) | Z74: 0 | AA74: 0 | AB74: 0 | AC74: 0
A75: #VALUE! | B75: 0 | C75: 0 | D75: 0 | E75: 0 | F75: 0 | G75: 0 | H75: 0 | I75: 0 | J75: 0 | K75: 0 | L75: 0 | M75: 0 | N75: 0 | O75: 0 | P75: 0 | Q75: 0 | R75: 0 | S75: 0 | T75: 0 | U75: 0 | V75: 0 | Y75: Måloppnåelse (antall ansatte) | Z75: 0 | AA75: 0 | AB75: 0 | AC75: 0
A76: #VALUE! | B76: 0 | C76: 0 | D76: 0 | E76: 0 | F76: 0 | G76: 0 | H76: 0 | I76: 0 | J76: 0 | K76: 0 | L76: 0 | M76: 0 | N76: 0 | O76: 0 | P76: 0 | Q76: 0 | R76: 0 | S76: 0 | T76: 0 | U76: 0 | V76: 0 | Y76: Måloppnåelse (antall ansatte) | Z76: 0 | AA76: 0 | AB76: 0 | AC76: 0
A77: #VALUE! | B77: 0 | C77: 0 | D77: 0 | E77: 0 | F77: 0 | G77: 0 | H77: 0 | I77: 0 | J77: 0 | K77: 0 | L77: 0 | M77: 0 | N77: 0 | O77: 0 | P77: 0 | Q77: 0 | R77: 0 | S77: 0 | T77: 0 | U77: 0 | V77: 0 | Y77: Måloppnåelse (antall ansatte) | Z77: 0 | AA77: 0 | AB77: 0 | AC77: 0
A78: #VALUE! | B78: 0 | C78: 0 | D78: 0 | E78: 0 | F78: 0 | G78: 0 | H78: 0 | I78: 0 | J78: 0 | K78: 0 | L78: 0 | M78: 0 | N78: 0 | O78: 0 | P78: 0 | Q78: 0 | R78: 0 | S78: 0 | T78: 0 | U78: 0 | V78: 0 | Y78: Måloppnåelse (antall ansatte) | Z78: 0 | AA78: 0 | AB78: 0 | AC78: 0
A79: #VALUE! | B79: 0 | C79: 0 | D79: 0 | E79: 0 | F79: 0 | G79: 0 | H79: 0 | I79: 0 | J79: 0 | K79: 0 | L79: 0 | M79: 0 | N79: 0 | O79: 0 | P79: 0 | Q79: 0 | R79: 0 | S79: 0 | T79: 0 | U79: 0 | V79: 0 | Y79: Måloppnåelse (antall ansatte) | Z79: 0 | AA79: 0 | AB79: 0 | AC79: 0
A80: #VALUE! | B80: 0 | C80: 0 | D80: 0 | E80: 0 | F80: 0 | G80: 0 | H80: 0 | I80: 0 | J80: 0 | K80: 0 | L80: 0 | M80: 0 | N80: 0 | O80: 0 | P80: 0 | Q80: 0 | R80: 0 | S80: 0 | T80: 0 | U80: 0 | V80: 0 | Y80: Måloppnåelse (antall ansatte) | Z80: 0 | AA80: 0 | AB80: 0 | AC80: 0
A81: #VALUE! | B81: 0 | C81: 0 | D81: 0 | E81: 0 | F81: 0 | G81: 0 | H81: 0 | I81: 0 | J81: 0 | K81: 0 | L81: 0 | M81: 0 | N81: 0 | O81: 0 | P81: 0 | Q81: 0 | R81: 0 | S81: 0 | T81: 0 | U81: 0 | V81: 0 | Y81: Måloppnåelse (antall ansatte) | Z81: 0 | AA81: 0 | AB81: 0 | AC81: 0
A82: #VALUE! | B82: 0 | C82: 0 | D82: 0 | E82: 0 | F82: 0 | G82: 0 | H82: 0 | I82: 0 | J82: 0 | K82: 0 | L82: 0 | M82: 0 | N82: 0 | O82: 0 | P82: 0 | Q82: 0 | R82: 0 | S82: 0 | T82: 0 | U82: 0 | V82: 0 | Y82: Måloppnåelse (antall ansatte) | Z82: 0 | AA82: 0 | AB82: 0 | AC82: 0
A83: #VALUE! | B83: 0 | C83: 0 | D83: 0 | E83: 0 | F83: 0 | G83: 0 | H83: 0 | I83: 0 | J83: 0 | K83: 0 | L83: 0 | M83: 0 | N83: 0 | O83: 0 | P83: 0 | Q83: 0 | R83: 0 | S83: 0 | T83: 0 | U83: 0 | V83: 0 | Y83: Måloppnåelse (antall ansatte) | Z83: 0 | AA83: 0 | AB83: 0 | AC83: 0
